Workbook

Sheet 5 tm 12 bkr Data
A1: Tournament Name | B1: Team # | C1: Mens Varsity Teams | D1: Team # | E1: Mens JV Teams | F1: Team # | G1: Womens Varsity Teams | H1: Team # | I1: Womens JV Teams | L1: Mens Varsity Roster | P1: Mens JV Roster | T1: Womens Varsity Roster | X1: Womens JV Roster
A2: Jayhawk Collegiate Challenge | B2: 1 | C2: Avila University - Men Varsity | D2: 1 | E2: Avila University - Men JV | F2: 1 | G2: Avila University - Women Varsity | H2: 1 | I2: Kansas State University - Women JV | J2: 1a | K2: 1 | L2: Aidan Tesdall | N2: 1a | O2: 1 | P2: Brady Darr | R2: 1a | S2: 1 | T2: Brittany Mohling | V2: 1a | W2: 1
B3: 2 | C3: Baker University - Men Varsity | D3: 2 | E3: Baker University - Men JV | F3: 2 | G3: Baker University - Women Varsity | H3: 2 | I3: Morningside University - Women JV | J3: 1b | K3: 1 | L3: Brody Stanback | N3: 1b | O3: 1 | P3: Calvin Mcmiller | R3: 1b | S3: 1 | T3: Claire Busch | V3: 1b | W3: 1
B4: 3 | C4: Barton Community College - Men Varsity | D4: 3 | E4: Grand View University - Men JV | F4: 3 | G4: Barton Community College - Women Varsity | H4: 3 | I4: Ottawa University (KS) - Women JV | J4: 1c | K4: 1 | L4: Bryce Stewart | N4: 1c | O4: 1 | P4: Colton Cline | R4: 1c | S4: 1 | T4: Emma Foland | V4: 1c | W4: 1
B5: 4 | C5: Central Methodist University - Men Varsity | D5: 4 | E5: Kansas State University - Men JV | F5: 4 | G5: Central Methodist University - Women Varsity | H5: 4 | I5: William Penn University - Women JV | J5: 1d | K5: 1 | L5: Caleb Wangler | N5: 1d | O5: 1 | P5: Gage Warren | R5: 1d | S5: 1 | T5: Kamdyn Burman | V5: 1d | W5: 1
B6: 5 | C6: Clarke University - Men Varsity | D6: 5 | E6: Morningside University - Men JV | F6: 5 | G6: Clarke University - Women Varsity | H6: 5 | I6: 6 | J6: 1e | K6: 1 | L6: Evan Serrage | N6: 1e | O6: 1 | P6: Garrett Messenger | R6: 1e | S6: 1 | T6: Kirsten Zirjacks | V6: 1e | W6: 1
B7: 6 | C7: Culver-Stockton College - Men Varsity | D7: 6 | E7: Ottawa University (KS) - Men JV | F7: 6 | G7: Columbia College - Women Varsity | H7: 6 | I7: 7 | J7: 1f | K7: 1 | L7: Max Sturgeon | N7: 1f | O7: 1 | P7: Joshua Oldham | R7: 1f | S7: 1 | T7: Victoria Bestor | V7: 1f | W7: 1
B8: 7 | C8: Grand View University - Men Varsity | D8: 7 | E8: Ottawa University (KS) - Men JV | F8: 7 | G8: Culver-Stockton College - Women Varsity | H8: 7 | I8: 8 | J8: 1g | K8: 1 | L8: Nicolas Garza | N8: 1g | O8: 1 | P8: Wesley Smith | R8: 1g | S8: 1 | T8: Victoria Leal | V8: 1g | W8: 1
B9: 8 | C9: Hastings College - Men Varsity | D9: 8 | E9: William Penn University - Men JV | F9: 8 | G9: Grand View University - Women Varsity | H9: 8 | I9: 9 | J9: 1h | K9: 1 | N9: 1h | O9: 1 | R9: 1h | S9: 1 | V9: 1h | W9: 1
B10: 9 | C10: Kansas ,University Of - Men Varsity | D10: 9 | E10: 10 | F10: 9 | G10: Hastings College - Women Varsity | H10: 9 | I10: 10 | J10: 2a | K10: 2 | L10: Aidan Vanmetre | N10: 2a | O10: 2 | P10: Alex Wright | R10: 2a | S10: 2 | T10: Audrey Valdez | V10: 2a | W10: 2 | X10: Elana Krutsinger
B11: 10 | C11: Kansas State University - Men Varsity | D11: 10 | E11: 11 | F11: 10 | G11: Kansas ,University Of - Women Varsity | H11: 10 | I11: 11 | J11: 2b | K11: 2 | L11: Brett Gamber | N11: 2b | O11: 2 | P11: Deken Penny | R11: 2b | S11: 2 | T11: Aviana Ordonez | V11: 2b | W11: 2 | X11: Kiara(Riley) Howard
B12: 11 | C12: Kansas Wesleyan University - Men Varsity | D12: 11 | E12: 12 | F12: 11 | G12: Kansas State University - Women Varsity | H12: 11 | I12: 12 | J12: 2c | K12: 2 | L12: Josh King | N12: 2c | O12: 2 | P12: Justin Brookens | R12: 2c | S12: 2 | T12: Darby Hauff | V12: 2c | W12: 2 | X12: Liberty Nordstrom
B13: 12 | C13: Midland University - Men Varsity | D13: 12 | E13: 13 | F13: 12 | G13: Kansas Wesleyan University - Women Varsity | H13: 12 | I13: 13 | J13: 2d | K13: 2 | L13: Ken Rowland | N13: 2d | O13: 2 | P13: Landon Scott | R13: 2d | S13: 2 | T13: Dylan Holmes | V13: 2d | W13: 2 | X13: Samantha Sonier
B14: 13 | C14: Missouri Valley College - Men Varsity | D14: 13 | E14: 14 | F14: 13 | G14: Midland University - Women Varsity | H14: 13 | I14: 14 | J14: 2e | K14: 2 | L14: Tanner Eckerle | N14: 2e | O14: 2 | P14: Tanner Lindquist | R14: 2e | S14: 2 | T14: Kaleigh Buckalew | V14: 2e | W14: 2 | X14: Zara Bitsos
B15: 14 | C15: Morningside University - Men Varsity | D15: 14 | E15: 15 | F15: 14 | G15: Morningside University - Women Varsity | H15: 14 | I15: 15 | J15: 2f | K15: 2 | N15: 2f | O15: 2 | P15: Tanner Mcguire | R15: 2f | S15: 2 | T15: Karli Gilliland | V15: 2f | W15: 2
B16: 15 | C16: Ottawa University (KS) - Men Varsity | D16: 15 | E16: 16 | F16: 15 | G16: Ottawa University (KS) - Women Varsity | H16: 15 | I16: 16 | J16: 2g | K16: 2 | N16: 2g | O16: 2 | R16: 2g | S16: 2 | T16: Kinsey Miller | V16: 2g | W16: 2
B17: 16 | C17: Peru State College - Men Varsity | D17: 16 | E17: 17 | F17: 16 | G17: Peru State College - Women Varsity | H17: 16 | I17: 17 | J17: 2h | K17: 2 | N17: 2h | O17: 2 | R17: 2h | S17: 2 | V17: 2h | W17: 2
B18: 17 | C18: University Of Saint Mary - Men Varsity | D18: 17 | E18: 18 | F18: 17 | G18: University Of Saint Mary - Women Varsity | H18: 17 | I18: 18 | J18: 3a | K18: 3 | L18: Braden Boswell | N18: 3a | O18: 3 | P18: Alex Knoshaug | R18: 3a | S18: 3 | T18: Allyson Heidenreich | V18: 3a | W18: 3 | X18: Amber Wagner
B19: 18 | C19: William Penn University - Men Varsity | D19: 18 | E19: 19 | F19: 18 | G19: William Penn University - Women Varsity | H19: 18 | I19: 19 | J19: 3b | K19: 3 | L19: Cale McConnell | N19: 3b | O19: 3 | P19: Camrey Cavan | R19: 3b | S19: 3 | T19: Cassidy Eschliman | V19: 3b | W19: 3 | X19: Ashlynn Senecal
B20: 19 | C20: 20 | D20: 19 | E20: 20 | F20: 19 | G20: 20 | H20: 19 | I20: 20 | J20: 3c | K20: 3 | L20: Caleb Murphy | N20: 3c | O20: 3 | P20: Dominick Judge | R20: 3c | S20: 3 | T20: Cassidy Goans | V20: 3c | W20: 3 | X20: Isabel Wong
B21: 20 | C21: 21 | D21: 20 | E21: 21 | F21: 20 | G21: 21 | H21: 20 | I21: 21 | J21: 3d | K21: 3 | L21: Carter Lambeth | N21: 3d | O21: 3 | P21: Ethan Simpson | R21: 3d | S21: 3 | T21: Chailyn Scott | V21: 3d | W21: 3 | X21: Jazel Tiquia
B22: 21 | C22: 22 | D22: 21 | E22: 22 | F22: 21 | G22: 22 | H22: 21 | I22: 22 | J22: 3e | K22: 3 | L22: Christopher O'Connor | N22: 3e | O22: 3 | P22: Hunter Shannon | R22: 3e | S22: 3 | T22: Jaden Rabe | V22: 3e | W22: 3 | X22: Lydia Phillips
B23: 22 | C23: 23 | D23: 22 | E23: 23 | F23: 22 | G23: 23 | H23: 22 | I23: 23 | J23: 3f | K23: 3 | L23: Cooper Holloway | N23: 3f | O23: 3 | P23: Kory Ludden | R23: 3f | S23: 3 | T23: Jasmine Bridges | V23: 3f | W23: 3
B24: 23 | C24: 24 | D24: 23 | E24: 24 | F24: 23 | G24: 24 | H24: 23 | I24: 24 | J24: 3g | K24: 3 | L24: Logan Lindsley | N24: 3g | O24: 3 | P24: Maxwell Martin | R24: 3g | S24: 3 | T24: Morgan Kolanek | V24: 3g | W24: 3
B25: 24 | C25: 25 | D25: 24 | E25: 25 | F25: 24 | G25: 25 | H25: 24 | I25: 25 | J25: 3h | K25: 3 | L25: Torrey Lindsay | N25: 3h | O25: 3 | R25: 3h | S25: 3 | T25: Olivia Oliver | V25: 3h | W25: 3
B26: 25 | C26: 26 | D26: 25 | E26: 26 | F26: 25 | G26: 26 | H26: 25 | I26: 26 | J26: 4a | K26: 4 | L26: Cole Johnson | N26: 4a | O26: 4 | R26: 4a | S26: 4 | T26: Janell Whitfield | V26: 4a | W26: 4 | X26: Emily Eikenberry
B27: 26 | C27: 27 | D27: 26 | E27: 27 | F27: 26 | G27: 27 | H27: 26 | I27: 27 | J27: 4b | K27: 4 | L27: Colton Carrier | N27: 4b | O27: 4 | R27: 4b | S27: 4 | T27: Lauren Williams | V27: 4b | W27: 4 | X27: Kelcey Aczon-Kawamura
B28: 27 | C28: 28 | D28: 27 | E28: 28 | F28: 27 | G28: 28 | H28: 27 | I28: 28 | J28: 4c | K28: 4 | L28: Dustin Linneman | N28: 4c | O28: 4 | R28: 4c | S28: 4 | T28: Maya Elliott | V28: 4c | W28: 4 | X28: Lucille Mitchell
B29: 28 | C29: 29 | D29: 28 | E29: 29 | F29: 28 | G29: 29 | H29: 28 | I29: 29 | J29: 4d | K29: 4 | L29: Eric Moore | N29: 4d | O29: 4 | R29: 4d | S29: 4 | V29: 4d | W29: 4 | X29: Olivia Pilcher
B30: 29 | C30: 30 | D30: 29 | E30: 30 | F30: 29 | G30: 30 | H30: 29 | I30: 30 | J30: 4e | K30: 4 | L30: Kenneth Lolley | N30: 4e | O30: 4 | R30: 4e | S30: 4 | V30: 4e | W30: 4 | X30: Payton Vogel
B31: 30 | C31: 31 | D31: 30 | E31: 31 | F31: 30 | G31: 31 | H31: 30 | I31: 31 | J31: 4f | K31: 4 | N31: 4f | O31: 4 | R31: 4f | S31: 4 | V31: 4f | W31: 4 | X31: Saphyre McCombs
B32: 31 | C32: 32 | D32: 31 | E32: 32 | F32: 31 | G32: 32 | H32: 31 | I32: 32 | J32: 4g | K32: 4 | N32: 4g | O32: 4 | R32: 4g | S32: 4 | V32: 4g | W32: 4 | X32: Victoria Potter
B33: 32 | C33: 33 | D33: 32 | E33: 33 | F33: 32 | G33: 33 | H33: 32 | I33: 33 | J33: 4h | K33: 4 | N33: 4h | O33: 4 | R33: 4h | S33: 4 | V33: 4h | W33: 4
B34: 33 | C34: 34 | D34: 33 | E34: 34 | F34: 33 | G34: 34 | H34: 33 | I34: 34 | J34: 5a | K34: 5 | L34: Adante Jones | N34: 5a | O34: 5 | P34: Braden Huber | R34: 5a | S34: 5 | T34: Emily Larson | V34: 5a | W34: 5 | X34: a
B35: 34 | C35: 35 | D35: 34 | E35: 35 | F35: 34 | G35: 35 | H35: 34 | I35: 35 | J35: 5b | K35: 5 | L35: Harley Redding | N35: 5b | O35: 5 | P35: Christian Schmadeke | R35: 5b | S35: 5 | T35: Emma Clancy | V35: 5b | W35: 5 | X35: b
B36: 35 | C36: 36 | D36: 35 | E36: 36 | F36: 35 | G36: 36 | H36: 35 | I36: 36 | J36: 5c | K36: 5 | L36: Jordan Gorgas | N36: 5c | O36: 5 | P36: Marco Salcedo | R36: 5c | S36: 5 | T36: Jennifer Hayakawa | V36: 5c | W36: 5 | X36: c
B37: 36 | C37: 37 | D37: 36 | E37: 37 | F37: 36 | G37: 37 | H37: 36 | I37: 37 | J37: 5d | K37: 5 | L37: Justin Fichter | N37: 5d | O37: 5 | P37: Michael Swancutt | R37: 5d | S37: 5 | T37: Kassidy Gerken | V37: 5d | W37: 5 | X37: d
B38: 37 | C38: 38 | D38: 37 | E38: 38 | F38: 37 | G38: 38 | H38: 37 | I38: 38 | J38: 5e | K38: 5 | L38: Mannix Amos | N38: 5e | O38: 5 | P38: Zachary Stoltzfus | R38: 5e | S38: 5 | T38: Sidney Pawski | V38: 5e | W38: 5 | X38: e
B39: 38 | C39: 39 | D39: 38 | E39: 39 | F39: 38 | G39: 39 | H39: 38 | I39: 39 | J39: 5f | K39: 5 | L39: Shane Jordan | N39: 5f | O39: 5 | R39: 5f | S39: 5 | T39: Stephanie Thompson | V39: 5f | W39: 5 | X39: f
B40: 39 | C40: 40 | D40: 39 | E40: 40 | F40: 39 | G40: 40 | H40: 39 | I40: 40 | J40: 5g | K40: 5 | L40: Tanner Webb | N40: 5g | O40: 5 | R40: 5g | S40: 5 | V40: 5g | W40: 5 | X40: g
B41: 40 | C41: 41 | D41: 40 | E41: 41 | F41: 40 | G41: 41 | H41: 40 | I41: 41 | J41: 5h | K41: 5 | L41: Zachary Reuter | N41: 5h | O41: 5 | R41: 5h | S41: 5 | V41: 5h | W41: 5 | X41: h
J42: 6a | K42: 6 | L42: Cole Gillenwater | N42: 6a | O42: 6 | P42: Brendan Iaulualo | R42: 6a | S42: 6 | T42: Allyson Johnson | V42: 6a | W42: 6 | X42: a
J43: 6b | K43: 6 | L43: Gavin Moeller | N43: 6b | O43: 6 | P43: Cole Clough | R43: 6b | S43: 6 | T43: Breanne West | V43: 6b | W43: 6 | X43: b
J44: 6c | K44: 6 | L44: Jake Evitts | N44: 6c | O44: 6 | P44: Josh King | R44: 6c | S44: 6 | T44: Emma Shaner | V44: 6c | W44: 6 | X44: c
J45: 6d | K45: 6 | L45: Keaten Bieri | N45: 6d | O45: 6 | P45: Tre Preston | R45: 6d | S45: 6 | T45: Kenna Schmidt | V45: 6d | W45: 6 | X45: d
J46: 6e | K46: 6 | L46: Levi Staley | N46: 6e | O46: 6 | P46: Zonte Spann | R46: 6e | S46: 6 | T46: Kiana Hodges | V46: 6e | W46: 6 | X46: e
J47: 6f | K47: 6 | L47: Mason Will | N47: 6f | O47: 6 | R47: 6f | S47: 6 | T47: Mallory Cross | V47: 6f | W47: 6 | X47: f
J48: 6g | K48: 6 | L48: River Vanveghel | N48: 6g | O48: 6 | R48: 6g | S48: 6 | T48: Rhyleigh Wilson | V48: 6g | W48: 6 | X48: g
J49: 6h | K49: 6 | N49: 6h | O49: 6 | R49: 6h | S49: 6 | T49: Samantha Malley | V49: 6h | W49: 6 | X49: h
J50: 7a | K50: 7 | L50: Andru Wilder | N50: 7a | O50: 7 | P50: Achilles Reyes | R50: 7a | S50: 7 | T50: Jasmine Saunders | V50: 7a | W50: 7 | X50: a
J51: 7b | K51: 7 | L51: Brandon Nakaoka | N51: 7b | O51: 7 | P51: Ashton Reyes | R51: 7b | S51: 7 | T51: Jersey Lessenger | V51: 7b | W51: 7 | X51: b
J52: 7c | K52: 7 | L52: Johnathan Hemmingsen | N52: 7c | O52: 7 | P52: Ian Carpenter | R52: 7c | S52: 7 | T52: Madison Shontz | V52: 7c | W52: 7 | X52: c
J53: 7d | K53: 7 | L53: Jonathan Featherston | N53: 7d | O53: 7 | P53: Justin Preston | R53: 7d | S53: 7 | T53: Rachel Moore | V53: 7d | W53: 7 | X53: d
J54: 7e | K54: 7 | L54: Nicholas Prochnow | N54: 7e | O54: 7 | P54: Shay White | R54: 7e | S54: 7 | T54: Rilee Allen | V54: 7e | W54: 7 | X54: e
J55: 7f | K55: 7 | L55: Skyler Vong | N55: 7f | O55: 7 | R55: 7f | S55: 7 | V55: 7f | W55: 7 | X55: f
J56: 7g | K56: 7 | L56: Xander Pickett | N56: 7g | O56: 7 | R56: 7g | S56: 7 | V56: 7g | W56: 7 | X56: g
J57: 7h | K57: 7 | N57: 7h | O57: 7 | R57: 7h | S57: 7 | V57: 7h | W57: 7 | X57: h
J58: 8a | K58: 8 | L58: Anthony Hernandez | N58: 8a | O58: 8 | P58: Caleb Sterbenz | R58: 8a | S58: 8 | T58: Ariel Engel | V58: 8a | W58: 8 | X58: a
J59: 8b | K59: 8 | L59: Anthony Morella | N59: 8b | O59: 8 | P59: Connor Rissi | R59: 8b | S59: 8 | T59: Emilee Hall | V59: 8b | W59: 8 | X59: b
J60: 8c | K60: 8 | L60: Brandon Engels | N60: 8c | O60: 8 | P60: Ethan Zieglowsky | R60: 8c | S60: 8 | T60: Halie Marean | V60: 8c | W60: 8 | X60: c
J61: 8d | K61: 8 | L61: Carstin Olson | N61: 8d | O61: 8 | P61: Marcus Yamada | R61: 8d | S61: 8 | T61: Isabel Tetmeyer | V61: 8d | W61: 8 | X61: d
J62: 8e | K62: 8 | L62: Kaden Kuusela | N62: 8e | O62: 8 | P62: Mathew Smith | R62: 8e | S62: 8 | T62: Kaytlyn Andrews | V62: 8e | W62: 8 | X62: e
J63: 8f | K63: 8 | L63: Trevor Seeley | N63: 8f | O63: 8 | P63: Nathan Hansen | R63: 8f | S63: 8 | T63: Kylie Arai | V63: 8f | W63: 8 | X63: f
J64: 8g | K64: 8 | L64: Tyler Call | N64: 8g | O64: 8 | P64: Robert Dostal | R64: 8g | S64: 8 | T64: Madison Pickett | V64: 8g | W64: 8 | X64: g
J65: 8h | K65: 8 | N65: 8h | O65: 8 | P65: Spencer Fleming | R65: 8h | S65: 8 | T65: Michelle Stewart | V65: 8h | W65: 8 | X65: h
J66: 9a | K66: 9 | L66: Ayden Ammann | N66: 9a | O66: 9 | P66: a | R66: 9a | S66: 9 | T66: Abby Dallegge | V66: 9a | W66: 9 | X66: a
J67: 9b | K67: 9 | L67: Benjamin Weinzirl | N67: 9b | O67: 9 | P67: b | R67: 9b | S67: 9 | T67: Amanda Peterson | V67: 9b | W67: 9 | X67: b
J68: 9c | K68: 9 | L68: Brendan Mcdermott | N68: 9c | O68: 9 | P68: c | R68: 9c | S68: 9 | T68: Katie Morse | V68: 9c | W68: 9 | X68: c
J69: 9d | K69: 9 | L69: Chase Milledge | N69: 9d | O69: 9 | P69: d | R69: 9d | S69: 9 | T69: Kinzie Temple | V69: 9d | W69: 9 | X69: d
J70: 9e | K70: 9 | L70: Geovanny Peoples | N70: 9e | O70: 9 | P70: e | R70: 9e | S70: 9 | T70: Madison Henderson | V70: 9e | W70: 9 | X70: e
J71: 9f | K71: 9 | L71: Jacob Fonyi | N71: 9f | O71: 9 | P71: f | R71: 9f | S71: 9 | T71: Marissa Ruiz | V71: 9f | W71: 9 | X71: f
J72: 9g | K72: 9 | L72: Josh Hammons | N72: 9g | O72: 9 | P72: g | R72: 9g | S72: 9 | V72: 9g | W72: 9 | X72: g
J73: 9h | K73: 9 | L73: Preston Pacheco | N73: 9h | O73: 9 | P73: h | R73: 9h | S73: 9 | V73: 9h | W73: 9 | X73: h
J74: 10a | K74: 10 | L74: Braden Maltz | N74: 10a | O74: 10 | P74: a | R74: 10a | S74: 10 | T74: Alyssa Molton | V74: 10a | W74: 10 | X74: a
J75: 10b | K75: 10 | L75: Carson Toews | N75: 10b | O75: 10 | P75: b | R75: 10b | S75: 10 | T75: Annabelle Bitner | V75: 10b | W75: 10 | X75: b
J76: 10c | K76: 10 | L76: Carter Schaffer | N76: 10c | O76: 10 | P76: c | R76: 10c | S76: 10 | T76: Ashley Simpson | V76: 10c | W76: 10 | X76: c
J77: 10d | K77: 10 | L77: David Culp | N77: 10d | O77: 10 | P77: d | R77: 10d | S77: 10 | T77: Braylie Apperson | V77: 10d | W77: 10 | X77: d
J78: 10e | K78: 10 | L78: Devin Morelock | N78: 10e | O78: 10 | P78: e | R78: 10e | S78: 10 | T78: Grace Dorst | V78: 10e | W78: 10 | X78: e
J79: 10f | K79: 10 | L79: Luke Belvin | N79: 10f | O79: 10 | P79: f | R79: 10f | S79: 10 | T79: Kelsey Booker | V79: 10f | W79: 10 | X79: f
J80: 10g | K80: 10 | L80: Swade Helton | N80: 10g | O80: 10 | P80: g | R80: 10g | S80: 10 | T80: Rebecca Bruening | V80: 10g | W80: 10 | X80: g
J81: 10h | K81: 10 | N81: 10h | O81: 10 | P81: h | R81: 10h | S81: 10 | T81: Sydney Chandler | V81: 10h | W81: 10 | X81: h
J82: 11a | K82: 11 | L82: Alec Elskamp | N82: 11a | O82: 11 | P82: a | R82: 11a | S82: 11 | T82: Addison Foley | V82: 11a | W82: 11 | X82: a
J83: 11b | K83: 11 | L83: Andrew Fonseca | N83: 11b | O83: 11 | P83: b | R83: 11b | S83: 11 | T83: Alivia Johnson | V83: 11b | W83: 11 | X83: b
J84: 11c | K84: 11 | L84: Andrew Froetschner | N84: 11c | O84: 11 | P84: c | R84: 11c | S84: 11 | T84: Breanna Warren | V84: 11c | W84: 11 | X84: c
J85: 11d | K85: 11 | L85: Bailey Gassman | N85: 11d | O85: 11 | P85: d | R85: 11d | S85: 11 | T85: Delainey Isaacson | V85: 11d | W85: 11 | X85: d
J86: 11e | K86: 11 | L86: Conner Kirby | N86: 11e | O86: 11 | P86: e | R86: 11e | S86: 11 | T86: Kinley Nielsen | V86: 11e | W86: 11 | X86: e
J87: 11f | K87: 11 | L87: Jackson Penny | N87: 11f | O87: 11 | P87: f | R87: 11f | S87: 11 | T87: Natalie Gilbert | V87: 11f | W87: 11 | X87: f
J88: 11g | K88: 11 | L88: Landon Jones | N88: 11g | O88: 11 | P88: g | R88: 11g | S88: 11 | V88: 11g | W88: 11 | X88: g
J89: 11h | K89: 11 | N89: 11h | O89: 11 | P89: h | R89: 11h | S89: 11 | V89: 11h | W89: 11 | X89: h
J90: 12a | K90: 12 | L90: Addison Johnson | N90: 12a | O90: 12 | P90: a | R90: 12a | S90: 12 | T90: Aubrey Strodtman | V90: 12a | W90: 12 | X90: a
J91: 12b | K91: 12 | L91: Brandon Ogden | N91: 12b | O91: 12 | P91: b | R91: 12b | S91: 12 | T91: Autumn Thompson | V91: 12b | W91: 12 | X91: b
J92: 12c | K92: 12 | L92: Casey Upton | N92: 12c | O92: 12 | P92: c | R92: 12c | S92: 12 | T92: Emma O'Donnell | V92: 12c | W92: 12 | X92: c
J93: 12d | K93: 12 | L93: Isiah Bautista | N93: 12d | O93: 12 | P93: d | R93: 12d | S93: 12 | T93: Haylee Busch | V93: 12d | W93: 12 | X93: d
J94: 12e | K94: 12 | L94: Jacob Frazier | N94: 12e | O94: 12 | P94: e | R94: 12e | S94: 12 | T94: Kaylee Laha | V94: 12e | W94: 12 | X94: e
J95: 12f | K95: 12 | L95: Logan Gear | N95: 12f | O95: 12 | P95: f | R95: 12f | S95: 12 | T95: Kylee Busch | V95: 12f | W95: 12 | X95: f
J96: 12g | K96: 12 | L96: Miles Peck | N96: 12g | O96: 12 | P96: g | R96: 12g | S96: 12 | V96: 12g | W96: 12 | X96: g
J97: 12h | K97: 12 | L97: Tristyn Forde | N97: 12h | O97: 12 | P97: h | R97: 12h | S97: 12 | V97: 12h | W97: 12 | X97: h
J98: 13a | K98: 13 | L98: Chris Allison | N98: 13a | O98: 13 | P98: a | R98: 13a | S98: 13 | T98: Ashland Hoyt | V98: 13a | W98: 13 | X98: a
J99: 13b | K99: 13 | L99: Garrison Parkhurst | N99: 13b | O99: 13 | P99: b | R99: 13b | S99: 13 | T99: Emily Ziegler | V99: 13b | W99: 13 | X99: b
J100: 13c | K100: 13 | L100: Guy Mapstone | N100: 13c | O100: 13 | P100: c | R100: 13c | S100: 13 | T100: Hannah Bowling | V100: 13c | W100: 13 | X100: c
...

Sheet 5 tm 12 bkr MV
A1: Team | B1: 1 | C1: ='5 tm 12 bkr Data'!$A$2 -> Jayhawk Collegiate Challenge
F5: =INDEX('5 tm 12 bkr Data'!C:C,MATCH('5 tm 12 bkr MV'!B1,'5 tm 12 bkr Data'!B:B,0)) -> Avila University - Men Varsity
D8: Bowler Name | I8: Game 1 | K8: Game 2 | M8: Game 3 | O8: Game 4 | Q8: Game 5 | S8: Total
A9: =CONCATENATE(B1,B9) -> 1a | B9: a | D9: =INDEX('5 tm 12 bkr Data'!L:L,MATCH('5 tm 12 bkr MV'!A9,'5 tm 12 bkr Data'!J:J,0)) -> Aidan Tesdall
A10: =CONCATENATE(B1,B10) -> 1b | B10: b | D10: =INDEX('5 tm 12 bkr Data'!L:L,MATCH('5 tm 12 bkr MV'!A10,'5 tm 12 bkr Data'!J:J,0)) -> Brody Stanback
A11: =CONCATENATE(B1,B11) -> 1c | B11: c | D11: =INDEX('5 tm 12 bkr Data'!L:L,MATCH('5 tm 12 bkr MV'!A11,'5 tm 12 bkr Data'!J:J,0)) -> Bryce Stewart
A12: =CONCATENATE(B1,B12) -> 1d | B12: d | D12: =INDEX('5 tm 12 bkr Data'!L:L,MATCH('5 tm 12 bkr MV'!A12,'5 tm 12 bkr Data'!J:J,0)) -> Caleb Wangler
A13: =CONCATENATE(B1,B13) -> 1e | B13: e | D13: =INDEX('5 tm 12 bkr Data'!L:L,MATCH('5 tm 12 bkr MV'!A13,'5 tm 12 bkr Data'!J:J,0)) -> Evan Serrage
A14: =CONCATENATE(B1,B14) -> 1f | B14: f | D14: =INDEX('5 tm 12 bkr Data'!L:L,MATCH('5 tm 12 bkr MV'!A14,'5 tm 12 bkr Data'!J:J,0)) -> Max Sturgeon
A15: =CONCATENATE(B1,B15) -> 1g | B15: g | D15: =INDEX('5 tm 12 bkr Data'!L:L,MATCH('5 tm 12 bkr MV'!A15,'5 tm 12 bkr Data'!J:J,0)) -> Nicolas Garza
A16: =CONCATENATE(B1,B16) -> 1h | B16: h | D16: =INDEX('5 tm 12 bkr Data'!L:L,MATCH('5 tm 12 bkr MV'!A16,'5 tm 12 bkr Data'!J:J,0)) -> 0
H17: Total
E19: Bowler Name | H19: Game 1 | I19: Game 2 | J19: Game 3 | K19: Game 4 | L19: Game 5 | M19: Game 6 | N19: Game 7 | O19: Game 8 | P19: Game 9 | Q19: Game 10 | R19: Game 11 | S19: Game 12
E20: =IF(D9>0,D9,"") -> Aidan Tesdall
E21: =IF(D10>0,D10,"") -> Brody Stanback
E22: =IF(D11>0,D11,"") -> Bryce Stewart
E23: =IF(D12>0,D12,"") -> Caleb Wangler
E24: =IF(D13>0,D13,"") -> Evan Serrage
E25: =IF(D14>0,D14,"") -> Max Sturgeon
E26: =IF(D15>0,D15,"") -> Nicolas Garza
E27: =IF(D16>0,D16,"")
E28: Game Score
E29: Block Total
H30: Please text a picture of scores to Jared at 785-312-4677 after each team game and 4 baker games
A32: Team | B32: 2 | C32: ='5 tm 12 bkr Data'!$A$2 -> Jayhawk Collegiate Challenge
F36: =INDEX('5 tm 12 bkr Data'!C:C,MATCH('5 tm 12 bkr MV'!B32,'5 tm 12 bkr Data'!B:B,0)) -> Baker University - Men Varsity
D39: Bowler Name | I39: Game 1 | K39: Game 2 | M39: Game 3 | O39: Game 4 | Q39: Game 5 | S39: Total
A40: =CONCATENATE(B32,B40) -> 2a | B40: a | D40: =INDEX('5 tm 12 bkr Data'!L:L,MATCH('5 tm 12 bkr MV'!A40,'5 tm 12 bkr Data'!J:J,0)) -> Aidan Vanmetre
A41: =CONCATENATE(B32,B41) -> 2b | B41: b | D41: =INDEX('5 tm 12 bkr Data'!L:L,MATCH('5 tm 12 bkr MV'!A41,'5 tm 12 bkr Data'!J:J,0)) -> Brett Gamber
A42: =CONCATENATE(B32,B42) -> 2c | B42: c | D42: =INDEX('5 tm 12 bkr Data'!L:L,MATCH('5 tm 12 bkr MV'!A42,'5 tm 12 bkr Data'!J:J,0)) -> Josh King
A43: =CONCATENATE(B32,B43) -> 2d | B43: d | D43: =INDEX('5 tm 12 bkr Data'!L:L,MATCH('5 tm 12 bkr MV'!A43,'5 tm 12 bkr Data'!J:J,0)) -> Ken Rowland
A44: =CONCATENATE(B32,B44) -> 2e | B44: e | D44: =INDEX('5 tm 12 bkr Data'!L:L,MATCH('5 tm 12 bkr MV'!A44,'5 tm 12 bkr Data'!J:J,0)) -> Tanner Eckerle
A45: =CONCATENATE(B32,B45) -> 2f | B45: f | D45: =INDEX('5 tm 12 bkr Data'!L:L,MATCH('5 tm 12 bkr MV'!A45,'5 tm 12 bkr Data'!J:J,0)) -> 0
A46: =CONCATENATE(B32,B46) -> 2g | B46: g | D46: =INDEX('5 tm 12 bkr Data'!L:L,MATCH('5 tm 12 bkr MV'!A46,'5 tm 12 bkr Data'!J:J,0)) -> 0
A47: =CONCATENATE(B32,B47) -> 2h | B47: h | D47: =INDEX('5 tm 12 bkr Data'!L:L,MATCH('5 tm 12 bkr MV'!A47,'5 tm 12 bkr Data'!J:J,0)) -> 0
H48: Total
E50: Bowler Name | H50: Game 1 | I50: Game 2 | J50: Game 3 | K50: Game 4 | L50: Game 5 | M50: Game 6 | N50: Game 7 | O50: Game 8 | P50: Game 9 | Q50: Game 10 | R50: Game 11 | S50: Game 12
E51: =IF(D40>0,D40,"") -> Aidan Vanmetre
E52: =IF(D41>0,D41,"") -> Brett Gamber
E53: =IF(D42>0,D42,"") -> Josh King
E54: =IF(D43>0,D43,"") -> Ken Rowland
E55: =IF(D44>0,D44,"") -> Tanner Eckerle
E56: =IF(D45>0,D45,"")
E57: =IF(D46>0,D46,"")
E58: =IF(D47>0,D47,"")
E59: Game Score
E60: Block Total
H61: Please text a picture of scores to Jared at 785-312-4677 after each team game and 4 baker games
A63: Team | B63: 3 | C63: ='5 tm 12 bkr Data'!$A$2 -> Jayhawk Collegiate Challenge
F67: =INDEX('5 tm 12 bkr Data'!C:C,MATCH('5 tm 12 bkr MV'!B63,'5 tm 12 bkr Data'!B:B,0)) -> Barton Community College - Men Varsity
D70: Bowler Name | I70: Game 1 | K70: Game 2 | M70: Game 3 | O70: Game 4 | Q70: Game 5 | S70: Total
A71: =CONCATENATE(B63,B71) -> 3a | B71: a | D71: =INDEX('5 tm 12 bkr Data'!L:L,MATCH('5 tm 12 bkr MV'!A71,'5 tm 12 bkr Data'!J:J,0)) -> Braden Boswell
A72: =CONCATENATE(B63,B72) -> 3b | B72: b | D72: =INDEX('5 tm 12 bkr Data'!L:L,MATCH('5 tm 12 bkr MV'!A72,'5 tm 12 bkr Data'!J:J,0)) -> Cale McConnell
A73: =CONCATENATE(B63,B73) -> 3c | B73: c | D73: =INDEX('5 tm 12 bkr Data'!L:L,MATCH('5 tm 12 bkr MV'!A73,'5 tm 12 bkr Data'!J:J,0)) -> Caleb Murphy
A74: =CONCATENATE(B63,B74) -> 3d | B74: d | D74: =INDEX('5 tm 12 bkr Data'!L:L,MATCH('5 tm 12 bkr MV'!A74,'5 tm 12 bkr Data'!J:J,0)) -> Carter Lambeth
A75: =CONCATENATE(B63,B75) -> 3e | B75: e | D75: =INDEX('5 tm 12 bkr Data'!L:L,MATCH('5 tm 12 bkr MV'!A75,'5 tm 12 bkr Data'!J:J,0)) -> Christopher O'Connor
A76: =CONCATENATE(B63,B76) -> 3f | B76: f | D76: =INDEX('5 tm 12 bkr Data'!L:L,MATCH('5 tm 12 bkr MV'!A76,'5 tm 12 bkr Data'!J:J,0)) -> Cooper Holloway
A77: =CONCATENATE(B63,B77) -> 3g | B77: g | D77: =INDEX('5 tm 12 bkr Data'!L:L,MATCH('5 tm 12 bkr MV'!A77,'5 tm 12 bkr Data'!J:J,0)) -> Logan Lindsley
A78: =CONCATENATE(B63,B78) -> 3h | B78: h | D78: =INDEX('5 tm 12 bkr Data'!L:L,MATCH('5 tm 12 bkr MV'!A78,'5 tm 12 bkr Data'!J:J,0)) -> Torrey Lindsay
H79: Total
E81: Bowler Name | H81: Game 1 | I81: Game 2 | J81: Game 3 | K81: Game 4 | L81: Game 5 | M81: Game 6 | N81: Game 7 | O81: Game 8 | P81: Game 9 | Q81: Game 10 | R81: Game 11 | S81: Game 12
E82: =IF(D71>0,D71,"") -> Braden Boswell
E83: =IF(D72>0,D72,"") -> Cale McConnell
E84: =IF(D73>0,D73,"") -> Caleb Murphy
E85: =IF(D74>0,D74,"") -> Carter Lambeth
E86: =IF(D75>0,D75,"") -> Christopher O'Connor
E87: =IF(D76>0,D76,"") -> Cooper Holloway
E88: =IF(D77>0,D77,"") -> Logan Lindsley
E89: =IF(D78>0,D78,"") -> Torrey Lindsay
E90: Game Score
E91: Block Total
H92: Please text a picture of scores to Jared at 785-312-4677 after each team game and 4 baker games
A94: Team | B94: 4 | C94: ='5 tm 12 bkr Data'!$A$2 -> Jayhawk Collegiate Challenge
F98: =INDEX('5 tm 12 bkr Data'!C:C,MATCH('5 tm 12 bkr MV'!B94,'5 tm 12 bkr Data'!B:B,0)) -> Central Methodist University - Men Varsity
D101: Bowler Name | I101: Game 1 | K101: Game 2 | M101: Game 3 | O101: Game 4 | Q101: Game 5 | S101: Total
A102: =CONCATENATE(B94,B102) -> 4a | B102: a | D102: =INDEX('5 tm 12 bkr Data'!L:L,MATCH('5 tm 12 bkr MV'!A102,'5 tm 12 bkr Data'!J:J,0)) -> Cole Johnson
A103: =CONCATENATE(B94,B103) -> 4b | B103: b | D103: =INDEX('5 tm 12 bkr Data'!L:L,MATCH('5 tm 12 bkr MV'!A103,'5 tm 12 bkr Data'!J:J,0)) -> Colton Carrier
A104: =CONCATENATE(B94,B104) -> 4c | B104: c | D104: =INDEX('5 tm 12 bkr Data'!L:L,MATCH('5 tm 12 bkr MV'!A104,'5 tm 12 bkr Data'!J:J,0)) -> Dustin Linneman
A105: =CONCATENATE(B94,B105) -> 4d | B105: d | D105: =INDEX('5 tm 12 bkr Data'!L:L,MATCH('5 tm 12 bkr MV'!A105,'5 tm 12 bkr Data'!J:J,0)) -> Eric Moore
A106: =CONCATENATE(B94,B106) -> 4e | B106: e | D106: =INDEX('5 tm 12 bkr Data'!L:L,MATCH('5 tm 12 bkr MV'!A106,'5 tm 12 bkr Data'!J:J,0)) -> Kenneth Lolley
A107: =CONCATENATE(B94,B107) -> 4f | B107: f | D107: =INDEX('5 tm 12 bkr Data'!L:L,MATCH('5 tm 12 bkr MV'!A107,'5 tm 12 bkr Data'!J:J,0)) -> 0
A108: =CONCATENATE(B94,B108) -> 4g | B108: g | D108: =INDEX('5 tm 12 bkr Data'!L:L,MATCH('5 tm 12 bkr MV'!A108,'5 tm 12 bkr Data'!J:J,0)) -> 0
A109: =CONCATENATE(B94,B109) -> 4h | B109: h | D109: =INDEX('5 tm 12 bkr Data'!L:L,MATCH('5 tm 12 bkr MV'!A109,'5 tm 12 bkr Data'!J:J,0)) -> 0
H110: Total
E112: Bowler Name | H112: Game 1 | I112: Game 2 | J112: Game 3 | K112: Game 4 | L112: Game 5 | M112: Game 6 | N112: Game 7 | O112: Game 8 | P112: Game 9 | Q112: Game 10 | R112: Game 11 | S112: Game 12
E113: =IF(D102>0,D102,"") -> Cole Johnson
E114: =IF(D103>0,D103,"") -> Colton Carrier
E115: =IF(D104>0,D104,"") -> Dustin Linneman
E116: =IF(D105>0,D105,"") -> Eric Moore
E117: =IF(D106>0,D106,"") -> Kenneth Lolley
E118: =IF(D107>0,D107,"")
E119: =IF(D108>0,D108,"")
E120: =IF(D109>0,D109,"")
E121: Game Score
E122: Block Total
H123: Please text a picture of scores to Jared at 785-312-4677 after each team game and 4 baker games
A125: Team | B125: 5 | C125: ='5 tm 12 bkr Data'!$A$2 -> Jayhawk Collegiate Challenge
F129: =INDEX('5 tm 12 bkr Data'!C:C,MATCH('5 tm 12 bkr MV'!B125,'5 tm 12 bkr Data'!B:B,0)) -> Clarke University - Men Varsity
D132: Bowler Name | I132: Game 1 | K132: Game 2 | M132: Game 3 | O132: Game 4 | Q132: Game 5 | S132: Total
A133: =CONCATENATE(B125,B133) -> 5a | B133: a | D133: =INDEX('5 tm 12 bkr Data'!L:L,MATCH('5 tm 12 bkr MV'!A133,'5 tm 12 bkr Data'!J:J,0)) -> Adante Jones
...

Sheet 5 tm 12 bkr MJV
A1: Team | B1: 1 | C1: ='5 tm 12 bkr Data'!$A$2 -> Jayhawk Collegiate Challenge
F5: =INDEX('5 tm 12 bkr Data'!E:E,MATCH('5 tm 12 bkr MJV'!B1,'5 tm 12 bkr Data'!D:D,0)) -> Avila University - Men JV
D8: Bowler Name | I8: Game 1 | K8: Game 2 | M8: Game 3 | O8: Game 4 | Q8: Game 5 | S8: Total
A9: =CONCATENATE(B1,B9) -> 1a | B9: a | D9: =INDEX('5 tm 12 bkr Data'!P:P,MATCH('5 tm 12 bkr MJV'!A9,'5 tm 12 bkr Data'!N:N,0)) -> Brady Darr
A10: =CONCATENATE(B1,B10) -> 1b | B10: b | D10: =INDEX('5 tm 12 bkr Data'!P:P,MATCH('5 tm 12 bkr MJV'!A10,'5 tm 12 bkr Data'!N:N,0)) -> Calvin Mcmiller
A11: =CONCATENATE(B1,B11) -> 1c | B11: c | D11: =INDEX('5 tm 12 bkr Data'!P:P,MATCH('5 tm 12 bkr MJV'!A11,'5 tm 12 bkr Data'!N:N,0)) -> Colton Cline
A12: =CONCATENATE(B1,B12) -> 1d | B12: d | D12: =INDEX('5 tm 12 bkr Data'!P:P,MATCH('5 tm 12 bkr MJV'!A12,'5 tm 12 bkr Data'!N:N,0)) -> Gage Warren
A13: =CONCATENATE(B1,B13) -> 1e | B13: e | D13: =INDEX('5 tm 12 bkr Data'!P:P,MATCH('5 tm 12 bkr MJV'!A13,'5 tm 12 bkr Data'!N:N,0)) -> Garrett Messenger
A14: =CONCATENATE(B1,B14) -> 1f | B14: f | D14: =INDEX('5 tm 12 bkr Data'!P:P,MATCH('5 tm 12 bkr MJV'!A14,'5 tm 12 bkr Data'!N:N,0)) -> Joshua Oldham
A15: =CONCATENATE(B1,B15) -> 1g | B15: g | D15: =INDEX('5 tm 12 bkr Data'!P:P,MATCH('5 tm 12 bkr MJV'!A15,'5 tm 12 bkr Data'!N:N,0)) -> Wesley Smith
A16: =CONCATENATE(B1,B16) -> 1h | B16: h | D16: =INDEX('5 tm 12 bkr Data'!P:P,MATCH('5 tm 12 bkr MJV'!A16,'5 tm 12 bkr Data'!N:N,0)) -> 0
H17: Total
E19: Bowler Name | H19: Game 1 | I19: Game 2 | J19: Game 3 | K19: Game 4 | L19: Game 5 | M19: Game 6 | N19: Game 7 | O19: Game 8 | P19: Game 9 | Q19: Game 10 | R19: Game 11 | S19: Game 12
E20: =IF(D9>0,D9,"") -> Brady Darr
E21: =IF(D10>0,D10,"") -> Calvin Mcmiller
E22: =IF(D11>0,D11,"") -> Colton Cline
E23: =IF(D12>0,D12,"") -> Gage Warren
E24: =IF(D13>0,D13,"") -> Garrett Messenger
E25: =IF(D14>0,D14,"") -> Joshua Oldham
E26: =IF(D15>0,D15,"") -> Wesley Smith
E27: =IF(D16>0,D16,"")
E28: Game Score
E29: Block Total
H30: Please text a picture of scores to Jared at 785-312-4677 after each team game and 4 baker games
A32: Team | B32: 2 | C32: ='5 tm 12 bkr Data'!$A$2 -> Jayhawk Collegiate Challenge
F36: =INDEX('5 tm 12 bkr Data'!E:E,MATCH('5 tm 12 bkr MJV'!B32,'5 tm 12 bkr Data'!D:D,0)) -> Baker University - Men JV
D39: Bowler Name | I39: Game 1 | K39: Game 2 | M39: Game 3 | O39: Game 4 | Q39: Game 5 | S39: Total
A40: =CONCATENATE(B32,B40) -> 2a | B40: a | D40: =INDEX('5 tm 12 bkr Data'!P:P,MATCH('5 tm 12 bkr MJV'!A40,'5 tm 12 bkr Data'!N:N,0)) -> Alex Wright
A41: =CONCATENATE(B32,B41) -> 2b | B41: b | D41: =INDEX('5 tm 12 bkr Data'!P:P,MATCH('5 tm 12 bkr MJV'!A41,'5 tm 12 bkr Data'!N:N,0)) -> Deken Penny
A42: =CONCATENATE(B32,B42) -> 2c | B42: c | D42: =INDEX('5 tm 12 bkr Data'!P:P,MATCH('5 tm 12 bkr MJV'!A42,'5 tm 12 bkr Data'!N:N,0)) -> Justin Brookens
A43: =CONCATENATE(B32,B43) -> 2d | B43: d | D43: =INDEX('5 tm 12 bkr Data'!P:P,MATCH('5 tm 12 bkr MJV'!A43,'5 tm 12 bkr Data'!N:N,0)) -> Landon Scott
A44: =CONCATENATE(B32,B44) -> 2e | B44: e | D44: =INDEX('5 tm 12 bkr Data'!P:P,MATCH('5 tm 12 bkr MJV'!A44,'5 tm 12 bkr Data'!N:N,0)) -> Tanner Lindquist
A45: =CONCATENATE(B32,B45) -> 2f | B45: f | D45: =INDEX('5 tm 12 bkr Data'!P:P,MATCH('5 tm 12 bkr MJV'!A45,'5 tm 12 bkr Data'!N:N,0)) -> Tanner Mcguire
A46: =CONCATENATE(B32,B46) -> 2g | B46: g | D46: =INDEX('5 tm 12 bkr Data'!P:P,MATCH('5 tm 12 bkr MJV'!A46,'5 tm 12 bkr Data'!N:N,0)) -> 0
A47: =CONCATENATE(B32,B47) -> 2h | B47: h | D47: =INDEX('5 tm 12 bkr Data'!P:P,MATCH('5 tm 12 bkr MJV'!A47,'5 tm 12 bkr Data'!N:N,0)) -> 0
H48: Total
E50: Bowler Name | H50: Game 1 | I50: Game 2 | J50: Game 3 | K50: Game 4 | L50: Game 5 | M50: Game 6 | N50: Game 7 | O50: Game 8 | P50: Game 9 | Q50: Game 10 | R50: Game 11 | S50: Game 12
E51: =IF(D40>0,D40,"") -> Alex Wright
E52: =IF(D41>0,D41,"") -> Deken Penny
E53: =IF(D42>0,D42,"") -> Justin Brookens
E54: =IF(D43>0,D43,"") -> Landon Scott
E55: =IF(D44>0,D44,"") -> Tanner Lindquist
E56: =IF(D45>0,D45,"") -> Tanner Mcguire
E57: =IF(D46>0,D46,"")
E58: =IF(D47>0,D47,"")
E59: Game Score
E60: Block Total
H61: Please text a picture of scores to Jared at 785-312-4677 after each team game and 4 baker games
A63: Team | B63: 3 | C63: ='5 tm 12 bkr Data'!$A$2 -> Jayhawk Collegiate Challenge
F67: =INDEX('5 tm 12 bkr Data'!E:E,MATCH('5 tm 12 bkr MJV'!B63,'5 tm 12 bkr Data'!D:D,0)) -> Grand View University - Men JV
D70: Bowler Name | I70: Game 1 | K70: Game 2 | M70: Game 3 | O70: Game 4 | Q70: Game 5 | S70: Total
A71: =CONCATENATE(B63,B71) -> 3a | B71: a | D71: =INDEX('5 tm 12 bkr Data'!P:P,MATCH('5 tm 12 bkr MJV'!A71,'5 tm 12 bkr Data'!N:N,0)) -> Alex Knoshaug
A72: =CONCATENATE(B63,B72) -> 3b | B72: b | D72: =INDEX('5 tm 12 bkr Data'!P:P,MATCH('5 tm 12 bkr MJV'!A72,'5 tm 12 bkr Data'!N:N,0)) -> Camrey Cavan
A73: =CONCATENATE(B63,B73) -> 3c | B73: c | D73: =INDEX('5 tm 12 bkr Data'!P:P,MATCH('5 tm 12 bkr MJV'!A73,'5 tm 12 bkr Data'!N:N,0)) -> Dominick Judge
A74: =CONCATENATE(B63,B74) -> 3d | B74: d | D74: =INDEX('5 tm 12 bkr Data'!P:P,MATCH('5 tm 12 bkr MJV'!A74,'5 tm 12 bkr Data'!N:N,0)) -> Ethan Simpson
A75: =CONCATENATE(B63,B75) -> 3e | B75: e | D75: =INDEX('5 tm 12 bkr Data'!P:P,MATCH('5 tm 12 bkr MJV'!A75,'5 tm 12 bkr Data'!N:N,0)) -> Hunter Shannon
A76: =CONCATENATE(B63,B76) -> 3f | B76: f | D76: =INDEX('5 tm 12 bkr Data'!P:P,MATCH('5 tm 12 bkr MJV'!A76,'5 tm 12 bkr Data'!N:N,0)) -> Kory Ludden
A77: =CONCATENATE(B63,B77) -> 3g | B77: g | D77: =INDEX('5 tm 12 bkr Data'!P:P,MATCH('5 tm 12 bkr MJV'!A77,'5 tm 12 bkr Data'!N:N,0)) -> Maxwell Martin
A78: =CONCATENATE(B63,B78) -> 3h | B78: h | D78: =INDEX('5 tm 12 bkr Data'!P:P,MATCH('5 tm 12 bkr MJV'!A78,'5 tm 12 bkr Data'!N:N,0)) -> 0
H79: Total
E81: Bowler Name | H81: Game 1 | I81: Game 2 | J81: Game 3 | K81: Game 4 | L81: Game 5 | M81: Game 6 | N81: Game 7 | O81: Game 8 | P81: Game 9 | Q81: Game 10 | R81: Game 11 | S81: Game 12
E82: =IF(D71>0,D71,"") -> Alex Knoshaug
E83: =IF(D72>0,D72,"") -> Camrey Cavan
E84: =IF(D73>0,D73,"") -> Dominick Judge
E85: =IF(D74>0,D74,"") -> Ethan Simpson
E86: =IF(D75>0,D75,"") -> Hunter Shannon
E87: =IF(D76>0,D76,"") -> Kory Ludden
E88: =IF(D77>0,D77,"") -> Maxwell Martin
E89: =IF(D78>0,D78,"")
E90: Game Score
E91: Block Total
H92: Please text a picture of scores to Jared at 785-312-4677 after each team game and 4 baker games
A94: Team | B94: 4 | C94: ='5 tm 12 bkr Data'!$A$2 -> Jayhawk Collegiate Challenge
F98: =INDEX('5 tm 12 bkr Data'!E:E,MATCH('5 tm 12 bkr MJV'!B94,'5 tm 12 bkr Data'!D:D,0)) -> Kansas State University - Men JV
D101: Bowler Name | I101: Game 1 | K101: Game 2 | M101: Game 3 | O101: Game 4 | Q101: Game 5 | S101: Total
A102: =CONCATENATE(B94,B102) -> 4a | B102: a | D102: =INDEX('5 tm 12 bkr Data'!P:P,MATCH('5 tm 12 bkr MJV'!A102,'5 tm 12 bkr Data'!N:N,0)) -> 0
A103: =CONCATENATE(B94,B103) -> 4b | B103: b | D103: =INDEX('5 tm 12 bkr Data'!P:P,MATCH('5 tm 12 bkr MJV'!A103,'5 tm 12 bkr Data'!N:N,0)) -> 0
A104: =CONCATENATE(B94,B104) -> 4c | B104: c | D104: =INDEX('5 tm 12 bkr Data'!P:P,MATCH('5 tm 12 bkr MJV'!A104,'5 tm 12 bkr Data'!N:N,0)) -> 0
A105: =CONCATENATE(B94,B105) -> 4d | B105: d | D105: =INDEX('5 tm 12 bkr Data'!P:P,MATCH('5 tm 12 bkr MJV'!A105,'5 tm 12 bkr Data'!N:N,0)) -> 0
A106: =CONCATENATE(B94,B106) -> 4e | B106: e | D106: =INDEX('5 tm 12 bkr Data'!P:P,MATCH('5 tm 12 bkr MJV'!A106,'5 tm 12 bkr Data'!N:N,0)) -> 0
A107: =CONCATENATE(B94,B107) -> 4f | B107: f | D107: =INDEX('5 tm 12 bkr Data'!P:P,MATCH('5 tm 12 bkr MJV'!A107,'5 tm 12 bkr Data'!N:N,0)) -> 0
A108: =CONCATENATE(B94,B108) -> 4g | B108: g | D108: =INDEX('5 tm 12 bkr Data'!P:P,MATCH('5 tm 12 bkr MJV'!A108,'5 tm 12 bkr Data'!N:N,0)) -> 0
A109: =CONCATENATE(B94,B109) -> 4h | B109: h | D109: =INDEX('5 tm 12 bkr Data'!P:P,MATCH('5 tm 12 bkr MJV'!A109,'5 tm 12 bkr Data'!N:N,0)) -> 0
H110: Total
E112: Bowler Name | H112: Game 1 | I112: Game 2 | J112: Game 3 | K112: Game 4 | L112: Game 5 | M112: Game 6 | N112: Game 7 | O112: Game 8 | P112: Game 9 | Q112: Game 10 | R112: Game 11 | S112: Game 12
E113: =IF(D102>0,D102,"")
E114: =IF(D103>0,D103,"")
E115: =IF(D104>0,D104,"")
E116: =IF(D105>0,D105,"")
E117: =IF(D106>0,D106,"")
E118: =IF(D107>0,D107,"")
E119: =IF(D108>0,D108,"")
E120: =IF(D109>0,D109,"")
E121: Game Score
E122: Block Total
H123: Please text a picture of scores to Jared at 785-312-4677 after each team game and 4 baker games
A125: Team | B125: 5 | C125: ='5 tm 12 bkr Data'!$A$2 -> Jayhawk Collegiate Challenge
F129: =INDEX('5 tm 12 bkr Data'!E:E,MATCH('5 tm 12 bkr MJV'!B125,'5 tm 12 bkr Data'!D:D,0)) -> Morningside University - Men JV
D132: Bowler Name | I132: Game 1 | K132: Game 2 | M132: Game 3 | O132: Game 4 | Q132: Game 5 | S132: Total
A133: =CONCATENATE(B125,B133) -> 5a | B133: a | D133: =INDEX('5 tm 12 bkr Data'!P:P,MATCH('5 tm 12 bkr MJV'!A133,'5 tm 12 bkr Data'!N:N,0)) -> Braden Huber
...

Sheet 5 tm 12 bkr WV
A1: Team | B1: 1 | C1: ='5 tm 12 bkr Data'!$A$2 -> Jayhawk Collegiate Challenge
F5: =INDEX('5 tm 12 bkr Data'!G:G,MATCH('5 tm 12 bkr WV'!B1,'5 tm 12 bkr Data'!F:F,0)) -> Avila University - Women Varsity
D8: Bowler Name | I8: Game 1 | K8: Game 2 | M8: Game 3 | O8: Game 4 | Q8: Game 5 | S8: Total
A9: =CONCATENATE(B1,B9) -> 1a | B9: a | D9: =INDEX('5 tm 12 bkr Data'!T:T,MATCH('5 tm 12 bkr WV'!A9,'5 tm 12 bkr Data'!R:R,0)) -> Brittany Mohling
A10: =CONCATENATE(B1,B10) -> 1b | B10: b | D10: =INDEX('5 tm 12 bkr Data'!T:T,MATCH('5 tm 12 bkr WV'!A10,'5 tm 12 bkr Data'!R:R,0)) -> Claire Busch
A11: =CONCATENATE(B1,B11) -> 1c | B11: c | D11: =INDEX('5 tm 12 bkr Data'!T:T,MATCH('5 tm 12 bkr WV'!A11,'5 tm 12 bkr Data'!R:R,0)) -> Emma Foland
A12: =CONCATENATE(B1,B12) -> 1d | B12: d | D12: =INDEX('5 tm 12 bkr Data'!T:T,MATCH('5 tm 12 bkr WV'!A12,'5 tm 12 bkr Data'!R:R,0)) -> Kamdyn Burman
A13: =CONCATENATE(B1,B13) -> 1e | B13: e | D13: =INDEX('5 tm 12 bkr Data'!T:T,MATCH('5 tm 12 bkr WV'!A13,'5 tm 12 bkr Data'!R:R,0)) -> Kirsten Zirjacks
A14: =CONCATENATE(B1,B14) -> 1f | B14: f | D14: =INDEX('5 tm 12 bkr Data'!T:T,MATCH('5 tm 12 bkr WV'!A14,'5 tm 12 bkr Data'!R:R,0)) -> Victoria Bestor
A15: =CONCATENATE(B1,B15) -> 1g | B15: g | D15: =INDEX('5 tm 12 bkr Data'!T:T,MATCH('5 tm 12 bkr WV'!A15,'5 tm 12 bkr Data'!R:R,0)) -> Victoria Leal
A16: =CONCATENATE(B1,B16) -> 1h | B16: h | D16: =INDEX('5 tm 12 bkr Data'!T:T,MATCH('5 tm 12 bkr WV'!A16,'5 tm 12 bkr Data'!R:R,0)) -> 0
H17: Total
E19: Bowler Name | H19: Game 1 | I19: Game 2 | J19: Game 3 | K19: Game 4 | L19: Game 5 | M19: Game 6 | N19: Game 7 | O19: Game 8 | P19: Game 9 | Q19: Game 10 | R19: Game 11 | S19: Game 12
E20: =IF(D9>0,D9,"") -> Brittany Mohling
E21: =IF(D10>0,D10,"") -> Claire Busch
E22: =IF(D11>0,D11,"") -> Emma Foland
E23: =IF(D12>0,D12,"") -> Kamdyn Burman
E24: =IF(D13>0,D13,"") -> Kirsten Zirjacks
E25: =IF(D14>0,D14,"") -> Victoria Bestor
E26: =IF(D15>0,D15,"") -> Victoria Leal
E27: =IF(D16>0,D16,"")
E28: Game Score
E29: Block Total
H30: Please text a picture of scores to Jared at 785-312-4677 after each team game and 4 baker games
A32: Team | B32: 2 | C32: ='5 tm 12 bkr Data'!$A$2 -> Jayhawk Collegiate Challenge
F36: =INDEX('5 tm 12 bkr Data'!G:G,MATCH('5 tm 12 bkr WV'!B32,'5 tm 12 bkr Data'!F:F,0)) -> Baker University - Women Varsity
D39: Bowler Name | I39: Game 1 | K39: Game 2 | M39: Game 3 | O39: Game 4 | Q39: Game 5 | S39: Total
A40: =CONCATENATE(B32,B40) -> 2a | B40: a | D40: =INDEX('5 tm 12 bkr Data'!T:T,MATCH('5 tm 12 bkr WV'!A40,'5 tm 12 bkr Data'!R:R,0)) -> Audrey Valdez
A41: =CONCATENATE(B32,B41) -> 2b | B41: b | D41: =INDEX('5 tm 12 bkr Data'!T:T,MATCH('5 tm 12 bkr WV'!A41,'5 tm 12 bkr Data'!R:R,0)) -> Aviana Ordonez
A42: =CONCATENATE(B32,B42) -> 2c | B42: c | D42: =INDEX('5 tm 12 bkr Data'!T:T,MATCH('5 tm 12 bkr WV'!A42,'5 tm 12 bkr Data'!R:R,0)) -> Darby Hauff
A43: =CONCATENATE(B32,B43) -> 2d | B43: d | D43: =INDEX('5 tm 12 bkr Data'!T:T,MATCH('5 tm 12 bkr WV'!A43,'5 tm 12 bkr Data'!R:R,0)) -> Dylan Holmes
A44: =CONCATENATE(B32,B44) -> 2e | B44: e | D44: =INDEX('5 tm 12 bkr Data'!T:T,MATCH('5 tm 12 bkr WV'!A44,'5 tm 12 bkr Data'!R:R,0)) -> Kaleigh Buckalew
A45: =CONCATENATE(B32,B45) -> 2f | B45: f | D45: =INDEX('5 tm 12 bkr Data'!T:T,MATCH('5 tm 12 bkr WV'!A45,'5 tm 12 bkr Data'!R:R,0)) -> Karli Gilliland
A46: =CONCATENATE(B32,B46) -> 2g | B46: g | D46: =INDEX('5 tm 12 bkr Data'!T:T,MATCH('5 tm 12 bkr WV'!A46,'5 tm 12 bkr Data'!R:R,0)) -> Kinsey Miller
A47: =CONCATENATE(B32,B47) -> 2h | B47: h | D47: =INDEX('5 tm 12 bkr Data'!T:T,MATCH('5 tm 12 bkr WV'!A47,'5 tm 12 bkr Data'!R:R,0)) -> 0
H48: Total
E50: Bowler Name | H50: Game 1 | I50: Game 2 | J50: Game 3 | K50: Game 4 | L50: Game 5 | M50: Game 6 | N50: Game 7 | O50: Game 8 | P50: Game 9 | Q50: Game 10 | R50: Game 11 | S50: Game 12
E51: =IF(D40>0,D40,"") -> Audrey Valdez
E52: =IF(D41>0,D41,"") -> Aviana Ordonez
E53: =IF(D42>0,D42,"") -> Darby Hauff
E54: =IF(D43>0,D43,"") -> Dylan Holmes
E55: =IF(D44>0,D44,"") -> Kaleigh Buckalew
E56: =IF(D45>0,D45,"") -> Karli Gilliland
E57: =IF(D46>0,D46,"") -> Kinsey Miller
E58: =IF(D47>0,D47,"")
E59: Game Score
E60: Block Total
H61: Please text a picture of scores to Jared at 785-312-4677 after each team game and 4 baker games
A63: Team | B63: 3 | C63: ='5 tm 12 bkr Data'!$A$2 -> Jayhawk Collegiate Challenge
F67: =INDEX('5 tm 12 bkr Data'!G:G,MATCH('5 tm 12 bkr WV'!B63,'5 tm 12 bkr Data'!F:F,0)) -> Barton Community College - Women Varsity
D70: Bowler Name | I70: Game 1 | K70: Game 2 | M70: Game 3 | O70: Game 4 | Q70: Game 5 | S70: Total
A71: =CONCATENATE(B63,B71) -> 3a | B71: a | D71: =INDEX('5 tm 12 bkr Data'!T:T,MATCH('5 tm 12 bkr WV'!A71,'5 tm 12 bkr Data'!R:R,0)) -> Allyson Heidenreich
A72: =CONCATENATE(B63,B72) -> 3b | B72: b | D72: =INDEX('5 tm 12 bkr Data'!T:T,MATCH('5 tm 12 bkr WV'!A72,'5 tm 12 bkr Data'!R:R,0)) -> Cassidy Eschliman
A73: =CONCATENATE(B63,B73) -> 3c | B73: c | D73: =INDEX('5 tm 12 bkr Data'!T:T,MATCH('5 tm 12 bkr WV'!A73,'5 tm 12 bkr Data'!R:R,0)) -> Cassidy Goans
A74: =CONCATENATE(B63,B74) -> 3d | B74: d | D74: =INDEX('5 tm 12 bkr Data'!T:T,MATCH('5 tm 12 bkr WV'!A74,'5 tm 12 bkr Data'!R:R,0)) -> Chailyn Scott
A75: =CONCATENATE(B63,B75) -> 3e | B75: e | D75: =INDEX('5 tm 12 bkr Data'!T:T,MATCH('5 tm 12 bkr WV'!A75,'5 tm 12 bkr Data'!R:R,0)) -> Jaden Rabe
A76: =CONCATENATE(B63,B76) -> 3f | B76: f | D76: =INDEX('5 tm 12 bkr Data'!T:T,MATCH('5 tm 12 bkr WV'!A76,'5 tm 12 bkr Data'!R:R,0)) -> Jasmine Bridges
A77: =CONCATENATE(B63,B77) -> 3g | B77: g | D77: =INDEX('5 tm 12 bkr Data'!T:T,MATCH('5 tm 12 bkr WV'!A77,'5 tm 12 bkr Data'!R:R,0)) -> Morgan Kolanek
A78: =CONCATENATE(B63,B78) -> 3h | B78: h | D78: =INDEX('5 tm 12 bkr Data'!T:T,MATCH('5 tm 12 bkr WV'!A78,'5 tm 12 bkr Data'!R:R,0)) -> Olivia Oliver
H79: Total
E81: Bowler Name | H81: Game 1 | I81: Game 2 | J81: Game 3 | K81: Game 4 | L81: Game 5 | M81: Game 6 | N81: Game 7 | O81: Game 8 | P81: Game 9 | Q81: Game 10 | R81: Game 11 | S81: Game 12
E82: =IF(D71>0,D71,"") -> Allyson Heidenreich
E83: =IF(D72>0,D72,"") -> Cassidy Eschliman
E84: =IF(D73>0,D73,"") -> Cassidy Goans
E85: =IF(D74>0,D74,"") -> Chailyn Scott
E86: =IF(D75>0,D75,"") -> Jaden Rabe
E87: =IF(D76>0,D76,"") -> Jasmine Bridges
E88: =IF(D77>0,D77,"") -> Morgan Kolanek
E89: =IF(D78>0,D78,"") -> Olivia Oliver
E90: Game Score
E91: Block Total
H92: Please text a picture of scores to Jared at 785-312-4677 after each team game and 4 baker games
A94: Team | B94: 4 | C94: ='5 tm 12 bkr Data'!$A$2 -> Jayhawk Collegiate Challenge
F98: =INDEX('5 tm 12 bkr Data'!G:G,MATCH('5 tm 12 bkr WV'!B94,'5 tm 12 bkr Data'!F:F,0)) -> Central Methodist University - Women Varsity
D101: Bowler Name | I101: Game 1 | K101: Game 2 | M101: Game 3 | O101: Game 4 | Q101: Game 5 | S101: Total
A102: =CONCATENATE(B94,B102) -> 4a | B102: a | D102: =INDEX('5 tm 12 bkr Data'!T:T,MATCH('5 tm 12 bkr WV'!A102,'5 tm 12 bkr Data'!R:R,0)) -> Janell Whitfield
A103: =CONCATENATE(B94,B103) -> 4b | B103: b | D103: =INDEX('5 tm 12 bkr Data'!T:T,MATCH('5 tm 12 bkr WV'!A103,'5 tm 12 bkr Data'!R:R,0)) -> Lauren Williams
A104: =CONCATENATE(B94,B104) -> 4c | B104: c | D104: =INDEX('5 tm 12 bkr Data'!T:T,MATCH('5 tm 12 bkr WV'!A104,'5 tm 12 bkr Data'!R:R,0)) -> Maya Elliott
A105: =CONCATENATE(B94,B105) -> 4d | B105: d | D105: =INDEX('5 tm 12 bkr Data'!T:T,MATCH('5 tm 12 bkr WV'!A105,'5 tm 12 bkr Data'!R:R,0)) -> 0
A106: =CONCATENATE(B94,B106) -> 4e | B106: e | D106: =INDEX('5 tm 12 bkr Data'!T:T,MATCH('5 tm 12 bkr WV'!A106,'5 tm 12 bkr Data'!R:R,0)) -> 0
A107: =CONCATENATE(B94,B107) -> 4f | B107: f | D107: =INDEX('5 tm 12 bkr Data'!T:T,MATCH('5 tm 12 bkr WV'!A107,'5 tm 12 bkr Data'!R:R,0)) -> 0
A108: =CONCATENATE(B94,B108) -> 4g | B108: g | D108: =INDEX('5 tm 12 bkr Data'!T:T,MATCH('5 tm 12 bkr WV'!A108,'5 tm 12 bkr Data'!R:R,0)) -> 0
A109: =CONCATENATE(B94,B109) -> 4h | B109: h | D109: =INDEX('5 tm 12 bkr Data'!T:T,MATCH('5 tm 12 bkr WV'!A109,'5 tm 12 bkr Data'!R:R,0)) -> 0
H110: Total
E112: Bowler Name | H112: Game 1 | I112: Game 2 | J112: Game 3 | K112: Game 4 | L112: Game 5 | M112: Game 6 | N112: Game 7 | O112: Game 8 | P112: Game 9 | Q112: Game 10 | R112: Game 11 | S112: Game 12
E113: =IF(D102>0,D102,"") -> Janell Whitfield
E114: =IF(D103>0,D103,"") -> Lauren Williams
E115: =IF(D104>0,D104,"") -> Maya Elliott
E116: =IF(D105>0,D105,"")
E117: =IF(D106>0,D106,"")
E118: =IF(D107>0,D107,"")
E119: =IF(D108>0,D108,"")
E120: =IF(D109>0,D109,"")
E121: Game Score
E122: Block Total
H123: Please text a picture of scores to Jared at 785-312-4677 after each team game and 4 baker games
A125: Team | B125: 5 | C125: ='5 tm 12 bkr Data'!$A$2 -> Jayhawk Collegiate Challenge
F129: =INDEX('5 tm 12 bkr Data'!G:G,MATCH('5 tm 12 bkr WV'!B125,'5 tm 12 bkr Data'!F:F,0)) -> Clarke University - Women Varsity
D132: Bowler Name | I132: Game 1 | K132: Game 2 | M132: Game 3 | O132: Game 4 | Q132: Game 5 | S132: Total
A133: =CONCATENATE(B125,B133) -> 5a | B133: a | D133: =INDEX('5 tm 12 bkr Data'!T:T,MATCH('5 tm 12 bkr WV'!A133,'5 tm 12 bkr Data'!R:R,0)) -> Emily Larson
...

Sheet 5 tm 12 bkr WJV
A1: Team | B1: 1 | C1: ='5 tm 12 bkr Data'!$A$2 -> Jayhawk Collegiate Challenge
F5: =INDEX('5 tm 12 bkr Data'!I:I,MATCH('5 tm 12 bkr WJV'!B1,'5 tm 12 bkr Data'!H:H,0)) -> Kansas State University - Women JV
D8: Bowler Name | I8: Game 1 | K8: Game 2 | M8: Game 3 | O8: Game 4 | Q8: Game 5 | S8: Total
A9: =CONCATENATE(B1,B9) -> 1a | B9: a | D9: =INDEX('5 tm 12 bkr Data'!X:X,MATCH('5 tm 12 bkr WJV'!A9,'5 tm 12 bkr Data'!V:V,0)) -> 0
A10: =CONCATENATE(B1,B10) -> 1b | B10: b | D10: =INDEX('5 tm 12 bkr Data'!X:X,MATCH('5 tm 12 bkr WJV'!A10,'5 tm 12 bkr Data'!V:V,0)) -> 0
A11: =CONCATENATE(B1,B11) -> 1c | B11: c | D11: =INDEX('5 tm 12 bkr Data'!X:X,MATCH('5 tm 12 bkr WJV'!A11,'5 tm 12 bkr Data'!V:V,0)) -> 0
A12: =CONCATENATE(B1,B12) -> 1d | B12: d | D12: =INDEX('5 tm 12 bkr Data'!X:X,MATCH('5 tm 12 bkr WJV'!A12,'5 tm 12 bkr Data'!V:V,0)) -> 0
A13: =CONCATENATE(B1,B13) -> 1e | B13: e | D13: =INDEX('5 tm 12 bkr Data'!X:X,MATCH('5 tm 12 bkr WJV'!A13,'5 tm 12 bkr Data'!V:V,0)) -> 0
A14: =CONCATENATE(B1,B14) -> 1f | B14: f | D14: =INDEX('5 tm 12 bkr Data'!X:X,MATCH('5 tm 12 bkr WJV'!A14,'5 tm 12 bkr Data'!V:V,0)) -> 0
A15: =CONCATENATE(B1,B15) -> 1g | B15: g | D15: =INDEX('5 tm 12 bkr Data'!X:X,MATCH('5 tm 12 bkr WJV'!A15,'5 tm 12 bkr Data'!V:V,0)) -> 0
A16: =CONCATENATE(B1,B16) -> 1h | B16: h | D16: =INDEX('5 tm 12 bkr Data'!X:X,MATCH('5 tm 12 bkr WJV'!A16,'5 tm 12 bkr Data'!V:V,0)) -> 0
H17: Total
E19: Bowler Name | H19: Game 1 | I19: Game 2 | J19: Game 3 | K19: Game 4 | L19: Game 5 | M19: Game 6 | N19: Game 7 | O19: Game 8 | P19: Game 9 | Q19: Game 10 | R19: Game 11 | S19: Game 12
E20: =IF(D9>0,D9,"")
E21: =IF(D10>0,D10,"")
E22: =IF(D11>0,D11,"")
E23: =IF(D12>0,D12,"")
E24: =IF(D13>0,D13,"")
E25: =IF(D14>0,D14,"")
E26: =IF(D15>0,D15,"")
E27: =IF(D16>0,D16,"")
E28: Game Score
E29: Block Total
H30: Please text a picture of scores to Jared at 785-312-4677 after each team game and 4 baker games
A32: Team | B32: 2 | C32: ='5 tm 12 bkr Data'!$A$2 -> Jayhawk Collegiate Challenge
F36: =INDEX('5 tm 12 bkr Data'!I:I,MATCH('5 tm 12 bkr WJV'!B32,'5 tm 12 bkr Data'!H:H,0)) -> Morningside University - Women JV
D39: Bowler Name | I39: Game 1 | K39: Game 2 | M39: Game 3 | O39: Game 4 | Q39: Game 5 | S39: Total
A40: =CONCATENATE(B32,B40) -> 2a | B40: a | D40: =INDEX('5 tm 12 bkr Data'!X:X,MATCH('5 tm 12 bkr WJV'!A40,'5 tm 12 bkr Data'!V:V,0)) -> Elana Krutsinger
A41: =CONCATENATE(B32,B41) -> 2b | B41: b | D41: =INDEX('5 tm 12 bkr Data'!X:X,MATCH('5 tm 12 bkr WJV'!A41,'5 tm 12 bkr Data'!V:V,0)) -> Kiara(Riley) Howard
A42: =CONCATENATE(B32,B42) -> 2c | B42: c | D42: =INDEX('5 tm 12 bkr Data'!X:X,MATCH('5 tm 12 bkr WJV'!A42,'5 tm 12 bkr Data'!V:V,0)) -> Liberty Nordstrom
A43: =CONCATENATE(B32,B43) -> 2d | B43: d | D43: =INDEX('5 tm 12 bkr Data'!X:X,MATCH('5 tm 12 bkr WJV'!A43,'5 tm 12 bkr Data'!V:V,0)) -> Samantha Sonier
A44: =CONCATENATE(B32,B44) -> 2e | B44: e | D44: =INDEX('5 tm 12 bkr Data'!X:X,MATCH('5 tm 12 bkr WJV'!A44,'5 tm 12 bkr Data'!V:V,0)) -> Zara Bitsos
A45: =CONCATENATE(B32,B45) -> 2f | B45: f | D45: =INDEX('5 tm 12 bkr Data'!X:X,MATCH('5 tm 12 bkr WJV'!A45,'5 tm 12 bkr Data'!V:V,0)) -> 0
A46: =CONCATENATE(B32,B46) -> 2g | B46: g | D46: =INDEX('5 tm 12 bkr Data'!X:X,MATCH('5 tm 12 bkr WJV'!A46,'5 tm 12 bkr Data'!V:V,0)) -> 0
A47: =CONCATENATE(B32,B47) -> 2h | B47: h | D47: =INDEX('5 tm 12 bkr Data'!X:X,MATCH('5 tm 12 bkr WJV'!A47,'5 tm 12 bkr Data'!V:V,0)) -> 0
H48: Total
E50: Bowler Name | H50: Game 1 | I50: Game 2 | J50: Game 3 | K50: Game 4 | L50: Game 5 | M50: Game 6 | N50: Game 7 | O50: Game 8 | P50: Game 9 | Q50: Game 10 | R50: Game 11 | S50: Game 12
E51: =IF(D40>0,D40,"") -> Elana Krutsinger
E52: =IF(D41>0,D41,"") -> Kiara(Riley) Howard
E53: =IF(D42>0,D42,"") -> Liberty Nordstrom
E54: =IF(D43>0,D43,"") -> Samantha Sonier
E55: =IF(D44>0,D44,"") -> Zara Bitsos
E56: =IF(D45>0,D45,"")
E57: =IF(D46>0,D46,"")
E58: =IF(D47>0,D47,"")
E59: Game Score
E60: Block Total
H61: Please text a picture of scores to Jared at 785-312-4677 after each team game and 4 baker games
A63: Team | B63: 3 | C63: ='5 tm 12 bkr Data'!$A$2 -> Jayhawk Collegiate Challenge
F67: =INDEX('5 tm 12 bkr Data'!I:I,MATCH('5 tm 12 bkr WJV'!B63,'5 tm 12 bkr Data'!H:H,0)) -> Ottawa University (KS) - Women JV
D70: Bowler Name | I70: Game 1 | K70: Game 2 | M70: Game 3 | O70: Game 4 | Q70: Game 5 | S70: Total
A71: =CONCATENATE(B63,B71) -> 3a | B71: a | D71: =INDEX('5 tm 12 bkr Data'!X:X,MATCH('5 tm 12 bkr WJV'!A71,'5 tm 12 bkr Data'!V:V,0)) -> Amber Wagner
A72: =CONCATENATE(B63,B72) -> 3b | B72: b | D72: =INDEX('5 tm 12 bkr Data'!X:X,MATCH('5 tm 12 bkr WJV'!A72,'5 tm 12 bkr Data'!V:V,0)) -> Ashlynn Senecal
A73: =CONCATENATE(B63,B73) -> 3c | B73: c | D73: =INDEX('5 tm 12 bkr Data'!X:X,MATCH('5 tm 12 bkr WJV'!A73,'5 tm 12 bkr Data'!V:V,0)) -> Isabel Wong
A74: =CONCATENATE(B63,B74) -> 3d | B74: d | D74: =INDEX('5 tm 12 bkr Data'!X:X,MATCH('5 tm 12 bkr WJV'!A74,'5 tm 12 bkr Data'!V:V,0)) -> Jazel Tiquia
A75: =CONCATENATE(B63,B75) -> 3e | B75: e | D75: =INDEX('5 tm 12 bkr Data'!X:X,MATCH('5 tm 12 bkr WJV'!A75,'5 tm 12 bkr Data'!V:V,0)) -> Lydia Phillips
A76: =CONCATENATE(B63,B76) -> 3f | B76: f | D76: =INDEX('5 tm 12 bkr Data'!X:X,MATCH('5 tm 12 bkr WJV'!A76,'5 tm 12 bkr Data'!V:V,0)) -> 0
A77: =CONCATENATE(B63,B77) -> 3g | B77: g | D77: =INDEX('5 tm 12 bkr Data'!X:X,MATCH('5 tm 12 bkr WJV'!A77,'5 tm 12 bkr Data'!V:V,0)) -> 0
A78: =CONCATENATE(B63,B78) -> 3h | B78: h | D78: =INDEX('5 tm 12 bkr Data'!X:X,MATCH('5 tm 12 bkr WJV'!A78,'5 tm 12 bkr Data'!V:V,0)) -> 0
H79: Total
E81: Bowler Name | H81: Game 1 | I81: Game 2 | J81: Game 3 | K81: Game 4 | L81: Game 5 | M81: Game 6 | N81: Game 7 | O81: Game 8 | P81: Game 9 | Q81: Game 10 | R81: Game 11 | S81: Game 12
E82: =IF(D71>0,D71,"") -> Amber Wagner
E83: =IF(D72>0,D72,"") -> Ashlynn Senecal
E84: =IF(D73>0,D73,"") -> Isabel Wong
E85: =IF(D74>0,D74,"") -> Jazel Tiquia
E86: =IF(D75>0,D75,"") -> Lydia Phillips
E87: =IF(D76>0,D76,"")
E88: =IF(D77>0,D77,"")
E89: =IF(D78>0,D78,"")
E90: Game Score
E91: Block Total
H92: Please text a picture of scores to Jared at 785-312-4677 after each team game and 4 baker games
A94: Team | B94: 4 | C94: ='5 tm 12 bkr Data'!$A$2 -> Jayhawk Collegiate Challenge
F98: =INDEX('5 tm 12 bkr Data'!I:I,MATCH('5 tm 12 bkr WJV'!B94,'5 tm 12 bkr Data'!H:H,0)) -> William Penn University - Women JV
D101: Bowler Name | I101: Game 1 | K101: Game 2 | M101: Game 3 | O101: Game 4 | Q101: Game 5 | S101: Total
A102: =CONCATENATE(B94,B102) -> 4a | B102: a | D102: =INDEX('5 tm 12 bkr Data'!X:X,MATCH('5 tm 12 bkr WJV'!A102,'5 tm 12 bkr Data'!V:V,0)) -> Emily Eikenberry
A103: =CONCATENATE(B94,B103) -> 4b | B103: b | D103: =INDEX('5 tm 12 bkr Data'!X:X,MATCH('5 tm 12 bkr WJV'!A103,'5 tm 12 bkr Data'!V:V,0)) -> Kelcey Aczon-Kawamura
A104: =CONCATENATE(B94,B104) -> 4c | B104: c | D104: =INDEX('5 tm 12 bkr Data'!X:X,MATCH('5 tm 12 bkr WJV'!A104,'5 tm 12 bkr Data'!V:V,0)) -> Lucille Mitchell
A105: =CONCATENATE(B94,B105) -> 4d | B105: d | D105: =INDEX('5 tm 12 bkr Data'!X:X,MATCH('5 tm 12 bkr WJV'!A105,'5 tm 12 bkr Data'!V:V,0)) -> Olivia Pilcher
A106: =CONCATENATE(B94,B106) -> 4e | B106: e | D106: =INDEX('5 tm 12 bkr Data'!X:X,MATCH('5 tm 12 bkr WJV'!A106,'5 tm 12 bkr Data'!V:V,0)) -> Payton Vogel
A107: =CONCATENATE(B94,B107) -> 4f | B107: f | D107: =INDEX('5 tm 12 bkr Data'!X:X,MATCH('5 tm 12 bkr WJV'!A107,'5 tm 12 bkr Data'!V:V,0)) -> Saphyre McCombs
A108: =CONCATENATE(B94,B108) -> 4g | B108: g | D108: =INDEX('5 tm 12 bkr Data'!X:X,MATCH('5 tm 12 bkr WJV'!A108,'5 tm 12 bkr Data'!V:V,0)) -> Victoria Potter
A109: =CONCATENATE(B94,B109) -> 4h | B109: h | D109: =INDEX('5 tm 12 bkr Data'!X:X,MATCH('5 tm 12 bkr WJV'!A109,'5 tm 12 bkr Data'!V:V,0)) -> 0
H110: Total
E112: Bowler Name | H112: Game 1 | I112: Game 2 | J112: Game 3 | K112: Game 4 | L112: Game 5 | M112: Game 6 | N112: Game 7 | O112: Game 8 | P112: Game 9 | Q112: Game 10 | R112: Game 11 | S112: Game 12
E113: =IF(D102>0,D102,"") -> Emily Eikenberry
E114: =IF(D103>0,D103,"") -> Kelcey Aczon-Kawamura
E115: =IF(D104>0,D104,"") -> Lucille Mitchell
E116: =IF(D105>0,D105,"") -> Olivia Pilcher
E117: =IF(D106>0,D106,"") -> Payton Vogel
E118: =IF(D107>0,D107,"") -> Saphyre McCombs
E119: =IF(D108>0,D108,"") -> Victoria Potter
E120: =IF(D109>0,D109,"")
E121: Game Score
E122: Block Total
H123: Please text a picture of scores to Jared at 785-312-4677 after each team game and 4 baker games
A125: Team | B125: 5 | C125: ='5 tm 12 bkr Data'!$A$2 -> Jayhawk Collegiate Challenge
F129: =INDEX('5 tm 12 bkr Data'!I:I,MATCH('5 tm 12 bkr WJV'!B125,'5 tm 12 bkr Data'!H:H,0)) -> 6
D132: Bowler Name | I132: Game 1 | K132: Game 2 | M132: Game 3 | O132: Game 4 | Q132: Game 5 | S132: Total
A133: =CONCATENATE(B125,B133) -> 5a | B133: a | D133: =INDEX('5 tm 12 bkr Data'!X:X,MATCH('5 tm 12 bkr WJV'!A133,'5 tm 12 bkr Data'!V:V,0)) -> a
...

Sheet 5 tm Data
A1: Tournament Name | B1: Team # | C1: Mens Varsity Teams | D1: Team # | E1: Mens JV Teams | F1: Team # | G1: Womens Varsity Teams | H1: Team # | I1: Womens JV Teams | L1: Mens Varsity Roster | P1: Mens JV Roster | T1: Womens Varsity Roster | X1: Womens JV Roster
A2: NAIA West - I | B2: 1 | C2: Avila University - Men/mixed - Varsity | D2: 1 | E2: Avila University - Men/mixed - JV1 | F2: 1 | G2: Avila University - Women - Varsity | H2: 1 | I2: Ottawa University - Women - JV1 | J2: 1a | K2: 1 | L2: Aidan Tesdall | N2: 1a | O2: 1 | P2: Caleb Wangler | R2: 1a | S2: 1 | T2: Devyn Coleman | V2: 1a | W2: 1 | X2: Allison Olivia
B3: 2 | C3: Baker University - Men/mixed - Varsity | D3: 2 | E3: Baker University - Men/mixed - JV1 | F3: 2 | G3: Baker University - Women - Varsity | H3: 2 | I3: William Penn University - Women - JV1 | J3: 1b | K3: 1 | L3: Brody Stanback | N3: 1b | O3: 1 | P3: Coel Shepherd | R3: 1b | S3: 1 | T3: Kamdyn Burman | V3: 1b | W3: 1 | X3: Amiya Laskey
B4: 3 | C4: Barton Community College - Men/mixed - Varsity | D4: 3 | E4: Kansas Wesleyan - Men/mixed - JV1 | F4: 3 | G4: Barton Community College - Women - Varsity | H4: 3 | I4: 4 | J4: 1c | K4: 1 | L4: Davis Best | N4: 1c | O4: 1 | P4: Jacob Thompson | R4: 1c | S4: 1 | T4: Kiara Gonzalez | V4: 1c | W4: 1 | X4: Emaree Nester
B5: 4 | C5: Culver-Stockton College - Men/mixed - Varsity | D5: 4 | E5: Midland University - Men/mixed - JV1 | F5: 4 | G5: Culver-Stockton College - Women - Varsity | H5: 4 | I5: 5 | J5: 1d | K5: 1 | L5: Evan Serrage | N5: 1d | O5: 1 | P5: Josh Oldham | R5: 1d | S5: 1 | T5: Kirsten Zirjacks | V5: 1d | W5: 1 | X5: Isabel Wong
B6: 5 | C6: Drury University - Men/mixed - Varsity | D6: 5 | E6: Missouri Valley College - Men/mixed - JV1 | F6: 5 | G6: Grand View University - Women - Varsity | H6: 5 | I6: 6 | J6: 1e | K6: 1 | L6: Garrett Messenger | N6: 1e | O6: 1 | P6: Nic Garza | R6: 1e | S6: 1 | T6: Rebeka Fielder | V6: 1e | W6: 1 | X6: Ryann Clark
B7: 6 | C7: Grand View Uniiversity - Men/mixed - Varsity | D7: 6 | E7: Ottawa University - Men/mixed - JV1 | F7: 6 | G7: Hastings College - Women - Varsity | H7: 6 | I7: 7 | J7: 1f | K7: 1 | L7: Max Sturgeon | N7: 1f | O7: 1 | P7: 0 | R7: 1f | S7: 1 | T7: Victoria Bestor | V7: 1f | W7: 1 | X7: Taylor Lenz
B8: 7 | C8: Hastings college - Men/mixed - Varsity | D8: 7 | E8: University of Kansas - Men/mixed - JV1 | F8: 7 | G8: Kansas Wesleyan - Women - Varsity | H8: 7 | I8: 8 | J8: 1g | K8: 1 | L8: Ta'Shawn Clark | N8: 1g | O8: 1 | P8: 0 | R8: 1g | S8: 1 | T8: Victoria Leal | V8: 1g | W8: 1 | X8: 0
B9: 8 | C9: Kansas Wesleyan - Men/mixed - Varsity | D9: 8 | E9: William Penn University - Men/mixed - JV1 | F9: 8 | G9: McPherson College - Women - Varsity | H9: 8 | I9: 9 | J9: 1h | K9: 1 | L9: 0 | N9: 1h | O9: 1 | P9: 0 | R9: 1h | S9: 1 | T9: Zoe Fox | V9: 1h | W9: 1 | X9: 0
B10: 9 | C10: Midland University - Men/mixed - Varsity | D10: 9 | E10: William Penn University - Men/mixed - JV2 | F10: 9 | G10: Midland University - Women - Varsity | H10: 9 | I10: 10 | J10: 2a | K10: 2 | L10: Aidan Van Metre | N10: 2a | O10: 2 | P10: Alex Spencer | R10: 2a | S10: 2 | T10: Audrey Valdez | V10: 2a | W10: 2 | X10: Emma Chenoweth
B11: 10 | C11: Missouri Valley College - Men/mixed - Varsity | D11: 10 | E11: 11 | F11: 10 | G11: Morningside University - Women - Varsity | H11: 10 | I11: 11 | J11: 2b | K11: 2 | L11: Brett Gamber | N11: 2b | O11: 2 | P11: Cole Walker | R11: 2b | S11: 2 | T11: Darby Hauff | V11: 2b | W11: 2 | X11: HannaLee Songer
B12: 11 | C12: Morningside University - Men/mixed - Varsity | D12: 11 | E12: 12 | F12: 11 | G12: Ottawa University - Women - Varsity | H12: 11 | I12: 12 | J12: 2c | K12: 2 | L12: Ethan Diehl | N12: 2c | O12: 2 | P12: Deken Penny | R12: 2c | S12: 2 | T12: Dylan Holmes | V12: 2c | W12: 2 | X12: Macyn Huston
B13: 12 | C13: Ottawa University - Men/mixed - Varsity | D13: 12 | E13: 13 | F13: 12 | G13: Peru State College - Women - Varsity | H13: 12 | I13: 13 | J13: 2d | K13: 2 | L13: Josh King | N13: 2d | O13: 2 | P13: Devyn Schaper | R13: 2d | S13: 2 | T13: Elizabeth Suchor | V13: 2d | W13: 2 | X13: Olivia Nolte
B14: 13 | C14: Peru State College - Men/mixed - Varsity | D14: 13 | E14: 14 | F14: 13 | G14: University of Kansas - Women - Varsity | H14: 13 | I14: 14 | J14: 2e | K14: 2 | L14: Ken Rowland | N14: 2e | O14: 2 | P14: Landon Scott | R14: 2e | S14: 2 | T14: Kaleigh Buckalew | V14: 2e | W14: 2 | X14: Saphyre McCombs-VanSteenwyk
B15: 14 | C15: University of Kansas - Men/mixed - Varsity | D15: 14 | E15: 15 | F15: 14 | G15: University of Saint Mary - Women - Varsity | H15: 14 | I15: 15 | J15: 2f | K15: 2 | L15: Nate Ebner | N15: 2f | O15: 2 | P15: Nate Ebner | R15: 2f | S15: 2 | T15: Majayla Boyd | V15: 2f | W15: 2 | X15: Victoria Potter
B16: 15 | C16: University of Saint Mary - Men/mixed - Varsity | D16: 15 | E16: 16 | F16: 15 | G16: William Penn University - Women - Varsity | H16: 15 | I16: 16 | J16: 2g | K16: 2 | L16: Paul Stigall | N16: 2g | O16: 2 | P16: TaRon Graham | R16: 2g | S16: 2 | T16: Skyler Holmes | V16: 2g | W16: 2 | X16: 0
B17: 16 | C17: William Penn University - Men/mixed - Varsity | D17: 16 | E17: 17 | F17: 16 | G17: 17 | H17: 16 | I17: 17 | J17: 2h | K17: 2 | L17: Peter (PJ) Dokolas | N17: 2h | O17: 2 | P17: Vincent Valdez | R17: 2h | S17: 2 | T17: 0 | V17: 2h | W17: 2 | X17: 0
B18: 17 | C18: 18 | D18: 17 | E18: 18 | F18: 17 | G18: 18 | H18: 17 | I18: 18 | J18: 3a | K18: 3 | L18: Alex Wheat | N18: 3a | O18: 3 | P18: Jesse Owens | R18: 3a | S18: 3 | T18: Alexis Wareman | V18: 3a | W18: 3
B19: 18 | C19: 19 | D19: 18 | E19: 19 | F19: 18 | G19: 19 | H19: 18 | I19: 19 | J19: 3b | K19: 3 | L19: Braydon Bastin | N19: 3b | O19: 3 | P19: Jordan Trammell | R19: 3b | S19: 3 | T19: Chailyn Scott | V19: 3b | W19: 3
B20: 19 | C20: 20 | D20: 19 | E20: 20 | F20: 19 | G20: 20 | H20: 19 | I20: 20 | J20: 3c | K20: 3 | L20: Campbell Peterson | N20: 3c | O20: 3 | P20: Kayden Molene | R20: 3c | S20: 3 | T20: Ellie Weeks | V20: 3c | W20: 3
B21: 20 | C21: 21 | D21: 20 | E21: 21 | F21: 20 | G21: 21 | H21: 20 | I21: 21 | J21: 3d | K21: 3 | L21: Carter Lambeth | N21: 3d | O21: 3 | P21: Kevin Eghabali | R21: 3d | S21: 3 | T21: Hope Huslig | V21: 3d | W21: 3
B22: 21 | C22: 22 | D22: 21 | E22: 22 | F22: 21 | G22: 22 | H22: 21 | I22: 22 | J22: 3e | K22: 3 | L22: Cole Brown | N22: 3e | O22: 3 | P22: William McNeil | R22: 3e | S22: 3 | T22: JaeLinn Thetford | V22: 3e | W22: 3
B23: 22 | C23: 23 | D23: 22 | E23: 23 | F23: 22 | G23: 23 | H23: 22 | I23: 23 | J23: 3f | K23: 3 | L23: Khalil Sanchez | N23: 3f | O23: 3 | P23: 0 | R23: 3f | S23: 3 | T23: Jordan McKenzie | V23: 3f | W23: 3
B24: 23 | C24: 24 | D24: 23 | E24: 24 | F24: 23 | G24: 24 | H24: 23 | I24: 24 | J24: 3g | K24: 3 | L24: Logan Lindsley | N24: 3g | O24: 3 | P24: 0 | R24: 3g | S24: 3 | T24: McKenzie Craig | V24: 3g | W24: 3
B25: 24 | C25: 25 | D25: 24 | E25: 25 | F25: 24 | G25: 25 | H25: 24 | I25: 25 | J25: 3h | K25: 3 | L25: Torrey Lindsay | N25: 3h | O25: 3 | P25: 0 | R25: 3h | S25: 3 | T25: Zoe Wimmer | V25: 3h | W25: 3
B26: 25 | C26: 26 | D26: 25 | E26: 26 | F26: 25 | G26: 26 | H26: 25 | I26: 26 | J26: 4a | K26: 4 | L26: Ashton Weilandich | N26: 4a | O26: 4 | P26: ADDISON JOHNSON | R26: 4a | S26: 4 | T26: Andi Woods | V26: 4a | W26: 4
B27: 26 | C27: 27 | D27: 26 | E27: 27 | F27: 26 | G27: 27 | H27: 26 | I27: 27 | J27: 4b | K27: 4 | L27: Gavin Moeller | N27: 4b | O27: 4 | P27: CAMRYN STEFANINI | R27: 4b | S27: 4 | T27: Angela Uhl | V27: 4b | W27: 4
B28: 27 | C28: 28 | D28: 27 | E28: 28 | F28: 27 | G28: 28 | H28: 27 | I28: 28 | J28: 4c | K28: 4 | L28: Jake Evitts | N28: 4c | O28: 4 | P28: CHRISTOPHER TALIVA’A | R28: 4c | S28: 4 | T28: Jasmine Saunders | V28: 4c | W28: 4
B29: 28 | C29: 29 | D29: 28 | E29: 29 | F29: 28 | G29: 29 | H29: 28 | I29: 29 | J29: 4d | K29: 4 | L29: Kody Birmes | N29: 4d | O29: 4 | P29: NATE HARTJE | R29: 4d | S29: 4 | T29: Jersey Lessenger | V29: 4d | W29: 4
B30: 29 | C30: 30 | D30: 29 | E30: 30 | F30: 29 | G30: 30 | H30: 29 | I30: 30 | J30: 4e | K30: 4 | L30: Levi Staley | N30: 4e | O30: 4 | P30: TRISTYN FORDE | R30: 4e | S30: 4 | T30: Katelin Valentine | V30: 4e | W30: 4
B31: 30 | C31: 31 | D31: 30 | E31: 31 | F31: 30 | G31: 31 | H31: 30 | I31: 31 | J31: 4f | K31: 4 | L31: Mason Will | N31: 4f | O31: 4 | P31: 0 | R31: 4f | S31: 4 | T31: Rachel Moore | V31: 4f | W31: 4
B32: 31 | C32: 32 | D32: 31 | E32: 32 | F32: 31 | G32: 32 | H32: 31 | I32: 32 | J32: 4g | K32: 4 | L32: 0 | N32: 4g | O32: 4 | P32: 0 | R32: 4g | S32: 4 | T32: Rilee Allen | V32: 4g | W32: 4
B33: 32 | C33: 33 | D33: 32 | E33: 33 | F33: 32 | G33: 33 | H33: 32 | I33: 33 | J33: 4h | K33: 4 | L33: 0 | N33: 4h | O33: 4 | P33: 0 | R33: 4h | S33: 4 | T33: 0 | V33: 4h | W33: 4
B34: 33 | C34: 34 | D34: 33 | E34: 34 | F34: 33 | G34: 34 | H34: 33 | I34: 34 | J34: 5a | K34: 5 | L34: Billy Tropepe | N34: 5a | O34: 5 | P34: Chris Allison | R34: 5a | S34: 5 | T34: Brianna Musgrave | V34: 5a | W34: 5
B35: 34 | C35: 35 | D35: 34 | E35: 35 | F35: 34 | G35: 35 | H35: 34 | I35: 35 | J35: 5b | K35: 5 | L35: Charlie Robinson | N35: 5b | O35: 5 | P35: Colton Herrin | R35: 5b | S35: 5 | T35: Chastyn Gering | V35: 5b | W35: 5
B36: 35 | C36: 36 | D36: 35 | E36: 36 | F36: 35 | G36: 36 | H36: 35 | I36: 36 | J36: 5c | K36: 5 | L36: Haden Barbee | N36: 5c | O36: 5 | P36: Kayla Cowell | R36: 5c | S36: 5 | T36: Isabel Tetmeyer | V36: 5c | W36: 5
B37: 36 | C37: 37 | D37: 36 | E37: 37 | F37: 36 | G37: 37 | H37: 36 | I37: 37 | J37: 5d | K37: 5 | L37: Jeremy Vanost | N37: 5d | O37: 5 | P37: Natilie Briggs | R37: 5d | S37: 5 | T37: Kennady Bigwood | V37: 5d | W37: 5
B38: 37 | C38: 38 | D38: 37 | E38: 38 | F38: 37 | G38: 38 | H38: 37 | I38: 38 | J38: 5e | K38: 5 | L38: Nicholas Patterson | N38: 5e | O38: 5 | P38: Sydney Ryder | R38: 5e | S38: 5 | T38: Kylie Arai | V38: 5e | W38: 5
B39: 38 | C39: 39 | D39: 38 | E39: 39 | F39: 38 | G39: 39 | H39: 38 | I39: 39 | J39: 5f | K39: 5 | L39: Parker Watson | N39: 5f | O39: 5 | P39: 0 | R39: 5f | S39: 5 | T39: Madison Pickett | V39: 5f | W39: 5
B40: 39 | C40: 40 | D40: 39 | E40: 40 | F40: 39 | G40: 40 | H40: 39 | I40: 40 | J40: 5g | K40: 5 | L40: Trayton Cherry | N40: 5g | O40: 5 | P40: 0 | R40: 5g | S40: 5 | T40: Michelle Stewart | V40: 5g | W40: 5
B41: 40 | C41: 41 | D41: 40 | E41: 41 | F41: 40 | G41: 41 | H41: 40 | I41: 41 | J41: 5h | K41: 5 | L41: 0 | N41: 5h | O41: 5 | P41: 0 | R41: 5h | S41: 5 | T41: 0 | V41: 5h | W41: 5
J42: 6a | K42: 6 | L42: Andru Wilder | N42: 6a | O42: 6 | P42: Achilles Reyes | R42: 6a | S42: 6 | T42: Allyson Heidenreich | V42: 6a | W42: 6
J43: 6b | K43: 6 | L43: Jonathan Featherston | N43: 6b | O43: 6 | P43: Ashton Reyes | R43: 6b | S43: 6 | T43: Alyssa Currie | V43: 6b | W43: 6
J44: 6c | K44: 6 | L44: Justin Graves | N44: 6c | O44: 6 | P44: Cole Clough | R44: 6c | S44: 6 | T44: Breanna Miller | V44: 6c | W44: 6
J45: 6d | K45: 6 | L45: Kory Ludden | N45: 6d | O45: 6 | P45: Elijah Cousins | R45: 6d | S45: 6 | T45: Langley Riha | V45: 6d | W45: 6
J46: 6e | K46: 6 | L46: Sam Kock | N46: 6e | O46: 6 | P46: Ian Carpenter | R46: 6e | S46: 6 | T46: Madison Henderson | V46: 6e | W46: 6
J47: 6f | K47: 6 | L47: Skyler Vong | N47: 6f | O47: 6 | P47: Shay White | R47: 6f | S47: 6 | T47: Marissa Ruiz | V47: 6f | W47: 6
J48: 6g | K48: 6 | L48: Xander Pickett | N48: 6g | O48: 6 | P48: Spencer Griffin | R48: 6g | S48: 6 | T48: Samantha McNeely | V48: 6g | W48: 6
J49: 6h | K49: 6 | L49: 0 | N49: 6h | O49: 6 | P49: 0 | R49: 6h | S49: 6 | T49: Savannah Turner | V49: 6h | W49: 6
J50: 7a | K50: 7 | L50: Anthony Morella | N50: 7a | O50: 7 | P50: Adam Trawick | R50: 7a | S50: 7 | T50: Autumen Thompson | V50: 7a | W50: 7
J51: 7b | K51: 7 | L51: Brandon Engels | N51: 7b | O51: 7 | P51: Ben Witty | R51: 7b | S51: 7 | T51: Emma O'Donnell | V51: 7b | W51: 7
J52: 7c | K52: 7 | L52: Colin Jaster | N52: 7c | O52: 7 | P52: Jacob Fonyi | R52: 7c | S52: 7 | T52: Kayden Moline | V52: 7c | W52: 7
J53: 7d | K53: 7 | L53: Ethan Lester | N53: 7d | O53: 7 | P53: Kellen McGowan | R53: 7d | S53: 7 | T53: Kaylee Laha | V53: 7d | W53: 7
J54: 7e | K54: 7 | L54: Kaden Kuusela | N54: 7e | O54: 7 | P54: Krrish Sapra | R54: 7e | S54: 7 | T54: Reagan Benson | V54: 7e | W54: 7
J55: 7f | K55: 7 | L55: Nathan Stinemates | N55: 7f | O55: 7 | P55: 0 | R55: 7f | S55: 7 | T55: Teigan Nielsen | V55: 7f | W55: 7
J56: 7g | K56: 7 | L56: Trevor Seeley | N56: 7g | O56: 7 | P56: 0 | R56: 7g | S56: 7 | T56: 0 | V56: 7g | W56: 7
J57: 7h | K57: 7 | L57: Tyler Call | N57: 7h | O57: 7 | P57: 0 | R57: 7h | S57: 7 | T57: 0 | V57: 7h | W57: 7
J58: 8a | K58: 8 | L58: Conner Kirby | N58: 8a | O58: 8 | P58: Aidan Majer | R58: 8a | S58: 8 | T58: Alyssa Porcelli | V58: 8a | W58: 8
J59: 8b | K59: 8 | L59: Connor Thomas | N59: 8b | O59: 8 | P59: Brock Alderson | R59: 8b | S59: 8 | T59: Jasmine Bridges | V59: 8b | W59: 8
J60: 8c | K60: 8 | L60: Jackson Penny | N60: 8c | O60: 8 | P60: Ethan Licht | R60: 8c | S60: 8 | T60: Kaycee Carter | V60: 8c | W60: 8
J61: 8d | K61: 8 | L61: Kayden Moline | N61: 8d | O61: 8 | P61: Kaden Haskell | R61: 8d | S61: 8 | T61: Kayla Wood | V61: 8d | W61: 8
J62: 8e | K62: 8 | L62: Landon Bauer | N62: 8e | O62: 8 | P62: Spencer Fleming | R62: 8e | S62: 8 | T62: Miranda Hunt | V62: 8e | W62: 8
J63: 8f | K63: 8 | L63: Landon Jones | N63: 8f | O63: 8 | P63: 0 | R63: 8f | S63: 8 | T63: Monica Pollock | V63: 8f | W63: 8
J64: 8g | K64: 8 | L64: Max Howerton | N64: 8g | O64: 8 | P64: 0 | R64: 8g | S64: 8 | T64: Veronyca West | V64: 8g | W64: 8
J65: 8h | K65: 8 | L65: 0 | N65: 8h | O65: 8 | P65: 0 | R65: 8h | S65: 8 | T65: 0 | V65: 8h | W65: 8
J66: 9a | K66: 9 | L66: ALIJAH BERTRAND | N66: 9a | O66: 9 | P66: Carter Boley | R66: 9a | S66: 9 | T66: ASHLAND HOYT | V66: 9a | W66: 9
J67: 9b | K67: 9 | L67: BRANDON OGDEN | N67: 9b | O67: 9 | P67: Cooper Huston | R67: 9b | S67: 9 | T67: BAILEE SPRIGGS | V67: 9b | W67: 9
J68: 9c | K68: 9 | L68: CASEY UPTON | N68: 9c | O68: 9 | P68: Ethan Zieglowsky | R68: 9c | S68: 9 | T68: HANNAH BOWLING | V68: 9c | W68: 9
J69: 9d | K69: 9 | L69: COLE MACALUSO | N69: 9d | O69: 9 | P69: Mathew Smith | R69: 9d | S69: 9 | T69: KAYLEE TAYLOR | V69: 9d | W69: 9
J70: 9e | K70: 9 | L70: DONALD WU | N70: 9e | O70: 9 | P70: Ty Krueger | R70: 9e | S70: 9 | T70: KAYLEIGH | V70: 9e | W70: 9
J71: 9f | K71: 9 | L71: JACK PEARSON | N71: 9f | O71: 9 | P71: 0 | R71: 9f | S71: 9 | T71: LEIA MILLER | V71: 9f | W71: 9
J72: 9g | K72: 9 | L72: MICHAEL SAXTON III | N72: 9g | O72: 9 | P72: 0 | R72: 9g | S72: 9 | T72: 0 | V72: 9g | W72: 9
J73: 9h | K73: 9 | L73: 0 | N73: 9h | O73: 9 | P73: 0 | R73: 9h | S73: 9 | T73: 0 | V73: 9h | W73: 9
J74: 10a | K74: 10 | L74: Charles Raney | N74: 10a | O74: 10 | P74: Aidan Majer | R74: 10a | S74: 10 | T74: Alexa Munhofen | V74: 10a | W74: 10
J75: 10b | K75: 10 | L75: Guy Mapstone | N75: 10b | O75: 10 | P75: Carter Boley | R75: 10b | S75: 10 | T75: Emaly Kruse | V75: 10b | W75: 10
J76: 10c | K76: 10 | L76: Kaden Summers | N76: 10c | O76: 10 | P76: Ethan Licht | R76: 10c | S76: 10 | T76: Libbie Keith | V76: 10c | W76: 10
J77: 10d | K77: 10 | L77: Nicholas Miles | N77: 10d | O77: 10 | P77: Kaden Haskell | R77: 10d | S77: 10 | T77: Maren Ewertz | V77: 10d | W77: 10
J78: 10e | K78: 10 | L78: Sophie Meadows | N78: 10e | O78: 10 | P78: Spencer Fleming | R78: 10e | S78: 10 | T78: Rachel Spier | V78: 10e | W78: 10
J79: 10f | K79: 10 | L79: Wyatt Grunwald | N79: 10f | O79: 10 | P79: 0 | R79: 10f | S79: 10 | T79: Samantha Schiefen | V79: 10f | W79: 10
J80: 10g | K80: 10 | L80: 0 | N80: 10g | O80: 10 | P80: 0 | R80: 10g | S80: 10 | T80: Victoria Elwick | V80: 10g | W80: 10
J81: 10h | K81: 10 | L81: 0 | N81: 10h | O81: 10 | P81: 0 | R81: 10h | S81: 10 | T81: 0 | V81: 10h | W81: 10
J82: 11a | K82: 11 | L82: Adam Stensrud | N82: 11a | O82: 11 | P82: Cooper Huston | R82: 11a | S82: 11 | T82: Allie Mae Williams | V82: 11a | W82: 11
J83: 11b | K83: 11 | L83: Brenden Lewis | N83: 11b | O83: 11 | P83: Ethan Zieglowsky | R83: 11b | S83: 11 | T83: Amber Wagner | V83: 11b | W83: 11
J84: 11c | K84: 11 | L84: Chace Mohrhauser | N84: 11c | O84: 11 | P84: Joseph Woods-Weisman | R84: 11c | S84: 11 | T84: Gerilynn Delegarito | V84: 11c | W84: 11
J85: 11d | K85: 11 | L85: Christian Schmadeke | N85: 11d | O85: 11 | P85: Mathew Smith | R85: 11d | S85: 11 | T85: Holly Bridges | V85: 11d | W85: 11
J86: 11e | K86: 11 | L86: Hunter Noteboom | N86: 11e | O86: 11 | P86: Ty Krueger | R86: 11e | S86: 11 | T86: Jadyn Barr | V86: 11e | W86: 11
J87: 11f | K87: 11 | L87: Sandler Wiekamp | N87: 11f | O87: 11 | P87: 0 | R87: 11f | S87: 11 | T87: Jazel Tiquia | V87: 11f | W87: 11
J88: 11g | K88: 11 | L88: Sourideth(Nick) Philthilath | N88: 11g | O88: 11 | P88: 0 | R88: 11g | S88: 11 | T88: Katie Morse | V88: 11g | W88: 11
J89: 11h | K89: 11 | L89: Trevor Fisher | N89: 11h | O89: 11 | P89: 0 | R89: 11h | S89: 11 | T89: 0 | V89: 11h | W89: 11
J90: 12a | K90: 12 | L90: Darron Spak | N90: 12a | O90: 12 | R90: 12a | S90: 12 | T90: Abby Yates | V90: 12a | W90: 12
J91: 12b | K91: 12 | L91: Joseph Enderle | N91: 12b | O91: 12 | R91: 12b | S91: 12 | T91: Adria Huiett | V91: 12b | W91: 12
J92: 12c | K92: 12 | L92: Josh King | N92: 12c | O92: 12 | R92: 12c | S92: 12 | T92: Aleia Crandall | V92: 12c | W92: 12
J93: 12d | K93: 12 | L93: Justin Preston | N93: 12d | O93: 12 | R93: 12d | S93: 12 | T93: Ashley Pfiefer | V93: 12d | W93: 12
J94: 12e | K94: 12 | L94: Justin Weddige | N94: 12e | O94: 12 | R94: 12e | S94: 12 | T94: Kaitlyn Doyal | V94: 12e | W94: 12
J95: 12f | K95: 12 | L95: Matthew Berg | N95: 12f | O95: 12 | R95: 12f | S95: 12 | T95: Makenzie Millard | V95: 12f | W95: 12
J96: 12g | K96: 12 | L96: Tre Preston | N96: 12g | O96: 12 | R96: 12g | S96: 12 | T96: Mindy Bartels | V96: 12g | W96: 12
J97: 12h | K97: 12 | L97: 0 | N97: 12h | O97: 12 | R97: 12h | S97: 12 | T97: Peyton Gonzales | V97: 12h | W97: 12
J98: 13a | K98: 13 | L98: Carson Pierce | N98: 13a | O98: 13 | R98: 13a | S98: 13 | T98: Alyssa Molton | V98: 13a | W98: 13
J99: 13b | K99: 13 | L99: Ethan Haas Oltrogge | N99: 13b | O99: 13 | R99: 13b | S99: 13 | T99: Ashley Simpson | V99: 13b | W99: 13
J100: 13c | K100: 13 | L100: Grayson Martin | N100: 13c | O100: 13 | R100: 13c | S100: 13 | T100: Grace Dorst | V100: 13c | W100: 13
...

Sheet 5 tm MV
A1: Team | B1: 1 | C1: ='5 tm Data'!$A$2 -> NAIA West - I
G7: =INDEX('5 tm Data'!C:C,MATCH('5 tm MV'!B1,'5 tm Data'!B:B,0)) -> Avila University - Men/mixed - Varsity
C12: Bowler Name | F12: Game 1 | H12: Game 2 | J12: Game 3 | L12: Game 4 | N12: Game 5 | P12: Total
A13: =CONCATENATE(B1,B13) -> 1a | B13: a | C13: =INDEX('5 tm Data'!L:L,MATCH('5 tm MV'!A13,'5 tm Data'!J:J,0)) -> Aidan Tesdall
A14: =CONCATENATE(B1,B14) -> 1b | B14: b | C14: =INDEX('5 tm Data'!L:L,MATCH('5 tm MV'!A14,'5 tm Data'!J:J,0)) -> Brody Stanback
A15: =CONCATENATE(B1,B15) -> 1c | B15: c | C15: =INDEX('5 tm Data'!L:L,MATCH('5 tm MV'!A15,'5 tm Data'!J:J,0)) -> Davis Best
A16: =CONCATENATE(B1,B16) -> 1d | B16: d | C16: =INDEX('5 tm Data'!L:L,MATCH('5 tm MV'!A16,'5 tm Data'!J:J,0)) -> Evan Serrage
A17: =CONCATENATE(B1,B17) -> 1e | B17: e | C17: =INDEX('5 tm Data'!L:L,MATCH('5 tm MV'!A17,'5 tm Data'!J:J,0)) -> Garrett Messenger
A18: =CONCATENATE(B1,B18) -> 1f | B18: f | C18: =INDEX('5 tm Data'!L:L,MATCH('5 tm MV'!A18,'5 tm Data'!J:J,0)) -> Max Sturgeon
A19: =CONCATENATE(B1,B19) -> 1g | B19: g | C19: =INDEX('5 tm Data'!L:L,MATCH('5 tm MV'!A19,'5 tm Data'!J:J,0)) -> Ta'Shawn Clark
A20: =CONCATENATE(B1,B20) -> 1h | B20: h | C20: =INDEX('5 tm Data'!L:L,MATCH('5 tm MV'!A20,'5 tm Data'!J:J,0)) -> 0
C21: Total
C22: Opponent Series
C24: Win/Loss
A30: Team | B30: 2 | C30: ='5 tm Data'!$A$2 -> NAIA West - I
G36: =INDEX('5 tm Data'!C:C,MATCH('5 tm MV'!B30,'5 tm Data'!B:B,0)) -> Baker University - Men/mixed - Varsity
C41: Bowler Name | F41: Game 1 | H41: Game 2 | J41: Game 3 | L41: Game 4 | N41: Game 5 | P41: Total
A42: =CONCATENATE(B30,B42) -> 2a | B42: a | C42: =INDEX('5 tm Data'!L:L,MATCH('5 tm MV'!A42,'5 tm Data'!J:J,0)) -> Aidan Van Metre
A43: =CONCATENATE(B30,B43) -> 2b | B43: b | C43: =INDEX('5 tm Data'!L:L,MATCH('5 tm MV'!A43,'5 tm Data'!J:J,0)) -> Brett Gamber
A44: =CONCATENATE(B30,B44) -> 2c | B44: c | C44: =INDEX('5 tm Data'!L:L,MATCH('5 tm MV'!A44,'5 tm Data'!J:J,0)) -> Ethan Diehl
A45: =CONCATENATE(B30,B45) -> 2d | B45: d | C45: =INDEX('5 tm Data'!L:L,MATCH('5 tm MV'!A45,'5 tm Data'!J:J,0)) -> Josh King
A46: =CONCATENATE(B30,B46) -> 2e | B46: e | C46: =INDEX('5 tm Data'!L:L,MATCH('5 tm MV'!A46,'5 tm Data'!J:J,0)) -> Ken Rowland
A47: =CONCATENATE(B30,B47) -> 2f | B47: f | C47: =INDEX('5 tm Data'!L:L,MATCH('5 tm MV'!A47,'5 tm Data'!J:J,0)) -> Nate Ebner
A48: =CONCATENATE(B30,B48) -> 2g | B48: g | C48: =INDEX('5 tm Data'!L:L,MATCH('5 tm MV'!A48,'5 tm Data'!J:J,0)) -> Paul Stigall
A49: =CONCATENATE(B30,B49) -> 2h | B49: h | C49: =INDEX('5 tm Data'!L:L,MATCH('5 tm MV'!A49,'5 tm Data'!J:J,0)) -> Peter (PJ) Dokolas
C50: Total
C51: Opponent Series
C53: Win/Loss
A59: Team | B59: 3 | C59: ='5 tm Data'!$A$2 -> NAIA West - I
G65: =INDEX('5 tm Data'!C:C,MATCH('5 tm MV'!B59,'5 tm Data'!B:B,0)) -> Barton Community College - Men/mixed - Varsity
C70: Bowler Name | F70: Game 1 | H70: Game 2 | J70: Game 3 | L70: Game 4 | N70: Game 5 | P70: Total
A71: =CONCATENATE(B59,B71) -> 3a | B71: a | C71: =INDEX('5 tm Data'!L:L,MATCH('5 tm MV'!A71,'5 tm Data'!J:J,0)) -> Alex Wheat
A72: =CONCATENATE(B59,B72) -> 3b | B72: b | C72: =INDEX('5 tm Data'!L:L,MATCH('5 tm MV'!A72,'5 tm Data'!J:J,0)) -> Braydon Bastin
A73: =CONCATENATE(B59,B73) -> 3c | B73: c | C73: =INDEX('5 tm Data'!L:L,MATCH('5 tm MV'!A73,'5 tm Data'!J:J,0)) -> Campbell Peterson
A74: =CONCATENATE(B59,B74) -> 3d | B74: d | C74: =INDEX('5 tm Data'!L:L,MATCH('5 tm MV'!A74,'5 tm Data'!J:J,0)) -> Carter Lambeth
A75: =CONCATENATE(B59,B75) -> 3e | B75: e | C75: =INDEX('5 tm Data'!L:L,MATCH('5 tm MV'!A75,'5 tm Data'!J:J,0)) -> Cole Brown
A76: =CONCATENATE(B59,B76) -> 3f | B76: f | C76: =INDEX('5 tm Data'!L:L,MATCH('5 tm MV'!A76,'5 tm Data'!J:J,0)) -> Khalil Sanchez
A77: =CONCATENATE(B59,B77) -> 3g | B77: g | C77: =INDEX('5 tm Data'!L:L,MATCH('5 tm MV'!A77,'5 tm Data'!J:J,0)) -> Logan Lindsley
A78: =CONCATENATE(B59,B78) -> 3h | B78: h | C78: =INDEX('5 tm Data'!L:L,MATCH('5 tm MV'!A78,'5 tm Data'!J:J,0)) -> Torrey Lindsay
C79: Total
C80: Opponent Series
C82: Win/Loss
A88: Team | B88: 4 | C88: ='5 tm Data'!$A$2 -> NAIA West - I
G94: =INDEX('5 tm Data'!C:C,MATCH('5 tm MV'!B88,'5 tm Data'!B:B,0)) -> Culver-Stockton College - Men/mixed - Varsity
C99: Bowler Name | F99: Game 1 | H99: Game 2 | J99: Game 3 | L99: Game 4 | N99: Game 5 | P99: Total
A100: =CONCATENATE(B88,B100) -> 4a | B100: a | C100: =INDEX('5 tm Data'!L:L,MATCH('5 tm MV'!A100,'5 tm Data'!J:J,0)) -> Ashton Weilandich
A101: =CONCATENATE(B88,B101) -> 4b | B101: b | C101: =INDEX('5 tm Data'!L:L,MATCH('5 tm MV'!A101,'5 tm Data'!J:J,0)) -> Gavin Moeller
A102: =CONCATENATE(B88,B102) -> 4c | B102: c | C102: =INDEX('5 tm Data'!L:L,MATCH('5 tm MV'!A102,'5 tm Data'!J:J,0)) -> Jake Evitts
A103: =CONCATENATE(B88,B103) -> 4d | B103: d | C103: =INDEX('5 tm Data'!L:L,MATCH('5 tm MV'!A103,'5 tm Data'!J:J,0)) -> Kody Birmes
A104: =CONCATENATE(B88,B104) -> 4e | B104: e | C104: =INDEX('5 tm Data'!L:L,MATCH('5 tm MV'!A104,'5 tm Data'!J:J,0)) -> Levi Staley
A105: =CONCATENATE(B88,B105) -> 4f | B105: f | C105: =INDEX('5 tm Data'!L:L,MATCH('5 tm MV'!A105,'5 tm Data'!J:J,0)) -> Mason Will
A106: =CONCATENATE(B88,B106) -> 4g | B106: g | C106: =INDEX('5 tm Data'!L:L,MATCH('5 tm MV'!A106,'5 tm Data'!J:J,0)) -> 0
A107: =CONCATENATE(B88,B107) -> 4h | B107: h | C107: =INDEX('5 tm Data'!L:L,MATCH('5 tm MV'!A107,'5 tm Data'!J:J,0)) -> 0
C108: Total
C109: Opponent Series
C111: Win/Loss
A117: Team | B117: 5 | C117: ='5 tm Data'!$A$2 -> NAIA West - I
G123: =INDEX('5 tm Data'!C:C,MATCH('5 tm MV'!B117,'5 tm Data'!B:B,0)) -> Drury University - Men/mixed - Varsity
C128: Bowler Name | F128: Game 1 | H128: Game 2 | J128: Game 3 | L128: Game 4 | N128: Game 5 | P128: Total
A129: =CONCATENATE(B117,B129) -> 5a | B129: a | C129: =INDEX('5 tm Data'!L:L,MATCH('5 tm MV'!A129,'5 tm Data'!J:J,0)) -> Billy Tropepe
A130: =CONCATENATE(B117,B130) -> 5b | B130: b | C130: =INDEX('5 tm Data'!L:L,MATCH('5 tm MV'!A130,'5 tm Data'!J:J,0)) -> Charlie Robinson
A131: =CONCATENATE(B117,B131) -> 5c | B131: c | C131: =INDEX('5 tm Data'!L:L,MATCH('5 tm MV'!A131,'5 tm Data'!J:J,0)) -> Haden Barbee
A132: =CONCATENATE(B117,B132) -> 5d | B132: d | C132: =INDEX('5 tm Data'!L:L,MATCH('5 tm MV'!A132,'5 tm Data'!J:J,0)) -> Jeremy Vanost
A133: =CONCATENATE(B117,B133) -> 5e | B133: e | C133: =INDEX('5 tm Data'!L:L,MATCH('5 tm MV'!A133,'5 tm Data'!J:J,0)) -> Nicholas Patterson
A134: =CONCATENATE(B117,B134) -> 5f | B134: f | C134: =INDEX('5 tm Data'!L:L,MATCH('5 tm MV'!A134,'5 tm Data'!J:J,0)) -> Parker Watson
A135: =CONCATENATE(B117,B135) -> 5g | B135: g | C135: =INDEX('5 tm Data'!L:L,MATCH('5 tm MV'!A135,'5 tm Data'!J:J,0)) -> Trayton Cherry
A136: =CONCATENATE(B117,B136) -> 5h | B136: h | C136: =INDEX('5 tm Data'!L:L,MATCH('5 tm MV'!A136,'5 tm Data'!J:J,0)) -> 0
C137: Total
C138: Opponent Series
C140: Win/Loss
A146: Team | B146: 6 | C146: ='5 tm Data'!$A$2 -> NAIA West - I
G152: =INDEX('5 tm Data'!C:C,MATCH('5 tm MV'!B146,'5 tm Data'!B:B,0)) -> Grand View Uniiversity - Men/mixed - Varsity
C157: Bowler Name | F157: Game 1 | H157: Game 2 | J157: Game 3 | L157: Game 4 | N157: Game 5 | P157: Total
A158: =CONCATENATE(B146,B158) -> 6a | B158: a | C158: =INDEX('5 tm Data'!L:L,MATCH('5 tm MV'!A158,'5 tm Data'!J:J,0)) -> Andru Wilder
A159: =CONCATENATE(B146,B159) -> 6b | B159: b | C159: =INDEX('5 tm Data'!L:L,MATCH('5 tm MV'!A159,'5 tm Data'!J:J,0)) -> Jonathan Featherston
A160: =CONCATENATE(B146,B160) -> 6c | B160: c | C160: =INDEX('5 tm Data'!L:L,MATCH('5 tm MV'!A160,'5 tm Data'!J:J,0)) -> Justin Graves
A161: =CONCATENATE(B146,B161) -> 6d | B161: d | C161: =INDEX('5 tm Data'!L:L,MATCH('5 tm MV'!A161,'5 tm Data'!J:J,0)) -> Kory Ludden
A162: =CONCATENATE(B146,B162) -> 6e | B162: e | C162: =INDEX('5 tm Data'!L:L,MATCH('5 tm MV'!A162,'5 tm Data'!J:J,0)) -> Sam Kock
A163: =CONCATENATE(B146,B163) -> 6f | B163: f | C163: =INDEX('5 tm Data'!L:L,MATCH('5 tm MV'!A163,'5 tm Data'!J:J,0)) -> Skyler Vong
A164: =CONCATENATE(B146,B164) -> 6g | B164: g | C164: =INDEX('5 tm Data'!L:L,MATCH('5 tm MV'!A164,'5 tm Data'!J:J,0)) -> Xander Pickett
A165: =CONCATENATE(B146,B165) -> 6h | B165: h | C165: =INDEX('5 tm Data'!L:L,MATCH('5 tm MV'!A165,'5 tm Data'!J:J,0)) -> 0
C166: Total
C167: Opponent Series
C169: Win/Loss
A175: Team | B175: 7 | C175: ='5 tm Data'!$A$2 -> NAIA West - I
G181: =INDEX('5 tm Data'!C:C,MATCH('5 tm MV'!B175,'5 tm Data'!B:B,0)) -> Hastings college - Men/mixed - Varsity
C186: Bowler Name | F186: Game 1 | H186: Game 2 | J186: Game 3 | L186: Game 4 | N186: Game 5 | P186: Total
A187: =CONCATENATE(B175,B187) -> 7a | B187: a | C187: =INDEX('5 tm Data'!L:L,MATCH('5 tm MV'!A187,'5 tm Data'!J:J,0)) -> Anthony Morella
A188: =CONCATENATE(B175,B188) -> 7b | B188: b | C188: =INDEX('5 tm Data'!L:L,MATCH('5 tm MV'!A188,'5 tm Data'!J:J,0)) -> Brandon Engels
A189: =CONCATENATE(B175,B189) -> 7c | B189: c | C189: =INDEX('5 tm Data'!L:L,MATCH('5 tm MV'!A189,'5 tm Data'!J:J,0)) -> Colin Jaster
A190: =CONCATENATE(B175,B190) -> 7d | B190: d | C190: =INDEX('5 tm Data'!L:L,MATCH('5 tm MV'!A190,'5 tm Data'!J:J,0)) -> Ethan Lester
A191: =CONCATENATE(B175,B191) -> 7e | B191: e | C191: =INDEX('5 tm Data'!L:L,MATCH('5 tm MV'!A191,'5 tm Data'!J:J,0)) -> Kaden Kuusela
A192: =CONCATENATE(B175,B192) -> 7f | B192: f | C192: =INDEX('5 tm Data'!L:L,MATCH('5 tm MV'!A192,'5 tm Data'!J:J,0)) -> Nathan Stinemates
A193: =CONCATENATE(B175,B193) -> 7g | B193: g | C193: =INDEX('5 tm Data'!L:L,MATCH('5 tm MV'!A193,'5 tm Data'!J:J,0)) -> Trevor Seeley
A194: =CONCATENATE(B175,B194) -> 7h | B194: h | C194: =INDEX('5 tm Data'!L:L,MATCH('5 tm MV'!A194,'5 tm Data'!J:J,0)) -> Tyler Call
C195: Total
C196: Opponent Series
C198: Win/Loss
A204: Team | B204: 8 | C204: ='5 tm Data'!$A$2 -> NAIA West - I
G210: =INDEX('5 tm Data'!C:C,MATCH('5 tm MV'!B204,'5 tm Data'!B:B,0)) -> Kansas Wesleyan - Men/mixed - Varsity
...

Sheet 5 tm MJV
A1: Team | B1: 1 | C1: ='5 tm Data'!$A$2 -> NAIA West - I
G7: =INDEX('5 tm Data'!E:E,MATCH('5 tm MJV'!B1,'5 tm Data'!D:D,0)) -> Avila University - Men/mixed - JV1
C12: Bowler Name | F12: Game 1 | H12: Game 2 | J12: Game 3 | L12: Game 4 | N12: Game 5 | P12: Total
A13: =CONCATENATE(B1,B13) -> 1a | B13: a | C13: =INDEX('5 tm Data'!P:P,MATCH('5 tm MJV'!A13,'5 tm Data'!N:N,0)) -> Caleb Wangler
A14: =CONCATENATE(B1,B14) -> 1b | B14: b | C14: =INDEX('5 tm Data'!P:P,MATCH('5 tm MJV'!A14,'5 tm Data'!N:N,0)) -> Coel Shepherd
A15: =CONCATENATE(B1,B15) -> 1c | B15: c | C15: =INDEX('5 tm Data'!P:P,MATCH('5 tm MJV'!A15,'5 tm Data'!N:N,0)) -> Jacob Thompson
A16: =CONCATENATE(B1,B16) -> 1d | B16: d | C16: =INDEX('5 tm Data'!P:P,MATCH('5 tm MJV'!A16,'5 tm Data'!N:N,0)) -> Josh Oldham
A17: =CONCATENATE(B1,B17) -> 1e | B17: e | C17: =INDEX('5 tm Data'!P:P,MATCH('5 tm MJV'!A17,'5 tm Data'!N:N,0)) -> Nic Garza
A18: =CONCATENATE(B1,B18) -> 1f | B18: f | C18: =INDEX('5 tm Data'!P:P,MATCH('5 tm MJV'!A18,'5 tm Data'!N:N,0)) -> 0
A19: =CONCATENATE(B1,B19) -> 1g | B19: g | C19: =INDEX('5 tm Data'!P:P,MATCH('5 tm MJV'!A19,'5 tm Data'!N:N,0)) -> 0
A20: =CONCATENATE(B1,B20) -> 1h | B20: h | C20: =INDEX('5 tm Data'!P:P,MATCH('5 tm MJV'!A20,'5 tm Data'!N:N,0)) -> 0
C21: Total
C22: Opponent Series
C24: Win/Loss
C26: Please text a picture of scores to Jared at 785-312-4677 after each team game and 4 baker games
A30: Team | B30: 2 | C30: ='5 tm Data'!$A$2 -> NAIA West - I
G36: =INDEX('5 tm Data'!E:E,MATCH('5 tm MJV'!B30,'5 tm Data'!D:D,0)) -> Baker University - Men/mixed - JV1
C41: Bowler Name | F41: Game 1 | H41: Game 2 | J41: Game 3 | L41: Game 4 | N41: Game 5 | P41: Total
A42: =CONCATENATE(B30,B42) -> 2a | B42: a | C42: =INDEX('5 tm Data'!P:P,MATCH('5 tm MJV'!A42,'5 tm Data'!N:N,0)) -> Alex Spencer | F42: 173
A43: =CONCATENATE(B30,B43) -> 2b | B43: b | C43: =INDEX('5 tm Data'!P:P,MATCH('5 tm MJV'!A43,'5 tm Data'!N:N,0)) -> Cole Walker | F43: 169
A44: =CONCATENATE(B30,B44) -> 2c | B44: c | C44: =INDEX('5 tm Data'!P:P,MATCH('5 tm MJV'!A44,'5 tm Data'!N:N,0)) -> Deken Penny
A45: =CONCATENATE(B30,B45) -> 2d | B45: d | C45: =INDEX('5 tm Data'!P:P,MATCH('5 tm MJV'!A45,'5 tm Data'!N:N,0)) -> Devyn Schaper
A46: =CONCATENATE(B30,B46) -> 2e | B46: e | C46: =INDEX('5 tm Data'!P:P,MATCH('5 tm MJV'!A46,'5 tm Data'!N:N,0)) -> Landon Scott | F46: 135
A47: =CONCATENATE(B30,B47) -> 2f | B47: f | C47: =INDEX('5 tm Data'!P:P,MATCH('5 tm MJV'!A47,'5 tm Data'!N:N,0)) -> Nate Ebner | F47: 166
A48: =CONCATENATE(B30,B48) -> 2g | B48: g | C48: =INDEX('5 tm Data'!P:P,MATCH('5 tm MJV'!A48,'5 tm Data'!N:N,0)) -> TaRon Graham
A49: =CONCATENATE(B30,B49) -> 2h | B49: h | C49: =INDEX('5 tm Data'!P:P,MATCH('5 tm MJV'!A49,'5 tm Data'!N:N,0)) -> Vincent Valdez | F49: 195
C50: Total | F50: 838
C51: Opponent Series | F51: 659
C53: Win/Loss | F53: win
C55: Please text a picture of scores to Jared at 785-312-4677 after each team game and 4 baker games
A59: Team | B59: 3 | C59: ='5 tm Data'!$A$2 -> NAIA West - I
G65: =INDEX('5 tm Data'!E:E,MATCH('5 tm MJV'!B59,'5 tm Data'!D:D,0)) -> Kansas Wesleyan - Men/mixed - JV1
C70: Bowler Name | F70: Game 1 | H70: Game 2 | J70: Game 3 | L70: Game 4 | N70: Game 5 | P70: Total
A71: =CONCATENATE(B59,B71) -> 3a | B71: a | C71: =INDEX('5 tm Data'!P:P,MATCH('5 tm MJV'!A71,'5 tm Data'!N:N,0)) -> Jesse Owens
A72: =CONCATENATE(B59,B72) -> 3b | B72: b | C72: =INDEX('5 tm Data'!P:P,MATCH('5 tm MJV'!A72,'5 tm Data'!N:N,0)) -> Jordan Trammell
A73: =CONCATENATE(B59,B73) -> 3c | B73: c | C73: =INDEX('5 tm Data'!P:P,MATCH('5 tm MJV'!A73,'5 tm Data'!N:N,0)) -> Kayden Molene
A74: =CONCATENATE(B59,B74) -> 3d | B74: d | C74: =INDEX('5 tm Data'!P:P,MATCH('5 tm MJV'!A74,'5 tm Data'!N:N,0)) -> Kevin Eghabali
A75: =CONCATENATE(B59,B75) -> 3e | B75: e | C75: =INDEX('5 tm Data'!P:P,MATCH('5 tm MJV'!A75,'5 tm Data'!N:N,0)) -> William McNeil
A76: =CONCATENATE(B59,B76) -> 3f | B76: f | C76: =INDEX('5 tm Data'!P:P,MATCH('5 tm MJV'!A76,'5 tm Data'!N:N,0)) -> 0
A77: =CONCATENATE(B59,B77) -> 3g | B77: g | C77: =INDEX('5 tm Data'!P:P,MATCH('5 tm MJV'!A77,'5 tm Data'!N:N,0)) -> 0
A78: =CONCATENATE(B59,B78) -> 3h | B78: h | C78: =INDEX('5 tm Data'!P:P,MATCH('5 tm MJV'!A78,'5 tm Data'!N:N,0)) -> 0
C79: Total
C80: Opponent Series
C82: Win/Loss
C84: Please text a picture of scores to Jared at 785-312-4677 after each team game and 4 baker games
A88: Team | B88: 4 | C88: ='5 tm Data'!$A$2 -> NAIA West - I
G94: =INDEX('5 tm Data'!E:E,MATCH('5 tm MJV'!B88,'5 tm Data'!D:D,0)) -> Midland University - Men/mixed - JV1
C99: Bowler Name | F99: Game 1 | H99: Game 2 | J99: Game 3 | L99: Game 4 | N99: Game 5 | P99: Total
A100: =CONCATENATE(B88,B100) -> 4a | B100: a | C100: =INDEX('5 tm Data'!P:P,MATCH('5 tm MJV'!A100,'5 tm Data'!N:N,0)) -> ADDISON JOHNSON
A101: =CONCATENATE(B88,B101) -> 4b | B101: b | C101: =INDEX('5 tm Data'!P:P,MATCH('5 tm MJV'!A101,'5 tm Data'!N:N,0)) -> CAMRYN STEFANINI
A102: =CONCATENATE(B88,B102) -> 4c | B102: c | C102: =INDEX('5 tm Data'!P:P,MATCH('5 tm MJV'!A102,'5 tm Data'!N:N,0)) -> CHRISTOPHER TALIVA’A
A103: =CONCATENATE(B88,B103) -> 4d | B103: d | C103: =INDEX('5 tm Data'!P:P,MATCH('5 tm MJV'!A103,'5 tm Data'!N:N,0)) -> NATE HARTJE
A104: =CONCATENATE(B88,B104) -> 4e | B104: e | C104: =INDEX('5 tm Data'!P:P,MATCH('5 tm MJV'!A104,'5 tm Data'!N:N,0)) -> TRISTYN FORDE
A105: =CONCATENATE(B88,B105) -> 4f | B105: f | C105: =INDEX('5 tm Data'!P:P,MATCH('5 tm MJV'!A105,'5 tm Data'!N:N,0)) -> 0
A106: =CONCATENATE(B88,B106) -> 4g | B106: g | C106: =INDEX('5 tm Data'!P:P,MATCH('5 tm MJV'!A106,'5 tm Data'!N:N,0)) -> 0
A107: =CONCATENATE(B88,B107) -> 4h | B107: h | C107: =INDEX('5 tm Data'!P:P,MATCH('5 tm MJV'!A107,'5 tm Data'!N:N,0)) -> 0
C108: Total
C109: Opponent Series
C111: Win/Loss
C113: Please text a picture of scores to Jared at 785-312-4677 after each team game and 4 baker games
A117: Team | B117: 5 | C117: ='5 tm Data'!$A$2 -> NAIA West - I
G123: =INDEX('5 tm Data'!E:E,MATCH('5 tm MJV'!B117,'5 tm Data'!D:D,0)) -> Missouri Valley College - Men/mixed - JV1
C128: Bowler Name | F128: Game 1 | H128: Game 2 | J128: Game 3 | L128: Game 4 | N128: Game 5 | P128: Total
A129: =CONCATENATE(B117,B129) -> 5a | B129: a | C129: =INDEX('5 tm Data'!P:P,MATCH('5 tm MJV'!A129,'5 tm Data'!N:N,0)) -> Chris Allison
A130: =CONCATENATE(B117,B130) -> 5b | B130: b | C130: =INDEX('5 tm Data'!P:P,MATCH('5 tm MJV'!A130,'5 tm Data'!N:N,0)) -> Colton Herrin
A131: =CONCATENATE(B117,B131) -> 5c | B131: c | C131: =INDEX('5 tm Data'!P:P,MATCH('5 tm MJV'!A131,'5 tm Data'!N:N,0)) -> Kayla Cowell
A132: =CONCATENATE(B117,B132) -> 5d | B132: d | C132: =INDEX('5 tm Data'!P:P,MATCH('5 tm MJV'!A132,'5 tm Data'!N:N,0)) -> Natilie Briggs
A133: =CONCATENATE(B117,B133) -> 5e | B133: e | C133: =INDEX('5 tm Data'!P:P,MATCH('5 tm MJV'!A133,'5 tm Data'!N:N,0)) -> Sydney Ryder
A134: =CONCATENATE(B117,B134) -> 5f | B134: f | C134: =INDEX('5 tm Data'!P:P,MATCH('5 tm MJV'!A134,'5 tm Data'!N:N,0)) -> 0
A135: =CONCATENATE(B117,B135) -> 5g | B135: g | C135: =INDEX('5 tm Data'!P:P,MATCH('5 tm MJV'!A135,'5 tm Data'!N:N,0)) -> 0
A136: =CONCATENATE(B117,B136) -> 5h | B136: h | C136: =INDEX('5 tm Data'!P:P,MATCH('5 tm MJV'!A136,'5 tm Data'!N:N,0)) -> 0
C137: Total
C138: Opponent Series
C140: Win/Loss
C142: Please text a picture of scores to Jared at 785-312-4677 after each team game and 4 baker games
A146: Team | B146: 6 | C146: ='5 tm Data'!$A$2 -> NAIA West - I
G152: =INDEX('5 tm Data'!E:E,MATCH('5 tm MJV'!B146,'5 tm Data'!D:D,0)) -> Ottawa University - Men/mixed - JV1
C157: Bowler Name | F157: Game 1 | H157: Game 2 | J157: Game 3 | L157: Game 4 | N157: Game 5 | P157: Total
A158: =CONCATENATE(B146,B158) -> 6a | B158: a | C158: =INDEX('5 tm Data'!P:P,MATCH('5 tm MJV'!A158,'5 tm Data'!N:N,0)) -> Achilles Reyes
A159: =CONCATENATE(B146,B159) -> 6b | B159: b | C159: =INDEX('5 tm Data'!P:P,MATCH('5 tm MJV'!A159,'5 tm Data'!N:N,0)) -> Ashton Reyes
A160: =CONCATENATE(B146,B160) -> 6c | B160: c | C160: =INDEX('5 tm Data'!P:P,MATCH('5 tm MJV'!A160,'5 tm Data'!N:N,0)) -> Cole Clough
A161: =CONCATENATE(B146,B161) -> 6d | B161: d | C161: =INDEX('5 tm Data'!P:P,MATCH('5 tm MJV'!A161,'5 tm Data'!N:N,0)) -> Elijah Cousins
A162: =CONCATENATE(B146,B162) -> 6e | B162: e | C162: =INDEX('5 tm Data'!P:P,MATCH('5 tm MJV'!A162,'5 tm Data'!N:N,0)) -> Ian Carpenter
A163: =CONCATENATE(B146,B163) -> 6f | B163: f | C163: =INDEX('5 tm Data'!P:P,MATCH('5 tm MJV'!A163,'5 tm Data'!N:N,0)) -> Shay White
A164: =CONCATENATE(B146,B164) -> 6g | B164: g | C164: =INDEX('5 tm Data'!P:P,MATCH('5 tm MJV'!A164,'5 tm Data'!N:N,0)) -> Spencer Griffin
A165: =CONCATENATE(B146,B165) -> 6h | B165: h | C165: =INDEX('5 tm Data'!P:P,MATCH('5 tm MJV'!A165,'5 tm Data'!N:N,0)) -> 0
C166: Total
C167: Opponent Series
C169: Win/Loss
C171: Please text a picture of scores to Jared at 785-312-4677 after each team game and 4 baker games
A175: Team | B175: 7 | C175: ='5 tm Data'!$A$2 -> NAIA West - I
G181: =INDEX('5 tm Data'!E:E,MATCH('5 tm MJV'!B175,'5 tm Data'!D:D,0)) -> University of Kansas - Men/mixed - JV1
C186: Bowler Name | F186: Game 1 | H186: Game 2 | J186: Game 3 | L186: Game 4 | N186: Game 5 | P186: Total
A187: =CONCATENATE(B175,B187) -> 7a | B187: a | C187: =INDEX('5 tm Data'!P:P,MATCH('5 tm MJV'!A187,'5 tm Data'!N:N,0)) -> Adam Trawick
A188: =CONCATENATE(B175,B188) -> 7b | B188: b | C188: =INDEX('5 tm Data'!P:P,MATCH('5 tm MJV'!A188,'5 tm Data'!N:N,0)) -> Ben Witty
A189: =CONCATENATE(B175,B189) -> 7c | B189: c | C189: =INDEX('5 tm Data'!P:P,MATCH('5 tm MJV'!A189,'5 tm Data'!N:N,0)) -> Jacob Fonyi
A190: =CONCATENATE(B175,B190) -> 7d | B190: d | C190: =INDEX('5 tm Data'!P:P,MATCH('5 tm MJV'!A190,'5 tm Data'!N:N,0)) -> Kellen McGowan
A191: =CONCATENATE(B175,B191) -> 7e | B191: e | C191: =INDEX('5 tm Data'!P:P,MATCH('5 tm MJV'!A191,'5 tm Data'!N:N,0)) -> Krrish Sapra | Z191: \
A192: =CONCATENATE(B175,B192) -> 7f | B192: f | C192: =INDEX('5 tm Data'!P:P,MATCH('5 tm MJV'!A192,'5 tm Data'!N:N,0)) -> 0
A193: =CONCATENATE(B175,B193) -> 7g | B193: g | C193: =INDEX('5 tm Data'!P:P,MATCH('5 tm MJV'!A193,'5 tm Data'!N:N,0)) -> 0
...

Sheet 5 tm WV
A1: Team | B1: 1 | C1: ='5 tm Data'!$A$2 -> NAIA West - I
G7: =INDEX('5 tm Data'!G:G,MATCH('5 tm WV'!B1,'5 tm Data'!F:F,0)) -> Avila University - Women - Varsity
C12: Bowler Name | F12: Game 1 | H12: Game 2 | J12: Game 3 | L12: Game 4 | N12: Game 5 | P12: Total
A13: =CONCATENATE(B1,B13) -> 1a | B13: a | C13: =INDEX('5 tm Data'!T:T,MATCH('5 tm WV'!A13,'5 tm Data'!R:R,0)) -> Devyn Coleman
A14: =CONCATENATE(B1,B14) -> 1b | B14: b | C14: =INDEX('5 tm Data'!T:T,MATCH('5 tm WV'!A14,'5 tm Data'!R:R,0)) -> Kamdyn Burman
A15: =CONCATENATE(B1,B15) -> 1c | B15: c | C15: =INDEX('5 tm Data'!T:T,MATCH('5 tm WV'!A15,'5 tm Data'!R:R,0)) -> Kiara Gonzalez
A16: =CONCATENATE(B1,B16) -> 1d | B16: d | C16: =INDEX('5 tm Data'!T:T,MATCH('5 tm WV'!A16,'5 tm Data'!R:R,0)) -> Kirsten Zirjacks
A17: =CONCATENATE(B1,B17) -> 1e | B17: e | C17: =INDEX('5 tm Data'!T:T,MATCH('5 tm WV'!A17,'5 tm Data'!R:R,0)) -> Rebeka Fielder
A18: =CONCATENATE(B1,B18) -> 1f | B18: f | C18: =INDEX('5 tm Data'!T:T,MATCH('5 tm WV'!A18,'5 tm Data'!R:R,0)) -> Victoria Bestor
A19: =CONCATENATE(B1,B19) -> 1g | B19: g | C19: =INDEX('5 tm Data'!T:T,MATCH('5 tm WV'!A19,'5 tm Data'!R:R,0)) -> Victoria Leal
A20: =CONCATENATE(B1,B20) -> 1h | B20: h | C20: =INDEX('5 tm Data'!T:T,MATCH('5 tm WV'!A20,'5 tm Data'!R:R,0)) -> Zoe Fox
C21: Total
C22: Opponent Series
C24: Win/Loss
C26: Please text a picture of scores to Jared at 785-312-4677 after each team game and 4 baker games
A30: Team | B30: 2 | C30: ='5 tm Data'!$A$2 -> NAIA West - I
G36: =INDEX('5 tm Data'!G:G,MATCH('5 tm WV'!B30,'5 tm Data'!F:F,0)) -> Baker University - Women - Varsity
C41: Bowler Name | F41: Game 1 | H41: Game 2 | J41: Game 3 | L41: Game 4 | N41: Game 5 | P41: Total
A42: =CONCATENATE(B30,B42) -> 2a | B42: a | C42: =INDEX('5 tm Data'!T:T,MATCH('5 tm WV'!A42,'5 tm Data'!R:R,0)) -> Audrey Valdez
A43: =CONCATENATE(B30,B43) -> 2b | B43: b | C43: =INDEX('5 tm Data'!T:T,MATCH('5 tm WV'!A43,'5 tm Data'!R:R,0)) -> Darby Hauff
A44: =CONCATENATE(B30,B44) -> 2c | B44: c | C44: =INDEX('5 tm Data'!T:T,MATCH('5 tm WV'!A44,'5 tm Data'!R:R,0)) -> Dylan Holmes
A45: =CONCATENATE(B30,B45) -> 2d | B45: d | C45: =INDEX('5 tm Data'!T:T,MATCH('5 tm WV'!A45,'5 tm Data'!R:R,0)) -> Elizabeth Suchor
A46: =CONCATENATE(B30,B46) -> 2e | B46: e | C46: =INDEX('5 tm Data'!T:T,MATCH('5 tm WV'!A46,'5 tm Data'!R:R,0)) -> Kaleigh Buckalew
A47: =CONCATENATE(B30,B47) -> 2f | B47: f | C47: =INDEX('5 tm Data'!T:T,MATCH('5 tm WV'!A47,'5 tm Data'!R:R,0)) -> Majayla Boyd
A48: =CONCATENATE(B30,B48) -> 2g | B48: g | C48: =INDEX('5 tm Data'!T:T,MATCH('5 tm WV'!A48,'5 tm Data'!R:R,0)) -> Skyler Holmes
A49: =CONCATENATE(B30,B49) -> 2h | B49: h | C49: =INDEX('5 tm Data'!T:T,MATCH('5 tm WV'!A49,'5 tm Data'!R:R,0)) -> 0
C50: Total
C51: Opponent Series
C53: Win/Loss
A59: Team | B59: 3 | C59: ='5 tm Data'!$A$2 -> NAIA West - I
G65: =INDEX('5 tm Data'!G:G,MATCH('5 tm WV'!B59,'5 tm Data'!F:F,0)) -> Barton Community College - Women - Varsity
C70: Bowler Name | F70: Game 1 | H70: Game 2 | J70: Game 3 | L70: Game 4 | N70: Game 5 | P70: Total
A71: =CONCATENATE(B59,B71) -> 3a | B71: a | C71: =INDEX('5 tm Data'!T:T,MATCH('5 tm WV'!A71,'5 tm Data'!R:R,0)) -> Alexis Wareman
A72: =CONCATENATE(B59,B72) -> 3b | B72: b | C72: =INDEX('5 tm Data'!T:T,MATCH('5 tm WV'!A72,'5 tm Data'!R:R,0)) -> Chailyn Scott
A73: =CONCATENATE(B59,B73) -> 3c | B73: c | C73: =INDEX('5 tm Data'!T:T,MATCH('5 tm WV'!A73,'5 tm Data'!R:R,0)) -> Ellie Weeks
A74: =CONCATENATE(B59,B74) -> 3d | B74: d | C74: =INDEX('5 tm Data'!T:T,MATCH('5 tm WV'!A74,'5 tm Data'!R:R,0)) -> Hope Huslig
A75: =CONCATENATE(B59,B75) -> 3e | B75: e | C75: =INDEX('5 tm Data'!T:T,MATCH('5 tm WV'!A75,'5 tm Data'!R:R,0)) -> JaeLinn Thetford
A76: =CONCATENATE(B59,B76) -> 3f | B76: f | C76: =INDEX('5 tm Data'!T:T,MATCH('5 tm WV'!A76,'5 tm Data'!R:R,0)) -> Jordan McKenzie
A77: =CONCATENATE(B59,B77) -> 3g | B77: g | C77: =INDEX('5 tm Data'!T:T,MATCH('5 tm WV'!A77,'5 tm Data'!R:R,0)) -> McKenzie Craig
A78: =CONCATENATE(B59,B78) -> 3h | B78: h | C78: =INDEX('5 tm Data'!T:T,MATCH('5 tm WV'!A78,'5 tm Data'!R:R,0)) -> Zoe Wimmer
C79: Total
C80: Opponent Series
C82: Win/Loss
A88: Team | B88: 4 | C88: ='5 tm Data'!$A$2 -> NAIA West - I
G94: =INDEX('5 tm Data'!G:G,MATCH('5 tm WV'!B88,'5 tm Data'!F:F,0)) -> Culver-Stockton College - Women - Varsity
C99: Bowler Name | F99: Game 1 | H99: Game 2 | J99: Game 3 | L99: Game 4 | N99: Game 5 | P99: Total
A100: =CONCATENATE(B88,B100) -> 4a | B100: a | C100: =INDEX('5 tm Data'!T:T,MATCH('5 tm WV'!A100,'5 tm Data'!R:R,0)) -> Andi Woods
A101: =CONCATENATE(B88,B101) -> 4b | B101: b | C101: =INDEX('5 tm Data'!T:T,MATCH('5 tm WV'!A101,'5 tm Data'!R:R,0)) -> Angela Uhl
A102: =CONCATENATE(B88,B102) -> 4c | B102: c | C102: =INDEX('5 tm Data'!T:T,MATCH('5 tm WV'!A102,'5 tm Data'!R:R,0)) -> Jasmine Saunders
A103: =CONCATENATE(B88,B103) -> 4d | B103: d | C103: =INDEX('5 tm Data'!T:T,MATCH('5 tm WV'!A103,'5 tm Data'!R:R,0)) -> Jersey Lessenger
A104: =CONCATENATE(B88,B104) -> 4e | B104: e | C104: =INDEX('5 tm Data'!T:T,MATCH('5 tm WV'!A104,'5 tm Data'!R:R,0)) -> Katelin Valentine
A105: =CONCATENATE(B88,B105) -> 4f | B105: f | C105: =INDEX('5 tm Data'!T:T,MATCH('5 tm WV'!A105,'5 tm Data'!R:R,0)) -> Rachel Moore
A106: =CONCATENATE(B88,B106) -> 4g | B106: g | C106: =INDEX('5 tm Data'!T:T,MATCH('5 tm WV'!A106,'5 tm Data'!R:R,0)) -> Rilee Allen
A107: =CONCATENATE(B88,B107) -> 4h | B107: h | C107: =INDEX('5 tm Data'!T:T,MATCH('5 tm WV'!A107,'5 tm Data'!R:R,0)) -> 0
C108: Total
C109: Opponent Series
C111: Win/Loss
A117: Team | B117: 5 | C117: ='5 tm Data'!$A$2 -> NAIA West - I
G123: =INDEX('5 tm Data'!G:G,MATCH('5 tm WV'!B117,'5 tm Data'!F:F,0)) -> Grand View University - Women - Varsity
C128: Bowler Name | F128: Game 1 | H128: Game 2 | J128: Game 3 | L128: Game 4 | N128: Game 5 | P128: Total
A129: =CONCATENATE(B117,B129) -> 5a | B129: a | C129: =INDEX('5 tm Data'!T:T,MATCH('5 tm WV'!A129,'5 tm Data'!R:R,0)) -> Brianna Musgrave
A130: =CONCATENATE(B117,B130) -> 5b | B130: b | C130: =INDEX('5 tm Data'!T:T,MATCH('5 tm WV'!A130,'5 tm Data'!R:R,0)) -> Chastyn Gering
A131: =CONCATENATE(B117,B131) -> 5c | B131: c | C131: =INDEX('5 tm Data'!T:T,MATCH('5 tm WV'!A131,'5 tm Data'!R:R,0)) -> Isabel Tetmeyer
A132: =CONCATENATE(B117,B132) -> 5d | B132: d | C132: =INDEX('5 tm Data'!T:T,MATCH('5 tm WV'!A132,'5 tm Data'!R:R,0)) -> Kennady Bigwood
A133: =CONCATENATE(B117,B133) -> 5e | B133: e | C133: =INDEX('5 tm Data'!T:T,MATCH('5 tm WV'!A133,'5 tm Data'!R:R,0)) -> Kylie Arai
A134: =CONCATENATE(B117,B134) -> 5f | B134: f | C134: =INDEX('5 tm Data'!T:T,MATCH('5 tm WV'!A134,'5 tm Data'!R:R,0)) -> Madison Pickett
A135: =CONCATENATE(B117,B135) -> 5g | B135: g | C135: =INDEX('5 tm Data'!T:T,MATCH('5 tm WV'!A135,'5 tm Data'!R:R,0)) -> Michelle Stewart
A136: =CONCATENATE(B117,B136) -> 5h | B136: h | C136: =INDEX('5 tm Data'!T:T,MATCH('5 tm WV'!A136,'5 tm Data'!R:R,0)) -> 0
C137: Total
C138: Opponent Series
C140: Win/Loss
A146: Team | B146: 6 | C146: ='5 tm Data'!$A$2 -> NAIA West - I
G152: =INDEX('5 tm Data'!G:G,MATCH('5 tm WV'!B146,'5 tm Data'!F:F,0)) -> Hastings College - Women - Varsity
C157: Bowler Name | F157: Game 1 | H157: Game 2 | J157: Game 3 | L157: Game 4 | N157: Game 5 | P157: Total
A158: =CONCATENATE(B146,B158) -> 6a | B158: a | C158: =INDEX('5 tm Data'!T:T,MATCH('5 tm WV'!A158,'5 tm Data'!R:R,0)) -> Allyson Heidenreich
A159: =CONCATENATE(B146,B159) -> 6b | B159: b | C159: =INDEX('5 tm Data'!T:T,MATCH('5 tm WV'!A159,'5 tm Data'!R:R,0)) -> Alyssa Currie
A160: =CONCATENATE(B146,B160) -> 6c | B160: c | C160: =INDEX('5 tm Data'!T:T,MATCH('5 tm WV'!A160,'5 tm Data'!R:R,0)) -> Breanna Miller
A161: =CONCATENATE(B146,B161) -> 6d | B161: d | C161: =INDEX('5 tm Data'!T:T,MATCH('5 tm WV'!A161,'5 tm Data'!R:R,0)) -> Langley Riha
A162: =CONCATENATE(B146,B162) -> 6e | B162: e | C162: =INDEX('5 tm Data'!T:T,MATCH('5 tm WV'!A162,'5 tm Data'!R:R,0)) -> Madison Henderson
A163: =CONCATENATE(B146,B163) -> 6f | B163: f | C163: =INDEX('5 tm Data'!T:T,MATCH('5 tm WV'!A163,'5 tm Data'!R:R,0)) -> Marissa Ruiz
A164: =CONCATENATE(B146,B164) -> 6g | B164: g | C164: =INDEX('5 tm Data'!T:T,MATCH('5 tm WV'!A164,'5 tm Data'!R:R,0)) -> Samantha McNeely
A165: =CONCATENATE(B146,B165) -> 6h | B165: h | C165: =INDEX('5 tm Data'!T:T,MATCH('5 tm WV'!A165,'5 tm Data'!R:R,0)) -> Savannah Turner
C166: Total
C167: Opponent Series
C169: Win/Loss
A175: Team | B175: 7 | C175: ='5 tm Data'!$A$2 -> NAIA West - I
G181: =INDEX('5 tm Data'!G:G,MATCH('5 tm WV'!B175,'5 tm Data'!F:F,0)) -> Kansas Wesleyan - Women - Varsity
C186: Bowler Name | F186: Game 1 | H186: Game 2 | J186: Game 3 | L186: Game 4 | N186: Game 5 | P186: Total
A187: =CONCATENATE(B175,B187) -> 7a | B187: a | C187: =INDEX('5 tm Data'!T:T,MATCH('5 tm WV'!A187,'5 tm Data'!R:R,0)) -> Autumen Thompson
A188: =CONCATENATE(B175,B188) -> 7b | B188: b | C188: =INDEX('5 tm Data'!T:T,MATCH('5 tm WV'!A188,'5 tm Data'!R:R,0)) -> Emma O'Donnell
A189: =CONCATENATE(B175,B189) -> 7c | B189: c | C189: =INDEX('5 tm Data'!T:T,MATCH('5 tm WV'!A189,'5 tm Data'!R:R,0)) -> Kayden Moline
A190: =CONCATENATE(B175,B190) -> 7d | B190: d | C190: =INDEX('5 tm Data'!T:T,MATCH('5 tm WV'!A190,'5 tm Data'!R:R,0)) -> Kaylee Laha
A191: =CONCATENATE(B175,B191) -> 7e | B191: e | C191: =INDEX('5 tm Data'!T:T,MATCH('5 tm WV'!A191,'5 tm Data'!R:R,0)) -> Reagan Benson
A192: =CONCATENATE(B175,B192) -> 7f | B192: f | C192: =INDEX('5 tm Data'!T:T,MATCH('5 tm WV'!A192,'5 tm Data'!R:R,0)) -> Teigan Nielsen
A193: =CONCATENATE(B175,B193) -> 7g | B193: g | C193: =INDEX('5 tm Data'!T:T,MATCH('5 tm WV'!A193,'5 tm Data'!R:R,0)) -> 0
A194: =CONCATENATE(B175,B194) -> 7h | B194: h | C194: =INDEX('5 tm Data'!T:T,MATCH('5 tm WV'!A194,'5 tm Data'!R:R,0)) -> 0
C195: Total
C196: Opponent Series
C198: Win/Loss
A204: Team | B204: 8 | C204: ='5 tm Data'!$A$2 -> NAIA West - I
...

Sheet 5 tm WJV
A1: Team | B1: 1 | C1: ='5 tm Data'!$A$2 -> NAIA West - I
G7: =INDEX('5 tm Data'!I:I,MATCH('5 tm WJV'!B1,'5 tm Data'!H:H,0)) -> Ottawa University - Women - JV1
C12: Bowler Name | F12: Game 1 | H12: Game 2 | J12: Game 3 | L12: Game 4 | N12: Game 5 | P12: Total
A13: =CONCATENATE(B1,B13) -> 1a | B13: a | C13: =INDEX('5 tm Data'!X:X,MATCH('5 tm WJV'!A13,'5 tm Data'!V:V,0)) -> Allison Olivia
A14: =CONCATENATE(B1,B14) -> 1b | B14: b | C14: =INDEX('5 tm Data'!X:X,MATCH('5 tm WJV'!A14,'5 tm Data'!V:V,0)) -> Amiya Laskey
A15: =CONCATENATE(B1,B15) -> 1c | B15: c | C15: =INDEX('5 tm Data'!X:X,MATCH('5 tm WJV'!A15,'5 tm Data'!V:V,0)) -> Emaree Nester
A16: =CONCATENATE(B1,B16) -> 1d | B16: d | C16: =INDEX('5 tm Data'!X:X,MATCH('5 tm WJV'!A16,'5 tm Data'!V:V,0)) -> Isabel Wong
A17: =CONCATENATE(B1,B17) -> 1e | B17: e | C17: =INDEX('5 tm Data'!X:X,MATCH('5 tm WJV'!A17,'5 tm Data'!V:V,0)) -> Ryann Clark
A18: =CONCATENATE(B1,B18) -> 1f | B18: f | C18: =INDEX('5 tm Data'!X:X,MATCH('5 tm WJV'!A18,'5 tm Data'!V:V,0)) -> Taylor Lenz
A19: =CONCATENATE(B1,B19) -> 1g | B19: g | C19: =INDEX('5 tm Data'!X:X,MATCH('5 tm WJV'!A19,'5 tm Data'!V:V,0)) -> 0
A20: =CONCATENATE(B1,B20) -> 1h | B20: h | C20: =INDEX('5 tm Data'!X:X,MATCH('5 tm WJV'!A20,'5 tm Data'!V:V,0)) -> 0
C21: Total
C22: Opponent Series
C24: Win/Loss
A30: Team | B30: 2 | C30: ='5 tm Data'!$A$2 -> NAIA West - I
G36: =INDEX('5 tm Data'!I:I,MATCH('5 tm WJV'!B30,'5 tm Data'!H:H,0)) -> William Penn University - Women - JV1
C41: Bowler Name | F41: Game 1 | H41: Game 2 | J41: Game 3 | L41: Game 4 | N41: Game 5 | P41: Total
A42: =CONCATENATE(B30,B42) -> 2a | B42: a | C42: =INDEX('5 tm Data'!X:X,MATCH('5 tm WJV'!A42,'5 tm Data'!V:V,0)) -> Emma Chenoweth
A43: =CONCATENATE(B30,B43) -> 2b | B43: b | C43: =INDEX('5 tm Data'!X:X,MATCH('5 tm WJV'!A43,'5 tm Data'!V:V,0)) -> HannaLee Songer
A44: =CONCATENATE(B30,B44) -> 2c | B44: c | C44: =INDEX('5 tm Data'!X:X,MATCH('5 tm WJV'!A44,'5 tm Data'!V:V,0)) -> Macyn Huston
A45: =CONCATENATE(B30,B45) -> 2d | B45: d | C45: =INDEX('5 tm Data'!X:X,MATCH('5 tm WJV'!A45,'5 tm Data'!V:V,0)) -> Olivia Nolte
A46: =CONCATENATE(B30,B46) -> 2e | B46: e | C46: =INDEX('5 tm Data'!X:X,MATCH('5 tm WJV'!A46,'5 tm Data'!V:V,0)) -> Saphyre McCombs-VanSteenwyk
A47: =CONCATENATE(B30,B47) -> 2f | B47: f | C47: =INDEX('5 tm Data'!X:X,MATCH('5 tm WJV'!A47,'5 tm Data'!V:V,0)) -> Victoria Potter
A48: =CONCATENATE(B30,B48) -> 2g | B48: g | C48: =INDEX('5 tm Data'!X:X,MATCH('5 tm WJV'!A48,'5 tm Data'!V:V,0)) -> 0
A49: =CONCATENATE(B30,B49) -> 2h | B49: h | C49: =INDEX('5 tm Data'!X:X,MATCH('5 tm WJV'!A49,'5 tm Data'!V:V,0)) -> 0
C50: Total
C51: Opponent Series
C53: Win/Loss
A59: Team | B59: 3 | C59: ='5 tm Data'!$A$2 -> NAIA West - I
G65: =INDEX('5 tm Data'!I:I,MATCH('5 tm WJV'!B59,'5 tm Data'!H:H,0)) -> 4
C70: Bowler Name | F70: Game 1 | H70: Game 2 | J70: Game 3 | L70: Game 4 | N70: Game 5 | P70: Total
A71: =CONCATENATE(B59,B71) -> 3a | B71: a | C71: =INDEX('5 tm Data'!X:X,MATCH('5 tm WJV'!A71,'5 tm Data'!V:V,0)) -> 0
A72: =CONCATENATE(B59,B72) -> 3b | B72: b | C72: =INDEX('5 tm Data'!X:X,MATCH('5 tm WJV'!A72,'5 tm Data'!V:V,0)) -> 0
A73: =CONCATENATE(B59,B73) -> 3c | B73: c | C73: =INDEX('5 tm Data'!X:X,MATCH('5 tm WJV'!A73,'5 tm Data'!V:V,0)) -> 0
A74: =CONCATENATE(B59,B74) -> 3d | B74: d | C74: =INDEX('5 tm Data'!X:X,MATCH('5 tm WJV'!A74,'5 tm Data'!V:V,0)) -> 0
A75: =CONCATENATE(B59,B75) -> 3e | B75: e | C75: =INDEX('5 tm Data'!X:X,MATCH('5 tm WJV'!A75,'5 tm Data'!V:V,0)) -> 0
A76: =CONCATENATE(B59,B76) -> 3f | B76: f | C76: =INDEX('5 tm Data'!X:X,MATCH('5 tm WJV'!A76,'5 tm Data'!V:V,0)) -> 0
A77: =CONCATENATE(B59,B77) -> 3g | B77: g | C77: =INDEX('5 tm Data'!X:X,MATCH('5 tm WJV'!A77,'5 tm Data'!V:V,0)) -> 0
A78: =CONCATENATE(B59,B78) -> 3h | B78: h | C78: =INDEX('5 tm Data'!X:X,MATCH('5 tm WJV'!A78,'5 tm Data'!V:V,0)) -> 0
C79: Total
C80: Opponent Series
C82: Win/Loss
A88: Team | B88: 4 | C88: ='5 tm Data'!$A$2 -> NAIA West - I
G94: =INDEX('5 tm Data'!I:I,MATCH('5 tm WJV'!B88,'5 tm Data'!H:H,0)) -> 5
C99: Bowler Name | F99: Game 1 | H99: Game 2 | J99: Game 3 | L99: Game 4 | N99: Game 5 | P99: Total
A100: =CONCATENATE(B88,B100) -> 4a | B100: a | C100: =INDEX('5 tm Data'!X:X,MATCH('5 tm WJV'!A100,'5 tm Data'!V:V,0)) -> 0
A101: =CONCATENATE(B88,B101) -> 4b | B101: b | C101: =INDEX('5 tm Data'!X:X,MATCH('5 tm WJV'!A101,'5 tm Data'!V:V,0)) -> 0
A102: =CONCATENATE(B88,B102) -> 4c | B102: c | C102: =INDEX('5 tm Data'!X:X,MATCH('5 tm WJV'!A102,'5 tm Data'!V:V,0)) -> 0
A103: =CONCATENATE(B88,B103) -> 4d | B103: d | C103: =INDEX('5 tm Data'!X:X,MATCH('5 tm WJV'!A103,'5 tm Data'!V:V,0)) -> 0
A104: =CONCATENATE(B88,B104) -> 4e | B104: e | C104: =INDEX('5 tm Data'!X:X,MATCH('5 tm WJV'!A104,'5 tm Data'!V:V,0)) -> 0
A105: =CONCATENATE(B88,B105) -> 4f | B105: f | C105: =INDEX('5 tm Data'!X:X,MATCH('5 tm WJV'!A105,'5 tm Data'!V:V,0)) -> 0
A106: =CONCATENATE(B88,B106) -> 4g | B106: g | C106: =INDEX('5 tm Data'!X:X,MATCH('5 tm WJV'!A106,'5 tm Data'!V:V,0)) -> 0
A107: =CONCATENATE(B88,B107) -> 4h | B107: h | C107: =INDEX('5 tm Data'!X:X,MATCH('5 tm WJV'!A107,'5 tm Data'!V:V,0)) -> 0
C108: Total
C109: Opponent Series
C111: Win/Loss
A117: Team | B117: 5 | C117: ='5 tm Data'!$A$2 -> NAIA West - I
G123: =INDEX('5 tm Data'!I:I,MATCH('5 tm WJV'!B117,'5 tm Data'!H:H,0)) -> 6
C128: Bowler Name | F128: Game 1 | H128: Game 2 | J128: Game 3 | L128: Game 4 | N128: Game 5 | P128: Total
A129: =CONCATENATE(B117,B129) -> 5a | B129: a | C129: =INDEX('5 tm Data'!X:X,MATCH('5 tm WJV'!A129,'5 tm Data'!V:V,0)) -> 0
A130: =CONCATENATE(B117,B130) -> 5b | B130: b | C130: =INDEX('5 tm Data'!X:X,MATCH('5 tm WJV'!A130,'5 tm Data'!V:V,0)) -> 0
A131: =CONCATENATE(B117,B131) -> 5c | B131: c | C131: =INDEX('5 tm Data'!X:X,MATCH('5 tm WJV'!A131,'5 tm Data'!V:V,0)) -> 0
A132: =CONCATENATE(B117,B132) -> 5d | B132: d | C132: =INDEX('5 tm Data'!X:X,MATCH('5 tm WJV'!A132,'5 tm Data'!V:V,0)) -> 0
A133: =CONCATENATE(B117,B133) -> 5e | B133: e | C133: =INDEX('5 tm Data'!X:X,MATCH('5 tm WJV'!A133,'5 tm Data'!V:V,0)) -> 0
A134: =CONCATENATE(B117,B134) -> 5f | B134: f | C134: =INDEX('5 tm Data'!X:X,MATCH('5 tm WJV'!A134,'5 tm Data'!V:V,0)) -> 0
A135: =CONCATENATE(B117,B135) -> 5g | B135: g | C135: =INDEX('5 tm Data'!X:X,MATCH('5 tm WJV'!A135,'5 tm Data'!V:V,0)) -> 0
A136: =CONCATENATE(B117,B136) -> 5h | B136: h | C136: =INDEX('5 tm Data'!X:X,MATCH('5 tm WJV'!A136,'5 tm Data'!V:V,0)) -> 0
E137: Total
A146: Team | B146: 6 | C146: ='5 tm Data'!$A$2 -> NAIA West - I
G152: =INDEX('5 tm Data'!I:I,MATCH('5 tm WJV'!B146,'5 tm Data'!H:H,0)) -> 7
C157: Bowler Name | F157: Game 1 | H157: Game 2 | J157: Game 3 | L157: Game 4 | N157: Game 5 | P157: Total
A158: =CONCATENATE(B146,B158) -> 6a | B158: a | C158: =INDEX('5 tm Data'!X:X,MATCH('5 tm WJV'!A158,'5 tm Data'!V:V,0)) -> 0
A159: =CONCATENATE(B146,B159) -> 6b | B159: b | C159: =INDEX('5 tm Data'!X:X,MATCH('5 tm WJV'!A159,'5 tm Data'!V:V,0)) -> 0
A160: =CONCATENATE(B146,B160) -> 6c | B160: c | C160: =INDEX('5 tm Data'!X:X,MATCH('5 tm WJV'!A160,'5 tm Data'!V:V,0)) -> 0
A161: =CONCATENATE(B146,B161) -> 6d | B161: d | C161: =INDEX('5 tm Data'!X:X,MATCH('5 tm WJV'!A161,'5 tm Data'!V:V,0)) -> 0
A162: =CONCATENATE(B146,B162) -> 6e | B162: e | C162: =INDEX('5 tm Data'!X:X,MATCH('5 tm WJV'!A162,'5 tm Data'!V:V,0)) -> 0
A163: =CONCATENATE(B146,B163) -> 6f | B163: f | C163: =INDEX('5 tm Data'!X:X,MATCH('5 tm WJV'!A163,'5 tm Data'!V:V,0)) -> 0
A164: =CONCATENATE(B146,B164) -> 6g | B164: g | C164: =INDEX('5 tm Data'!X:X,MATCH('5 tm WJV'!A164,'5 tm Data'!V:V,0)) -> 0
A165: =CONCATENATE(B146,B165) -> 6h | B165: h | C165: =INDEX('5 tm Data'!X:X,MATCH('5 tm WJV'!A165,'5 tm Data'!V:V,0)) -> 0
E166: Total
A175: Team | B175: 7 | C175: ='5 tm Data'!$A$2 -> NAIA West - I
G181: =INDEX('5 tm Data'!I:I,MATCH('5 tm WJV'!B175,'5 tm Data'!H:H,0)) -> 8
C186: Bowler Name | F186: Game 1 | H186: Game 2 | J186: Game 3 | L186: Game 4 | N186: Game 5 | P186: Total
A187: =CONCATENATE(B175,B187) -> 7a | B187: a | C187: =INDEX('5 tm Data'!X:X,MATCH('5 tm WJV'!A187,'5 tm Data'!V:V,0)) -> 0
A188: =CONCATENATE(B175,B188) -> 7b | B188: b | C188: =INDEX('5 tm Data'!X:X,MATCH('5 tm WJV'!A188,'5 tm Data'!V:V,0)) -> 0
A189: =CONCATENATE(B175,B189) -> 7c | B189: c | C189: =INDEX('5 tm Data'!X:X,MATCH('5 tm WJV'!A189,'5 tm Data'!V:V,0)) -> 0
A190: =CONCATENATE(B175,B190) -> 7d | B190: d | C190: =INDEX('5 tm Data'!X:X,MATCH('5 tm WJV'!A190,'5 tm Data'!V:V,0)) -> 0
A191: =CONCATENATE(B175,B191) -> 7e | B191: e | C191: =INDEX('5 tm Data'!X:X,MATCH('5 tm WJV'!A191,'5 tm Data'!V:V,0)) -> 0
A192: =CONCATENATE(B175,B192) -> 7f | B192: f | C192: =INDEX('5 tm Data'!X:X,MATCH('5 tm WJV'!A192,'5 tm Data'!V:V,0)) -> 0
A193: =CONCATENATE(B175,B193) -> 7g | B193: g | C193: =INDEX('5 tm Data'!X:X,MATCH('5 tm WJV'!A193,'5 tm Data'!V:V,0)) -> 0
A194: =CONCATENATE(B175,B194) -> 7h | B194: h | C194: =INDEX('5 tm Data'!X:X,MATCH('5 tm WJV'!A194,'5 tm Data'!V:V,0)) -> 0
E195: Total
A204: Team | B204: 8 | C204: ='5 tm Data'!$A$2 -> NAIA West - I
G210: =INDEX('5 tm Data'!I:I,MATCH('5 tm WJV'!B204,'5 tm Data'!H:H,0)) -> 9
C215: Bowler Name | F215: Game 1 | H215: Game 2 | J215: Game 3 | L215: Game 4 | N215: Game 5 | P215: Total
A216: =CONCATENATE(B204,B216) -> 8a | B216: a | C216: =INDEX('5 tm Data'!X:X,MATCH('5 tm WJV'!A216,'5 tm Data'!V:V,0)) -> 0
A217: =CONCATENATE(B204,B217) -> 8b | B217: b | C217: =INDEX('5 tm Data'!X:X,MATCH('5 tm WJV'!A217,'5 tm Data'!V:V,0)) -> 0
A218: =CONCATENATE(B204,B218) -> 8c | B218: c | C218: =INDEX('5 tm Data'!X:X,MATCH('5 tm WJV'!A218,'5 tm Data'!V:V,0)) -> 0
A219: =CONCATENATE(B204,B219) -> 8d | B219: d | C219: =INDEX('5 tm Data'!X:X,MATCH('5 tm WJV'!A219,'5 tm Data'!V:V,0)) -> 0
A220: =CONCATENATE(B204,B220) -> 8e | B220: e | C220: =INDEX('5 tm Data'!X:X,MATCH('5 tm WJV'!A220,'5 tm Data'!V:V,0)) -> 0
...

Sheet Sheet1
A1: Round Number | C1: Lane 31 | E1: Lane 32 | G1: Lane 33 | I1: Lane 34 | K1: Lane 35 | M1: Lane 36 | O1: Lane 37 | Q1: Lane 38 | S1: Lane 39 | U1: Lane 40
A2: Round 1 | B2: 31 | C2: =INDEX($AC:$AC,MATCH(B2,$AB:$AB,0)) -> William Penn University - Men/mixed - JV1 | D2: 32 | E2: =INDEX($AC:$AC,MATCH(D2,$AB:$AB,0)) -> William Penn University - Men/mixed - JV2 | F2: 33 | G2: =INDEX($AC:$AC,MATCH(F2,$AB:$AB,0)) -> University of Kansas - Men/mixed - JV1 | H2: 34 | I2: =INDEX($AC:$AC,MATCH(H2,$AB:$AB,0)) -> Midland University - Men/mixed - JV1 | J2: 35 | K2: =INDEX($AC:$AC,MATCH(J2,$AB:$AB,0)) -> Baker University - Men/mixed - JV1 | L2: 36 | M2: =INDEX($AC:$AC,MATCH(L2,$AB:$AB,0)) -> Kansas Wesleyan - Men/mixed - JV1 | N2: 37 | O2: =INDEX($AC:$AC,MATCH(N2,$AB:$AB,0)) -> Missouri Valley College - Men/mixed - JV1 | P2: 38 | Q2: =INDEX($AC:$AC,MATCH(P2,$AB:$AB,0)) -> Avila University - Men/mixed - JV1 | R2: 39 | S2: =INDEX($AC:$AC,MATCH(R2,$AB:$AB,0)) -> Ottawa University - Men/mixed - JV1 | T2: 40 | U2: =INDEX($AC:$AC,MATCH(T2,$AB:$AB,0)) -> Vacant | AB2: 38 | AC2: Avila University - Men/mixed - JV1
A3: Round 2 | B3: 35 | C3: =INDEX($AC:$AC,MATCH(B3,$AB:$AB,0)) -> Baker University - Men/mixed - JV1 | D3: 38 | E3: =INDEX($AC:$AC,MATCH(D3,$AB:$AB,0)) -> Avila University - Men/mixed - JV1 | F3: 33 | G3: =INDEX($AC:$AC,MATCH(F3,$AB:$AB,0)) -> University of Kansas - Men/mixed - JV1 | H3: 36 | I3: =INDEX($AC:$AC,MATCH(H3,$AB:$AB,0)) -> Kansas Wesleyan - Men/mixed - JV1 | J3: 31 | K3: =INDEX($AC:$AC,MATCH(J3,$AB:$AB,0)) -> William Penn University - Men/mixed - JV1 | L3: 34 | M3: =INDEX($AC:$AC,MATCH(L3,$AB:$AB,0)) -> Midland University - Men/mixed - JV1 | N3: 32 | O3: =INDEX($AC:$AC,MATCH(N3,$AB:$AB,0)) -> William Penn University - Men/mixed - JV2 | P3: 39 | Q3: =INDEX($AC:$AC,MATCH(P3,$AB:$AB,0)) -> Ottawa University - Men/mixed - JV1 | R3: 37 | S3: =INDEX($AC:$AC,MATCH(R3,$AB:$AB,0)) -> Missouri Valley College - Men/mixed - JV1 | T3: 40 | U3: =INDEX($AC:$AC,MATCH(T3,$AB:$AB,0)) -> Vacant | AB3: 35 | AC3: Baker University - Men/mixed - JV1
A4: Round 3 | B4: 33 | C4: =INDEX($AC:$AC,MATCH(B4,$AB:$AB,0)) -> University of Kansas - Men/mixed - JV1 | D4: 39 | E4: =INDEX($AC:$AC,MATCH(D4,$AB:$AB,0)) -> Ottawa University - Men/mixed - JV1 | F4: 35 | G4: =INDEX($AC:$AC,MATCH(F4,$AB:$AB,0)) -> Baker University - Men/mixed - JV1 | H4: 32 | I4: =INDEX($AC:$AC,MATCH(H4,$AB:$AB,0)) -> William Penn University - Men/mixed - JV2 | J4: 37 | K4: =INDEX($AC:$AC,MATCH(J4,$AB:$AB,0)) -> Missouri Valley College - Men/mixed - JV1 | L4: 34 | M4: =INDEX($AC:$AC,MATCH(L4,$AB:$AB,0)) -> Midland University - Men/mixed - JV1 | N4: 38 | O4: =INDEX($AC:$AC,MATCH(N4,$AB:$AB,0)) -> Avila University - Men/mixed - JV1 | P4: 36 | Q4: =INDEX($AC:$AC,MATCH(P4,$AB:$AB,0)) -> Kansas Wesleyan - Men/mixed - JV1 | R4: 31 | S4: =INDEX($AC:$AC,MATCH(R4,$AB:$AB,0)) -> William Penn University - Men/mixed - JV1 | T4: 40 | U4: =INDEX($AC:$AC,MATCH(T4,$AB:$AB,0)) -> Vacant | AB4: 36 | AC4: Kansas Wesleyan - Men/mixed - JV1
A5: Round 4 | B5: 37 | C5: =INDEX($AC:$AC,MATCH(B5,$AB:$AB,0)) -> Missouri Valley College - Men/mixed - JV1 | D5: 36 | E5: =INDEX($AC:$AC,MATCH(D5,$AB:$AB,0)) -> Kansas Wesleyan - Men/mixed - JV1 | F5: 35 | G5: =INDEX($AC:$AC,MATCH(F5,$AB:$AB,0)) -> Baker University - Men/mixed - JV1 | H5: 34 | I5: =INDEX($AC:$AC,MATCH(H5,$AB:$AB,0)) -> Midland University - Men/mixed - JV1 | J5: 33 | K5: =INDEX($AC:$AC,MATCH(J5,$AB:$AB,0)) -> University of Kansas - Men/mixed - JV1 | L5: 32 | M5: =INDEX($AC:$AC,MATCH(L5,$AB:$AB,0)) -> William Penn University - Men/mixed - JV2 | N5: 31 | O5: =INDEX($AC:$AC,MATCH(N5,$AB:$AB,0)) -> William Penn University - Men/mixed - JV1 | P5: 39 | Q5: =INDEX($AC:$AC,MATCH(P5,$AB:$AB,0)) -> Ottawa University - Men/mixed - JV1 | R5: 38 | S5: =INDEX($AC:$AC,MATCH(R5,$AB:$AB,0)) -> Avila University - Men/mixed - JV1 | T5: 40 | U5: =INDEX($AC:$AC,MATCH(T5,$AB:$AB,0)) -> Vacant | AB5: 34 | AC5: Midland University - Men/mixed - JV1
A6: Round 5 | B6: 31 | C6: =INDEX($AC:$AC,MATCH(B6,$AB:$AB,0)) -> William Penn University - Men/mixed - JV1 | D6: 35 | E6: =INDEX($AC:$AC,MATCH(D6,$AB:$AB,0)) -> Baker University - Men/mixed - JV1 | F6: 37 | G6: =INDEX($AC:$AC,MATCH(F6,$AB:$AB,0)) -> Missouri Valley College - Men/mixed - JV1 | H6: 39 | I6: =INDEX($AC:$AC,MATCH(H6,$AB:$AB,0)) -> Ottawa University - Men/mixed - JV1 | J6: 38 | K6: =INDEX($AC:$AC,MATCH(J6,$AB:$AB,0)) -> Avila University - Men/mixed - JV1 | L6: 32 | M6: =INDEX($AC:$AC,MATCH(L6,$AB:$AB,0)) -> William Penn University - Men/mixed - JV2 | N6: 36 | O6: =INDEX($AC:$AC,MATCH(N6,$AB:$AB,0)) -> Kansas Wesleyan - Men/mixed - JV1 | P6: 34 | Q6: =INDEX($AC:$AC,MATCH(P6,$AB:$AB,0)) -> Midland University - Men/mixed - JV1 | R6: 33 | S6: =INDEX($AC:$AC,MATCH(R6,$AB:$AB,0)) -> University of Kansas - Men/mixed - JV1 | T6: 40 | U6: =INDEX($AC:$AC,MATCH(T6,$AB:$AB,0)) -> Vacant | AB6: 37 | AC6: Missouri Valley College - Men/mixed - JV1
A7: Baker Round 1 | B7: 38 | C7: =INDEX($AC:$AC,MATCH(B7,$AB:$AB,0)) -> Avila University - Men/mixed - JV1 | D7: 34 | E7: =INDEX($AC:$AC,MATCH(D7,$AB:$AB,0)) -> Midland University - Men/mixed - JV1 | F7: 37 | G7: =INDEX($AC:$AC,MATCH(F7,$AB:$AB,0)) -> Missouri Valley College - Men/mixed - JV1 | H7: 32 | I7: =INDEX($AC:$AC,MATCH(H7,$AB:$AB,0)) -> William Penn University - Men/mixed - JV2 | J7: 35 | K7: =INDEX($AC:$AC,MATCH(J7,$AB:$AB,0)) -> Baker University - Men/mixed - JV1 | L7: 39 | M7: =INDEX($AC:$AC,MATCH(L7,$AB:$AB,0)) -> Ottawa University - Men/mixed - JV1 | N7: 31 | O7: =INDEX($AC:$AC,MATCH(N7,$AB:$AB,0)) -> William Penn University - Men/mixed - JV1 | P7: 33 | Q7: =INDEX($AC:$AC,MATCH(P7,$AB:$AB,0)) -> University of Kansas - Men/mixed - JV1 | R7: 36 | S7: =INDEX($AC:$AC,MATCH(R7,$AB:$AB,0)) -> Kansas Wesleyan - Men/mixed - JV1 | T7: 40 | U7: =INDEX($AC:$AC,MATCH(T7,$AB:$AB,0)) -> Vacant | AB7: 39 | AC7: Ottawa University - Men/mixed - JV1
A8: Baker Round 2 | B8: 33 | C8: =INDEX($AC:$AC,MATCH(B8,$AB:$AB,0)) -> University of Kansas - Men/mixed - JV1 | D8: 37 | E8: =INDEX($AC:$AC,MATCH(D8,$AB:$AB,0)) -> Missouri Valley College - Men/mixed - JV1 | F8: 31 | G8: =INDEX($AC:$AC,MATCH(F8,$AB:$AB,0)) -> William Penn University - Men/mixed - JV1 | H8: 38 | I8: =INDEX($AC:$AC,MATCH(H8,$AB:$AB,0)) -> Avila University - Men/mixed - JV1 | J8: 36 | K8: =INDEX($AC:$AC,MATCH(J8,$AB:$AB,0)) -> Kansas Wesleyan - Men/mixed - JV1 | L8: 39 | M8: =INDEX($AC:$AC,MATCH(L8,$AB:$AB,0)) -> Ottawa University - Men/mixed - JV1 | N8: 34 | O8: =INDEX($AC:$AC,MATCH(N8,$AB:$AB,0)) -> Midland University - Men/mixed - JV1 | P8: 32 | Q8: =INDEX($AC:$AC,MATCH(P8,$AB:$AB,0)) -> William Penn University - Men/mixed - JV2 | R8: 35 | S8: =INDEX($AC:$AC,MATCH(R8,$AB:$AB,0)) -> Baker University - Men/mixed - JV1 | T8: 40 | U8: =INDEX($AC:$AC,MATCH(T8,$AB:$AB,0)) -> Vacant | AB8: 33 | AC8: University of Kansas - Men/mixed - JV1
A9: Baker Round 3 | B9: 36 | C9: =INDEX($AC:$AC,MATCH(B9,$AB:$AB,0)) -> Kansas Wesleyan - Men/mixed - JV1 | D9: 32 | E9: =INDEX($AC:$AC,MATCH(D9,$AB:$AB,0)) -> William Penn University - Men/mixed - JV2 | F9: 38 | G9: =INDEX($AC:$AC,MATCH(F9,$AB:$AB,0)) -> Avila University - Men/mixed - JV1 | H9: 39 | I9: =INDEX($AC:$AC,MATCH(H9,$AB:$AB,0)) -> Ottawa University - Men/mixed - JV1 | J9: 31 | K9: =INDEX($AC:$AC,MATCH(J9,$AB:$AB,0)) -> William Penn University - Men/mixed - JV1 | L9: 37 | M9: =INDEX($AC:$AC,MATCH(L9,$AB:$AB,0)) -> Missouri Valley College - Men/mixed - JV1 | N9: 33 | O9: =INDEX($AC:$AC,MATCH(N9,$AB:$AB,0)) -> University of Kansas - Men/mixed - JV1 | P9: 35 | Q9: =INDEX($AC:$AC,MATCH(P9,$AB:$AB,0)) -> Baker University - Men/mixed - JV1 | R9: 34 | S9: =INDEX($AC:$AC,MATCH(R9,$AB:$AB,0)) -> Midland University - Men/mixed - JV1 | T9: 40 | U9: =INDEX($AC:$AC,MATCH(T9,$AB:$AB,0)) -> Vacant | AB9: 31 | AC9: William Penn University - Men/mixed - JV1
A10: Baker Round 4 | B10: 34 | C10: =INDEX($AC:$AC,MATCH(B10,$AB:$AB,0)) -> Midland University - Men/mixed - JV1 | D10: 39 | E10: =INDEX($AC:$AC,MATCH(D10,$AB:$AB,0)) -> Ottawa University - Men/mixed - JV1 | F10: 36 | G10: =INDEX($AC:$AC,MATCH(F10,$AB:$AB,0)) -> Kansas Wesleyan - Men/mixed - JV1 | H10: 31 | I10: =INDEX($AC:$AC,MATCH(H10,$AB:$AB,0)) -> William Penn University - Men/mixed - JV1 | J10: 33 | K10: =INDEX($AC:$AC,MATCH(J10,$AB:$AB,0)) -> University of Kansas - Men/mixed - JV1 | L10: 38 | M10: =INDEX($AC:$AC,MATCH(L10,$AB:$AB,0)) -> Avila University - Men/mixed - JV1 | N10: 35 | O10: =INDEX($AC:$AC,MATCH(N10,$AB:$AB,0)) -> Baker University - Men/mixed - JV1 | P10: 37 | Q10: =INDEX($AC:$AC,MATCH(P10,$AB:$AB,0)) -> Missouri Valley College - Men/mixed - JV1 | R10: 32 | S10: =INDEX($AC:$AC,MATCH(R10,$AB:$AB,0)) -> William Penn University - Men/mixed - JV2 | T10: 40 | U10: =INDEX($AC:$AC,MATCH(T10,$AB:$AB,0)) -> Vacant | AB10: 32 | AC10: William Penn University - Men/mixed - JV2
A11: Baker Position Round | AB11: 40 | AC11: Vacant

Sheet Sheet2
B1: Qualifying Team Standings
B2: NAIA West Open-Saturday
B3: Men's Jr. Varsity
B4: After 5 Team Games
D5: Overall
A6: Rank | B6: Team | D6: Total | E6: Points
A7: 1 | B7: Midland University JV1 | D7: 4471 | E7: 5
A8: 2 | B8: Avila University JV1 | D8: 4456 | E8: 5
A9: 3 | B9: Ottawa University (KS) JV1 | D9: 4518 | E9: 4
A10: 4 | B10: William Penn University JV1 | D10: 4502 | E10: 3
A11: 5 | B11: William Penn University JV2 | D11: 4339 | E11: 3
A12: 6 | B12: Baker University JV1 | D12: 4049 | E12: 1
A13: 7 | B13: Missouri Valley College JV1 | D13: 3432 | E13: 1
A14: 8 | B14: Kansas ,University Of JV1 | D14: 2823 | E14: 1
A15: 9 | B15: Kansas Wesleyan University JV1 | D15: 3269 | E15: 0

Sheet Sheet3
B1: Round 1 | C1: Round 2 | D1: Round 3 | E1: Round 4 | F1: Round 5
A2: Avila University - Men/mixed - JV1 | B2: 1 | C2: 1 | D2: 1 | E2: 1
A3: Baker University - Men/mixed - JV1 | B3: 1 | C3: 0 | D3: 0 | E3: 0
A4: Kansas Wesleyan - Men/mixed - JV1 | B4: 0 | C4: 0 | D4: 0 | E4: 0
A5: Midland University - Men/mixed - JV1 | B5: 1 | C5: 1 | D5: 1 | E5: 1
A6: Missouri Valley College - Men/mixed - JV1 | B6: 0 | C6: 0 | D6: 0 | E6: 1
A7: Ottawa University - Men/mixed - JV1 | B7: 1 | C7: 0 | D7: 1 | E7: 1
A8: University of Kansas - Men/mixed - JV1 | B8: 0 | C8: 1 | D8: 0 | E8: 0
A9: William Penn University - Men/mixed - JV1 | B9: 1 | C9: 0 | D9: 1 | E9: 0
A10: William Penn University - Men/mixed - JV2 | B10: 0 | C10: 1 | D10: 1 | E10: 1
A17: Team Field Ave: | B17: 783.22222 | C17: 780.33333 | D17: 830.11111 | E17: 773

Sheet Standings - Combined
A1: After 2 Team Games
B2: Qualifying Team Standings | G2: Qualifying Team Standings
B3: NAIA Weekend West - Saturday | G3: NAIA Weekend West - Saturday
B4: Men's Varsity | G4: Women's Varsity
D5: Overall | I5: Overall
A6: Rank | B6: Team | D6: Total | F6: Rank | G6: Team | I6: Total
A7: 1 | F7: 1 | I7: 2068
A8: 2 | F8: 2 | G8: Culver-Stockton College V | I8: 1988
A9: 3 | F9: 3 | G9: William Penn University V | I9: 1920
A10: 4 | F10: 4 | G10: Ottawa University (KS) V | I10: 1895
A11: 5 | F11: 5 | G11: Hastings College V | I11: 1807
A12: 6 | F12: 6 | G12: Baker University V | I12: 1787
A13: 7 | F13: 7 | G13: Peru State College V | I13: 1780
A14: 8 | F14: 8 | G14: Midland University V | I14: 1776
A15: 9 | F15: 9 | G15: Grand View University V | I15: 1756
A16: 10 | F16: 10 | G16: Kansas Wesleyan University V | I16: 1676
A17: 11 | F17: 11 | G17: Barton Community College V | I17: 1659
A18: 12 | F18: 12 | G18: Columbia College V | I18: 1628
A19: 13 | F19: 13 | G19: Clarke University V | I19: 1622
... A24: 18 | F24: 18 | G24: Kansas State University V | I24: 0
B28: Qualifying Team Standings | G28: Qualifying Team Standings
B29: NAIA Weekend West - Saturday | G29: NAIA Weekend West - Saturday
B30: Men's Jr. Varsity | G30: Women's Jr. Varsity
D31: Overall | I31: Overall
A32: Rank | B32: Team | D32: Total | F32: Rank | G32: Team | I32: Total
A33: 1 | B33: Avila University JV1 | D33: 7251 | F33: 1 | G33: Ottawa University (KS) JV1 | I33: 6709
A34: 2 | B34: Ottawa University (KS) JV1 | D34: 7134 | F34: 2 | G34: Baker University JV1 | I34: 6516
A35: 3 | B35: Baker University JV1 | D35: 6910 | F35: 3
A36: 4 | F36: 4
A37: 5 | F37: 5
A38: 6 | F38: 6
A39: 7 | F39: 7
A40: 8 | F40: 8
A41: 9 | F41: 9
A42: 10 | F42: 10
A43: 11 | F43: 11
A44: 12 | F44: 12
A45: 13 | F45: 13
A46: 14 | F46: 14
A47: 15 | F47: 15
... A50: 18 | F50: 18

Sheet Standings - Men
A1: ='Standings - Combined'!A1:I1 -> After 2 Team Games
A2: Qualifying Team Standings
A3: NAIA Weekend West - Saturday
A4: Men's Varsity
D5: Overall
A6: Rank | B6: Team | D6: Total
A7: 1
A8: 2
A9: 3
A10: 4
A11: 5
A12: 6
A13: 7
A14: 8
A15: 9
A16: 10
A17: 11
A18: 12
... A24: 18
A26: Qualifying Team Standings
A27: Wildcat Challenge
A28: Men's Jr. Varsity
D29: Overall
A30: Rank | B30: Team | D30: Total
A31: 1 | B31: ='Standings - Combined'!B33 -> Avila University JV1 | D31: ='Standings - Combined'!D33 -> 7251
A32: 2 | B32: ='Standings - Combined'!B34 -> Ottawa University (KS) JV1 | D32: ='Standings - Combined'!D34 -> 7134
A33: 3 | B33: ='Standings - Combined'!B35 -> Baker University JV1 | D33: ='Standings - Combined'!D35 -> 6910
A34: 4 | B34: ='Standings - Combined'!B36 -> 0 | D34: ='Standings - Combined'!D36 -> 0
A35: 5 | B35: ='Standings - Combined'!B37 -> 0 | D35: ='Standings - Combined'!D37 -> 0
A36: 6 | B36: ='Standings - Combined'!B38 -> 0 | D36: ='Standings - Combined'!D38 -> 0
A37: 7 | B37: ='Standings - Combined'!B39 -> 0 | D37: ='Standings - Combined'!D39 -> 0
A38: 8 | B38: ='Standings - Combined'!B40 -> 0 | D38: ='Standings - Combined'!D40 -> 0
A39: 9 | B39: ='Standings - Combined'!B41 -> 0 | D39: ='Standings - Combined'!D41 -> 0
A40: 10 | B40: ='Standings - Combined'!B42 -> 0 | D40: ='Standings - Combined'!D42 -> 0
A41: 11 | B41: ='Standings - Combined'!B43 -> 0 | D41: ='Standings - Combined'!D43 -> 0
A42: 12 | B42: ='Standings - Combined'!B44 -> 0 | D42: ='Standings - Combined'!D44 -> 0
... A48: 18 | B48: ='Standings - Combined'!B50 -> 0 | D48: ='Standings - Combined'!D50 -> 0

Sheet Standings - Men JV
A1: ='Standings - Combined'!A1:I1 -> After 2 Team Games
A2: Qualifying Team Standings
A3: NAIA Weekend West - Saturday
A4: Men's Varsity
D5: Overall
A6: Rank | B6: Team | D6: Total
A7: 1
A8: 2
A9: 3
A10: 4
A11: 5
A12: 6
A13: 7
A14: 8
A15: 9
A16: 10
A17: 11
A18: 12
... A24: 18
A26: Qualifying Team Standings
A27: Wildcat Challenge
A28: Men's Jr. Varsity
D29: Overall
A30: Rank | B30: Team | D30: Total
A31: 1 | B31: ='Standings - Combined'!B33 -> Avila University JV1 | D31: ='Standings - Combined'!D33 -> 7251
A32: 2 | B32: ='Standings - Combined'!B34 -> Ottawa University (KS) JV1 | D32: ='Standings - Combined'!D34 -> 7134
A33: 3 | B33: ='Standings - Combined'!B35 -> Baker University JV1 | D33: ='Standings - Combined'!D35 -> 6910
A34: 4 | B34: ='Standings - Combined'!B36 -> 0 | D34: ='Standings - Combined'!D36 -> 0
A35: 5 | B35: ='Standings - Combined'!B37 -> 0 | D35: ='Standings - Combined'!D37 -> 0
A36: 6 | B36: ='Standings - Combined'!B38 -> 0 | D36: ='Standings - Combined'!D38 -> 0
A37: 7 | B37: ='Standings - Combined'!B39 -> 0 | D37: ='Standings - Combined'!D39 -> 0
A38: 8 | B38: ='Standings - Combined'!B40 -> 0 | D38: ='Standings - Combined'!D40 -> 0
A39: 9 | B39: ='Standings - Combined'!B41 -> 0 | D39: ='Standings - Combined'!D41 -> 0
A40: 10 | B40: ='Standings - Combined'!B42 -> 0 | D40: ='Standings - Combined'!D42 -> 0
A41: 11 | B41: ='Standings - Combined'!B43 -> 0 | D41: ='Standings - Combined'!D43 -> 0
A42: 12 | B42: ='Standings - Combined'!B44 -> 0 | D42: ='Standings - Combined'!D44 -> 0
... A48: 18 | B48: ='Standings - Combined'!B50 -> 0 | D48: ='Standings - Combined'!D50 -> 0

Sheet Standings - Women
A1: ='Standings - Men'!A1:D1 -> After 2 Team Games
B2: Qualifying Team Standings
B3: NAIA Weekend West - Saturday
B4: Women's Varsity
D5: Overall
A6: Rank | B6: Team | D6: Total
A7: 1
A8: 2
A9: 3
A10: 4
A11: 5
A12: 6
A13: 7
A14: 8
A15: 9
A16: 10
A17: 11
A18: 12
... A24: 18
B27: Qualifying Team Standings
B28: Wildcat Challenge
B29: Women's Jr. Varsity
D30: Overall
A31: Rank | B31: Team | D31: Total
A32: 1 | B32: ='Standings - Combined'!G33 -> Ottawa University (KS) JV1 | D32: ='Standings - Combined'!I33 -> 6709
A33: 2 | B33: ='Standings - Combined'!G34 -> Baker University JV1 | D33: ='Standings - Combined'!I34 -> 6516
A34: 3 | B34: ='Standings - Combined'!G35 -> 0 | D34: ='Standings - Combined'!I35 -> 0
A35: 4 | B35: ='Standings - Combined'!G36 -> 0 | D35: ='Standings - Combined'!I36 -> 0
A36: 5 | B36: ='Standings - Combined'!G37 -> 0 | D36: ='Standings - Combined'!I37 -> 0
A37: 6 | B37: ='Standings - Combined'!G38 -> 0 | D37: ='Standings - Combined'!I38 -> 0
A38: 7 | B38: ='Standings - Combined'!G39 -> 0 | D38: ='Standings - Combined'!I39 -> 0
A39: 8 | B39: ='Standings - Combined'!G40 -> 0 | D39: ='Standings - Combined'!I40 -> 0
A40: 9 | B40: ='Standings - Combined'!G41 -> 0 | D40: ='Standings - Combined'!I41 -> 0
A41: 10 | B41: ='Standings - Combined'!G42 -> 0 | D41: ='Standings - Combined'!I42 -> 0
A42: 11 | B42: ='Standings - Combined'!G43 -> 0 | D42: ='Standings - Combined'!I43 -> 0
A43: 12 | B43: ='Standings - Combined'!G44 -> 0 | D43: ='Standings - Combined'!I44 -> 0
... A49: 18 | B49: ='Standings - Combined'!G50 -> 0 | D49: ='Standings - Combined'!I50 -> 0

Sheet Standings - Women JV
A1: ='Standings - Men'!A1:D1 -> After 2 Team Games
B2: Qualifying Team Standings
B3: NAIA Weekend West - Saturday
B4: Women's Varsity
D5: Overall
A6: Rank | B6: Team | D6: Total
A7: 1
A8: 2
A9: 3
A10: 4
A11: 5
A12: 6
A13: 7
A14: 8
A15: 9
A16: 10
A17: 11
A18: 12
... A24: 18
B27: Qualifying Team Standings
B28: Wildcat Challenge
B29: Women's Jr. Varsity
D30: Overall
A31: Rank | B31: Team | D31: Total
A32: 1 | B32: ='Standings - Combined'!G33 -> Ottawa University (KS) JV1 | D32: ='Standings - Combined'!I33 -> 6709
A33: 2 | B33: ='Standings - Combined'!G34 -> Baker University JV1 | D33: ='Standings - Combined'!I34 -> 6516
A34: 3 | B34: ='Standings - Combined'!G35 -> 0 | D34: ='Standings - Combined'!I35 -> 0
A35: 4 | B35: ='Standings - Combined'!G36 -> 0 | D35: ='Standings - Combined'!I36 -> 0
A36: 5 | B36: ='Standings - Combined'!G37 -> 0 | D36: ='Standings - Combined'!I37 -> 0
A37: 6 | B37: ='Standings - Combined'!G38 -> 0 | D37: ='Standings - Combined'!I38 -> 0
A38: 7 | B38: ='Standings - Combined'!G39 -> 0 | D38: ='Standings - Combined'!I39 -> 0
A39: 8 | B39: ='Standings - Combined'!G40 -> 0 | D39: ='Standings - Combined'!I40 -> 0
A40: 9 | B40: ='Standings - Combined'!G41 -> 0 | D40: ='Standings - Combined'!I41 -> 0
A41: 10 | B41: ='Standings - Combined'!G42 -> 0 | D41: ='Standings - Combined'!I42 -> 0
A42: 11 | B42: ='Standings - Combined'!G43 -> 0 | D42: ='Standings - Combined'!I43 -> 0
A43: 12 | B43: ='Standings - Combined'!G44 -> 0 | D43: ='Standings - Combined'!I44 -> 0
... A49: 18 | B49: ='Standings - Combined'!G50 -> 0 | D49: ='Standings - Combined'!I50 -> 0

Sheet Bracket - Men V
R1: Mens Varsity - Quarter Finals
A2: 1 | B2: =INDEX('Standings - Men'!$B$7:$B$24,MATCH('Bracket - Men V'!A2,'Standings - Men'!$A$7:$A$24,0)) -> 0 | R2: Lane | S2: Seed | T2: Team | U2: Game 1 | V2: Game 2 | W2: Game 3 | X2: Game 4 | Y2: Total
E3: =S18 -> 1 | F3: =T18 -> 0 | R3: 7 | S3: 1 | T3: =INDEX('Standings - Men'!$B$7:$B$24,MATCH('Bracket - Men V'!S3,'Standings - Men'!$A$7:$A$24,0)) -> 0 | Y3: =SUM(U3:X3) -> 0 | Z3: =RANK(Y3,$Y$3:$Y$4) -> 1
R4: 8 | S4: 8 | T4: =INDEX('Standings - Men'!$B$7:$B$24,MATCH('Bracket - Men V'!S4,'Standings - Men'!$A$7:$A$24,0)) -> 0 | Y4: =SUM(U4:X4) -> 0 | Z4: =RANK(Y4,$Y$3:$Y$4) -> 1
A5: 8 | B5: =INDEX('Standings - Men'!$B$7:$B$24,MATCH('Bracket - Men V'!A5,'Standings - Men'!$A$7:$A$24,0)) -> 0
I6: =S27 -> 1 | J6: =T27 -> 0 | R6: 9 | S6: 6 | T6: =INDEX('Standings - Men'!$B$7:$B$24,MATCH('Bracket - Men V'!S6,'Standings - Men'!$A$7:$A$24,0)) -> 0 | Y6: =SUM(U6:X6) -> 0 | Z6: =RANK(Y6,$Y$6:$Y$7) -> 1
R7: 10 | S7: 3 | T7: =INDEX('Standings - Men'!$B$7:$B$24,MATCH('Bracket - Men V'!S7,'Standings - Men'!$A$7:$A$24,0)) -> 0 | Y7: =SUM(U7:X7) -> 0 | Z7: =RANK(Y7,$Y$6:$Y$7) -> 1
A8: 6
R9: 11 | S9: 4 | T9: =INDEX('Standings - Men'!$B$7:$B$24,MATCH('Bracket - Men V'!S9,'Standings - Men'!$A$7:$A$24,0)) -> 0 | U9: 214 | V9: 179 | W9: 203 | X9: 165 | Y9: =SUM(U9:X9) -> 761 | Z9: =RANK(Y9,$Y$9:$Y$10) -> 2
E10: =S19 -> 6 | F10: =T19 -> 0 | R10: 12 | S10: 5 | T10: =INDEX('Standings - Men'!$B$7:$B$24,MATCH('Bracket - Men V'!S10,'Standings - Men'!$A$7:$A$24,0)) -> 0 | U10: 193 | V10: 227 | W10: 227 | X10: 168 | Y10: =SUM(U10:X10) -> 815 | Z10: =RANK(Y10,$Y$9:$Y$10) -> 1
A11: 3
M12: =INDEX($S$27:$S$28,MATCH(1,Z27:Z28,0)) -> 1 | N12: =INDEX($T$27:$T$28,MATCH(1,Z27:Z28,0)) -> 0 | R12: 13 | S12: 7 | T12: =INDEX('Standings - Men'!$B$7:$B$24,MATCH('Bracket - Men V'!S12,'Standings - Men'!$A$7:$A$24,0)) -> 0 | U12: 189 | V12: 168 | W12: 173 | X12: 152 | Y12: =SUM(U12:X12) -> 682 | Z12: =RANK(Y12,$Y$12:$Y$13) -> 2
R13: 14 | S13: 2 | T13: =INDEX('Standings - Men'!$B$7:$B$24,MATCH('Bracket - Men V'!S13,'Standings - Men'!$A$7:$A$24,0)) -> 0 | U13: 225 | V13: 201 | W13: 190 | X13: 216 | Y13: =SUM(U13:X13) -> 832 | Z13: =RANK(Y13,$Y$12:$Y$13) -> 1
A14: 4
E15: =S21 -> 5 | F15: =T21 -> 0
R16: Mens Varsity - Semi Finals
A17: 5 | R17: Lane | S17: Seed | T17: Team | U17: Game 1 | V17: Game 2 | W17: Game 3 | X17: Game 4 | Y17: Total
R18: 9 | S18: =INDEX($S$3:$S$4,MATCH(1,$Z$3:$Z$4,0)) -> 1 | T18: =INDEX('Standings - Men'!$B$7:$B$24,MATCH('Bracket - Men V'!S18,'Standings - Men'!$A$7:$A$24,0)) -> 0 | U18: 202 | V18: 194 | W18: 214 | X18: 191 | Y18: =SUM(U18:X18) -> 801 | Z18: =RANK(Y18,$Y$18:$Y$19) -> 1
I19: =S28 -> 5 | J19: =T28 -> 0 | R19: 10 | S19: =INDEX($S$6:$S$7,MATCH(1,$Z$6:$Z$7,0)) -> 6 | T19: =INDEX('Standings - Men'!$B$7:$B$24,MATCH('Bracket - Men V'!S19,'Standings - Men'!$A$7:$A$24,0)) -> 0 | U19: 181 | V19: 158 | W19: 181 | X19: 184 | Y19: =SUM(U19:X19) -> 704 | Z19: =RANK(Y19,$Y$18:$Y$19) -> 2
A20: 7
R21: 11 | S21: =INDEX($S$9:$S$10,MATCH(1,$Z$9:$Z$10,0)) -> 5 | T21: =INDEX('Standings - Men'!$B$7:$B$24,MATCH('Bracket - Men V'!S21,'Standings - Men'!$A$7:$A$24,0)) -> 0 | U21: 236 | V21: 187 | W21: 201 | X21: 201 | Y21: =SUM(U21:X21) -> 825 | Z21: =RANK(Y21,$Y$21:$Y$22) -> 1
E22: =S22 -> 2 | F22: =T22 -> 0 | R22: 12 | S22: =INDEX($S$12:$S$13,MATCH(1,$Z$12:$Z$13,0)) -> 2 | T22: =INDEX('Standings - Men'!$B$7:$B$24,MATCH('Bracket - Men V'!S22,'Standings - Men'!$A$7:$A$24,0)) -> 0 | U22: 209 | V22: 203 | W22: 180 | X22: 174 | Y22: =SUM(U22:X22) -> 766 | Z22: =RANK(Y22,$Y$21:$Y$22) -> 2
A23: 2
R25: Mens Varsity - Semi Finals
R26: Lane | S26: Seed | T26: Team | U26: Game 1 | V26: Game 2 | W26: Game 3 | X26: Game 4 | Y26: Total
R27: 9 | S27: =INDEX($S$18:$S$19,MATCH(1,$Z$18:$Z$19,0)) -> 1 | T27: =INDEX('Standings - Men'!$B$7:$B$24,MATCH('Bracket - Men V'!S27,'Standings - Men'!$A$7:$A$24,0)) -> 0 | U27: 202 | V27: 194 | W27: 214 | X27: 191 | Y27: =SUM(U27:X27) -> 801 | Z27: =RANK(Y27,$Y$27:$Y$28) -> 1
R28: 10 | S28: =INDEX($S$21:$S$22,MATCH(1,$Z$21:$Z$22,0)) -> 5 | T28: =INDEX('Standings - Men'!$B$7:$B$24,MATCH('Bracket - Men V'!S28,'Standings - Men'!$A$7:$A$24,0)) -> 0 | U28: 181 | V28: 158 | W28: 181 | X28: 184 | Y28: =SUM(U28:X28) -> 704 | Z28: =RANK(Y28,$Y$27:$Y$28) -> 2

Sheet Bracket - Women V
R1: Mens Varsity - Quarter Finals
A2: 1 | B2: =INDEX('Standings - Women'!$B$7:$B$24,MATCH('Bracket - Women V'!A2,'Standings - Women'!$A$7:$A$24,0)) -> 0 | R2: Lane | S2: Seed | T2: Team | U2: Game 1 | V2: Game 2 | W2: Game 3 | X2: Game 4 | Y2: Total
E3: =S18 -> 1 | F3: =T18 -> 0 | R3: 7 | S3: 1 | T3: =INDEX('Standings - Women'!$B$7:$B$24,MATCH('Bracket - Women V'!S3,'Standings - Women'!$A$7:$A$24,0)) -> 0 | Y3: =SUM(U3:X3) -> 0 | Z3: =RANK(Y3,$Y$3:$Y$4) -> 1
R4: 8 | S4: 8 | T4: =INDEX('Standings - Women'!$B$7:$B$24,MATCH('Bracket - Women V'!S4,'Standings - Women'!$A$7:$A$24,0)) -> 0 | Y4: =SUM(U4:X4) -> 0 | Z4: =RANK(Y4,$Y$3:$Y$4) -> 1
A5: 8 | B5: =INDEX('Standings - Women'!$B$7:$B$24,MATCH('Bracket - Women V'!A5,'Standings - Women'!$A$7:$A$24,0)) -> 0
I6: =S27 -> 1 | J6: =T27 -> 0 | R6: 9 | S6: 6 | T6: =INDEX('Standings - Women'!$B$7:$B$24,MATCH('Bracket - Women V'!S6,'Standings - Women'!$A$7:$A$24,0)) -> 0 | Y6: =SUM(U6:X6) -> 0 | Z6: =RANK(Y6,$Y$6:$Y$7) -> 1
R7: 10 | S7: 3 | T7: =INDEX('Standings - Women'!$B$7:$B$24,MATCH('Bracket - Women V'!S7,'Standings - Women'!$A$7:$A$24,0)) -> 0 | Y7: =SUM(U7:X7) -> 0 | Z7: =RANK(Y7,$Y$6:$Y$7) -> 1
A8: 6
R9: 11 | S9: 4 | T9: =INDEX('Standings - Women'!$B$7:$B$24,MATCH('Bracket - Women V'!S9,'Standings - Women'!$A$7:$A$24,0)) -> 0 | Y9: =SUM(U9:X9) -> 0 | Z9: =RANK(Y9,$Y$9:$Y$10) -> 1
E10: =S19 -> 6 | F10: =T19 -> 0 | R10: 12 | S10: 5 | T10: =INDEX('Standings - Women'!$B$7:$B$24,MATCH('Bracket - Women V'!S10,'Standings - Women'!$A$7:$A$24,0)) -> 0 | Y10: =SUM(U10:X10) -> 0 | Z10: =RANK(Y10,$Y$9:$Y$10) -> 1
A11: 3
M12: =INDEX($S$27:$S$28,MATCH(1,Z27:Z28,0)) -> 1 | N12: =INDEX($T$27:$T$28,MATCH(1,Z27:Z28,0)) -> 0 | R12: 13 | S12: 7 | T12: =INDEX('Standings - Women'!$B$7:$B$24,MATCH('Bracket - Women V'!S12,'Standings - Women'!$A$7:$A$24,0)) -> 0 | Y12: =SUM(U12:X12) -> 0 | Z12: =RANK(Y12,$Y$12:$Y$13) -> 1
R13: 14 | S13: 2 | T13: =INDEX('Standings - Women'!$B$7:$B$24,MATCH('Bracket - Women V'!S13,'Standings - Women'!$A$7:$A$24,0)) -> 0 | Y13: =SUM(U13:X13) -> 0 | Z13: =RANK(Y13,$Y$12:$Y$13) -> 1
A14: 4
E15: =S21 -> 4 | F15: =T21 -> 0
R16: Mens Varsity - Semi Finals
A17: 5 | R17: Lane | S17: Seed | T17: Team | Y17: Total
R18: 9 | S18: =INDEX($S$3:$S$4,MATCH(1,$Z$3:$Z$4,0)) -> 1 | T18: =INDEX('Standings - Women'!$B$7:$B$24,MATCH('Bracket - Women V'!S18,'Standings - Women'!$A$7:$A$24,0)) -> 0 | Y18: =SUM(U18:X18) -> 0 | Z18: =RANK(Y18,$Y$18:$Y$19) -> 1
I19: =S28 -> 4 | J19: =T28 -> 0 | R19: 10 | S19: =INDEX($S$6:$S$7,MATCH(1,$Z$6:$Z$7,0)) -> 6 | T19: =INDEX('Standings - Women'!$B$7:$B$24,MATCH('Bracket - Women V'!S19,'Standings - Women'!$A$7:$A$24,0)) -> 0 | Y19: =SUM(U19:X19) -> 0 | Z19: =RANK(Y19,$Y$18:$Y$19) -> 1
A20: 7
R21: 11 | S21: =INDEX($S$9:$S$10,MATCH(1,$Z$9:$Z$10,0)) -> 4 | T21: =INDEX('Standings - Women'!$B$7:$B$24,MATCH('Bracket - Women V'!S21,'Standings - Women'!$A$7:$A$24,0)) -> 0 | Y21: =SUM(U21:X21) -> 0 | Z21: =RANK(Y21,$Y$21:$Y$22) -> 1
E22: =S22 -> 7 | F22: =T22 -> 0 | R22: 12 | S22: =INDEX($S$12:$S$13,MATCH(1,$Z$12:$Z$13,0)) -> 7 | T22: =INDEX('Standings - Women'!$B$7:$B$24,MATCH('Bracket - Women V'!S22,'Standings - Women'!$A$7:$A$24,0)) -> 0 | Y22: =SUM(U22:X22) -> 0 | Z22: =RANK(Y22,$Y$21:$Y$22) -> 1
A23: 2
R25: Mens Varsity - Semi Finals
R26: Lane | S26: Seed | T26: Team | U26: Game 1 | V26: Game 2 | W26: Game 3 | X26: Game 4 | Y26: Total
R27: 9 | S27: =INDEX($S$18:$S$19,MATCH(1,$Z$18:$Z$19,0)) -> 1 | T27: =INDEX('Standings - Women'!$B$7:$B$24,MATCH('Bracket - Women V'!S27,'Standings - Women'!$A$7:$A$24,0)) -> 0 | Y27: =SUM(U27:X27) -> 0 | Z27: =RANK(Y27,$Y$27:$Y$28) -> 1
R28: 10 | S28: =INDEX($S$21:$S$22,MATCH(1,$Z$21:$Z$22,0)) -> 4 | T28: =INDEX('Standings - Women'!$B$7:$B$24,MATCH('Bracket - Women V'!S28,'Standings - Women'!$A$7:$A$24,0)) -> 0 | Y28: =SUM(U28:X28) -> 0 | Z28: =RANK(Y28,$Y$27:$Y$28) -> 1

Sheet Bracket - Men JV
R1: Mens Varsity - Quarter Finals
A2: 1 | B2: =INDEX('Standings - Men JV'!$B$7:$B$24,MATCH('Bracket - Men JV'!A2,'Standings - Men JV'!$A$7:$A$24,0)) -> 0 | R2: Lane | S2: Seed | T2: Team | U2: Game 1 | V2: Game 2 | W2: Game 3 | X2: Game 4 | Y2: Total
E3: =S18 -> 1 | F3: =T18 -> 0 | R3: 7 | S3: 1 | T3: =INDEX('Standings - Men JV'!$B$7:$B$24,MATCH('Bracket - Men JV'!S3,'Standings - Men JV'!$A$7:$A$24,0)) -> 0 | Y3: =SUM(U3:X3) -> 0 | Z3: =RANK(Y3,$Y$3:$Y$4) -> 1
R4: 8 | S4: 8 | T4: =INDEX('Standings - Men JV'!$B$7:$B$24,MATCH('Bracket - Men JV'!S4,'Standings - Men JV'!$A$7:$A$24,0)) -> 0 | Y4: =SUM(U4:X4) -> 0 | Z4: =RANK(Y4,$Y$3:$Y$4) -> 1
A5: 8 | B5: =INDEX('Standings - Men JV'!$B$7:$B$24,MATCH('Bracket - Men JV'!A5,'Standings - Men JV'!$A$7:$A$24,0)) -> 0
I6: =S27 -> 1 | J6: =T27 -> 0 | R6: 9 | S6: 6 | T6: =INDEX('Standings - Men JV'!$B$7:$B$24,MATCH('Bracket - Men JV'!S6,'Standings - Men JV'!$A$7:$A$24,0)) -> 0 | Y6: =SUM(U6:X6) -> 0 | Z6: =RANK(Y6,$Y$6:$Y$7) -> 1
R7: 10 | S7: 3 | T7: =INDEX('Standings - Men JV'!$B$7:$B$24,MATCH('Bracket - Men JV'!S7,'Standings - Men JV'!$A$7:$A$24,0)) -> 0 | Y7: =SUM(U7:X7) -> 0 | Z7: =RANK(Y7,$Y$6:$Y$7) -> 1
A8: 6
R9: 11 | S9: 4 | T9: =INDEX('Standings - Men JV'!$B$7:$B$24,MATCH('Bracket - Men JV'!S9,'Standings - Men JV'!$A$7:$A$24,0)) -> 0 | Y9: =SUM(U9:X9) -> 0 | Z9: =RANK(Y9,$Y$9:$Y$10) -> 1
E10: =S19 -> 6 | F10: =T19 -> 0 | R10: 12 | S10: 5 | T10: =INDEX('Standings - Men JV'!$B$7:$B$24,MATCH('Bracket - Men JV'!S10,'Standings - Men JV'!$A$7:$A$24,0)) -> 0 | Y10: =SUM(U10:X10) -> 0 | Z10: =RANK(Y10,$Y$9:$Y$10) -> 1
A11: 3
M12: =INDEX($S$27:$S$28,MATCH(1,Z27:Z28,0)) -> 1 | N12: =INDEX($T$27:$T$28,MATCH(1,Z27:Z28,0)) -> 0 | R12: 13 | S12: 7 | T12: =INDEX('Standings - Men JV'!$B$7:$B$24,MATCH('Bracket - Men JV'!S12,'Standings - Men JV'!$A$7:$A$24,0)) -> 0 | Y12: =SUM(U12:X12) -> 0 | Z12: =RANK(Y12,$Y$12:$Y$13) -> 1
R13: 14 | S13: 2 | T13: =INDEX('Standings - Men JV'!$B$7:$B$24,MATCH('Bracket - Men JV'!S13,'Standings - Men JV'!$A$7:$A$24,0)) -> 0 | Y13: =SUM(U13:X13) -> 0 | Z13: =RANK(Y13,$Y$12:$Y$13) -> 1
A14: 4
E15: =S21 -> 4 | F15: =T21 -> 0
R16: Mens Varsity - Semi Finals
A17: 5 | R17: Lane | S17: Seed | T17: Team | U17: Game 1 | V17: Game 2 | W17: Game 3 | X17: Game 4 | Y17: Total
R18: 9 | S18: =INDEX($S$3:$S$4,MATCH(1,$Z$3:$Z$4,0)) -> 1 | T18: =INDEX('Standings - Men JV'!$B$7:$B$24,MATCH('Bracket - Men JV'!S18,'Standings - Men JV'!$A$7:$A$24,0)) -> 0 | Y18: =SUM(U18:X18) -> 0 | Z18: =RANK(Y18,$Y$18:$Y$19) -> 1
I19: =S28 -> 4 | J19: =T28 -> 0 | R19: 10 | S19: =INDEX($S$6:$S$7,MATCH(1,$Z$6:$Z$7,0)) -> 6 | T19: =INDEX('Standings - Men JV'!$B$7:$B$24,MATCH('Bracket - Men JV'!S19,'Standings - Men JV'!$A$7:$A$24,0)) -> 0 | Y19: =SUM(U19:X19) -> 0 | Z19: =RANK(Y19,$Y$18:$Y$19) -> 1
A20: 7
R21: 11 | S21: =INDEX($S$9:$S$10,MATCH(1,$Z$9:$Z$10,0)) -> 4 | T21: =INDEX('Standings - Men JV'!$B$7:$B$24,MATCH('Bracket - Men JV'!S21,'Standings - Men JV'!$A$7:$A$24,0)) -> 0 | Y21: =SUM(U21:X21) -> 0 | Z21: =RANK(Y21,$Y$21:$Y$22) -> 1
E22: =S22 -> 7 | F22: =T22 -> 0 | R22: 12 | S22: =INDEX($S$12:$S$13,MATCH(1,$Z$12:$Z$13,0)) -> 7 | T22: =INDEX('Standings - Men JV'!$B$7:$B$24,MATCH('Bracket - Men JV'!S22,'Standings - Men JV'!$A$7:$A$24,0)) -> 0 | Y22: =SUM(U22:X22) -> 0 | Z22: =RANK(Y22,$Y$21:$Y$22) -> 1
A23: 2
R25: Mens Varsity - Semi Finals
R26: Lane | S26: Seed | T26: Team | U26: Game 1 | V26: Game 2 | W26: Game 3 | X26: Game 4 | Y26: Total
R27: 9 | S27: =INDEX($S$18:$S$19,MATCH(1,$Z$18:$Z$19,0)) -> 1 | T27: =INDEX('Standings - Men JV'!$B$7:$B$24,MATCH('Bracket - Men JV'!S27,'Standings - Men JV'!$A$7:$A$24,0)) -> 0 | Y27: =SUM(U27:X27) -> 0 | Z27: =RANK(Y27,$Y$27:$Y$28) -> 1
R28: 10 | S28: =INDEX($S$21:$S$22,MATCH(1,$Z$21:$Z$22,0)) -> 4 | T28: =INDEX('Standings - Men JV'!$B$7:$B$24,MATCH('Bracket - Men JV'!S28,'Standings - Men JV'!$A$7:$A$24,0)) -> 0 | Y28: =SUM(U28:X28) -> 0 | Z28: =RANK(Y28,$Y$27:$Y$28) -> 1

Sheet Bracket - Women JV
R1: Mens Varsity - Quarter Finals
A2: 1 | B2: =INDEX('Standings - Women JV'!$B$7:$B$24,MATCH('Bracket - Women JV'!A2,'Standings - Women JV'!$A$7:$A$24,0)) -> 0 | R2: Lane | S2: Seed | T2: Team | U2: Game 1 | V2: Game 2 | W2: Game 3 | X2: Game 4 | Y2: Total
E3: =S18 -> 1 | F3: =T18 -> 0 | R3: 7 | S3: 1 | T3: =INDEX('Standings - Women JV'!$B$7:$B$24,MATCH('Bracket - Women JV'!S3,'Standings - Women JV'!$A$7:$A$24,0)) -> 0 | Y3: =SUM(U3:X3) -> 0 | Z3: =RANK(Y3,$Y$3:$Y$4) -> 1
R4: 8 | S4: 8 | T4: =INDEX('Standings - Women JV'!$B$7:$B$24,MATCH('Bracket - Women JV'!S4,'Standings - Women JV'!$A$7:$A$24,0)) -> 0 | Y4: =SUM(U4:X4) -> 0 | Z4: =RANK(Y4,$Y$3:$Y$4) -> 1
A5: 8 | B5: =INDEX('Standings - Women JV'!$B$7:$B$24,MATCH('Bracket - Women JV'!A5,'Standings - Women JV'!$A$7:$A$24,0)) -> 0
I6: =S27 -> 1 | J6: =T27 -> 0 | R6: 9 | S6: 6 | T6: =INDEX('Standings - Women JV'!$B$7:$B$24,MATCH('Bracket - Women JV'!S6,'Standings - Women JV'!$A$7:$A$24,0)) -> 0 | Y6: =SUM(U6:X6) -> 0 | Z6: =RANK(Y6,$Y$6:$Y$7) -> 1
R7: 10 | S7: 3 | T7: =INDEX('Standings - Women JV'!$B$7:$B$24,MATCH('Bracket - Women JV'!S7,'Standings - Women JV'!$A$7:$A$24,0)) -> 0 | Y7: =SUM(U7:X7) -> 0 | Z7: =RANK(Y7,$Y$6:$Y$7) -> 1
A8: 6
R9: 11 | S9: 4 | T9: =INDEX('Standings - Women JV'!$B$7:$B$24,MATCH('Bracket - Women JV'!S9,'Standings - Women JV'!$A$7:$A$24,0)) -> 0 | Y9: =SUM(U9:X9) -> 0 | Z9: =RANK(Y9,$Y$9:$Y$10) -> 1
E10: =S19 -> 6 | F10: =T19 -> 0 | R10: 12 | S10: 5 | T10: =INDEX('Standings - Women JV'!$B$7:$B$24,MATCH('Bracket - Women JV'!S10,'Standings - Women JV'!$A$7:$A$24,0)) -> 0 | Y10: =SUM(U10:X10) -> 0 | Z10: =RANK(Y10,$Y$9:$Y$10) -> 1
A11: 3
M12: =INDEX($S$27:$S$28,MATCH(1,Z27:Z28,0)) -> 1 | N12: =INDEX($T$27:$T$28,MATCH(1,Z27:Z28,0)) -> 0 | R12: 13 | S12: 7 | T12: =INDEX('Standings - Women JV'!$B$7:$B$24,MATCH('Bracket - Women JV'!S12,'Standings - Women JV'!$A$7:$A$24,0)) -> 0 | Y12: =SUM(U12:X12) -> 0 | Z12: =RANK(Y12,$Y$12:$Y$13) -> 1
R13: 14 | S13: 2 | T13: =INDEX('Standings - Women JV'!$B$7:$B$24,MATCH('Bracket - Women JV'!S13,'Standings - Women JV'!$A$7:$A$24,0)) -> 0 | Y13: =SUM(U13:X13) -> 0 | Z13: =RANK(Y13,$Y$12:$Y$13) -> 1
A14: 4
E15: =S21 -> 4 | F15: =T21 -> 0
R16: Mens Varsity - Semi Finals
A17: 5 | R17: Lane | S17: Seed | T17: Team | U17: Game 1 | V17: Game 2 | W17: Game 3 | X17: Game 4 | Y17: Total
R18: 9 | S18: =INDEX($S$3:$S$4,MATCH(1,$Z$3:$Z$4,0)) -> 1 | T18: =INDEX('Standings - Women JV'!$B$7:$B$24,MATCH('Bracket - Women JV'!S18,'Standings - Women JV'!$A$7:$A$24,0)) -> 0 | Y18: =SUM(U18:X18) -> 0 | Z18: =RANK(Y18,$Y$18:$Y$19) -> 1
I19: =S28 -> 4 | J19: =T28 -> 0 | R19: 10 | S19: =INDEX($S$6:$S$7,MATCH(1,$Z$6:$Z$7,0)) -> 6 | T19: =INDEX('Standings - Women JV'!$B$7:$B$24,MATCH('Bracket - Women JV'!S19,'Standings - Women JV'!$A$7:$A$24,0)) -> 0 | Y19: =SUM(U19:X19) -> 0 | Z19: =RANK(Y19,$Y$18:$Y$19) -> 1
A20: 7
R21: 11 | S21: =INDEX($S$9:$S$10,MATCH(1,$Z$9:$Z$10,0)) -> 4 | T21: =INDEX('Standings - Women JV'!$B$7:$B$24,MATCH('Bracket - Women JV'!S21,'Standings - Women JV'!$A$7:$A$24,0)) -> 0 | Y21: =SUM(U21:X21) -> 0 | Z21: =RANK(Y21,$Y$21:$Y$22) -> 1
E22: =S22 -> 7 | F22: =T22 -> 0 | R22: 12 | S22: =INDEX($S$12:$S$13,MATCH(1,$Z$12:$Z$13,0)) -> 7 | T22: =INDEX('Standings - Women JV'!$B$7:$B$24,MATCH('Bracket - Women JV'!S22,'Standings - Women JV'!$A$7:$A$24,0)) -> 0 | Y22: =SUM(U22:X22) -> 0 | Z22: =RANK(Y22,$Y$21:$Y$22) -> 1
A23: 2
R25: Mens Varsity - Semi Finals
R26: Lane | S26: Seed | T26: Team | U26: Game 1 | V26: Game 2 | W26: Game 3 | X26: Game 4 | Y26: Total
R27: 9 | S27: =INDEX($S$18:$S$19,MATCH(1,$Z$18:$Z$19,0)) -> 1 | T27: =INDEX('Standings - Women JV'!$B$7:$B$24,MATCH('Bracket - Women JV'!S27,'Standings - Women JV'!$A$7:$A$24,0)) -> 0 | Y27: =SUM(U27:X27) -> 0 | Z27: =RANK(Y27,$Y$27:$Y$28) -> 1
R28: 10 | S28: =INDEX($S$21:$S$22,MATCH(1,$Z$21:$Z$22,0)) -> 4 | T28: =INDEX('Standings - Women JV'!$B$7:$B$24,MATCH('Bracket - Women JV'!S28,'Standings - Women JV'!$A$7:$A$24,0)) -> 0 | Y28: =SUM(U28:X28) -> 0 | Z28: =RANK(Y28,$Y$27:$Y$28) -> 1
