Workbook

Sheet 5 tm 12 bkr Data
A1: Tournament Name | B1: Team # | C1: Mens Varsity Teams | D1: Team # | E1: Mens JV Teams | F1: Team # | G1: Womens Varsity Teams | H1: Team # | I1: Womens JV Teams | L1: Mens Varsity Roster | P1: Mens JV Roster | T1: Womens Varsity Roster | X1: Womens JV Roster
A2: Jayhawk Collegiate Challenge | B2: 1 | C2: Avila University - Men Varsity | D2: 1 | E2: Avila University - Men JV | F2: 1 | G2: Avila University - Women Varsity | H2: 1 | I2: Kansas State University - Women JV | J2: 1a | K2: 1 | L2: Aidan Tesdall | N2: 1a | O2: 1 | P2: Brady Darr | R2: 1a | S2: 1 | T2: Brittany Mohling | V2: 1a | W2: 1
B3: 2 | C3: Baker University - Men Varsity | D3: 2 | E3: Baker University - Men JV | F3: 2 | G3: Baker University - Women Varsity | H3: 2 | I3: Morningside University - Women JV | J3: 1b | K3: 1 | L3: Brody Stanback | N3: 1b | O3: 1 | P3: Calvin Mcmiller | R3: 1b | S3: 1 | T3: Claire Busch | V3: 1b | W3: 1
B4: 3 | C4: Barton Community College - Men Varsity | D4: 3 | E4: Grand View University - Men JV | F4: 3 | G4: Barton Community College - Women Varsity | H4: 3 | I4: Ottawa University (KS) - Women JV | J4: 1c | K4: 1 | L4: Bryce Stewart | N4: 1c | O4: 1 | P4: Colton Cline | R4: 1c | S4: 1 | T4: Emma Foland | V4: 1c | W4: 1
B5: 4 | C5: Central Methodist University - Men Varsity | D5: 4 | E5: Kansas State University - Men JV | F5: 4 | G5: Central Methodist University - Women Varsity | H5: 4 | I5: William Penn University - Women JV | J5: 1d | K5: 1 | L5: Caleb Wangler | N5: 1d | O5: 1 | P5: Gage Warren | R5: 1d | S5: 1 | T5: Kamdyn Burman | V5: 1d | W5: 1
B6: 5 | C6: Clarke University - Men Varsity | D6: 5 | E6: Morningside University - Men JV | F6: 5 | G6: Clarke University - Women Varsity | H6: 5 | I6: 6 | J6: 1e | K6: 1 | L6: Evan Serrage | N6: 1e | O6: 1 | P6: Garrett Messenger | R6: 1e | S6: 1 | T6: Kirsten Zirjacks | V6: 1e | W6: 1
B7: 6 | C7: Culver-Stockton College - Men Varsity | D7: 6 | E7: Ottawa University (KS) - Men JV | F7: 6 | G7: Columbia College - Women Varsity | H7: 6 | I7: 7 | J7: 1f | K7: 1 | L7: Max Sturgeon | N7: 1f | O7: 1 | P7: Joshua Oldham | R7: 1f | S7: 1 | T7: Victoria Bestor | V7: 1f | W7: 1
B8: 7 | C8: Grand View University - Men Varsity | D8: 7 | E8: Ottawa University (KS) - Men JV | F8: 7 | G8: Culver-Stockton College - Women Varsity | H8: 7 | I8: 8 | J8: 1g | K8: 1 | L8: Nicolas Garza | N8: 1g | O8: 1 | P8: Wesley Smith | R8: 1g | S8: 1 | T8: Victoria Leal | V8: 1g | W8: 1
B9: 8 | C9: Hastings College - Men Varsity | D9: 8 | E9: William Penn University - Men JV | F9: 8 | G9: Grand View University - Women Varsity | H9: 8 | I9: 9 | J9: 1h | K9: 1 | N9: 1h | O9: 1 | R9: 1h | S9: 1 | V9: 1h | W9: 1
B10: 9 | C10: Kansas ,University Of - Men Varsity | D10: 9 | E10: 10 | F10: 9 | G10: Hastings College - Women Varsity | H10: 9 | I10: 10 | J10: 2a | K10: 2 | L10: Aidan Vanmetre | N10: 2a | O10: 2 | P10: Alex Wright | R10: 2a | S10: 2 | T10: Audrey Valdez | V10: 2a | W10: 2 | X10: Elana Krutsinger
B11: 10 | C11: Kansas State University - Men Varsity | D11: 10 | E11: 11 | F11: 10 | G11: Kansas ,University Of - Women Varsity | H11: 10 | I11: 11 | J11: 2b | K11: 2 | L11: Brett Gamber | N11: 2b | O11: 2 | P11: Deken Penny | R11: 2b | S11: 2 | T11: Aviana Ordonez | V11: 2b | W11: 2 | X11: Kiara(Riley) Howard
B12: 11 | C12: Kansas Wesleyan University - Men Varsity | D12: 11 | E12: 12 | F12: 11 | G12: Kansas State University - Women Varsity | H12: 11 | I12: 12 | J12: 2c | K12: 2 | L12: Josh King | N12: 2c | O12: 2 | P12: Justin Brookens | R12: 2c | S12: 2 | T12: Darby Hauff | V12: 2c | W12: 2 | X12: Liberty Nordstrom
B13: 12 | C13: Midland University - Men Varsity | D13: 12 | E13: 13 | F13: 12 | G13: Kansas Wesleyan University - Women Varsity | H13: 12 | I13: 13 | J13: 2d | K13: 2 | L13: Ken Rowland | N13: 2d | O13: 2 | P13: Landon Scott | R13: 2d | S13: 2 | T13: Dylan Holmes | V13: 2d | W13: 2 | X13: Samantha Sonier
B14: 13 | C14: Missouri Valley College - Men Varsity | D14: 13 | E14: 14 | F14: 13 | G14: Midland University - Women Varsity | H14: 13 | I14: 14 | J14: 2e | K14: 2 | L14: Tanner Eckerle | N14: 2e | O14: 2 | P14: Tanner Lindquist | R14: 2e | S14: 2 | T14: Kaleigh Buckalew | V14: 2e | W14: 2 | X14: Zara Bitsos
B15: 14 | C15: Morningside University - Men Varsity | D15: 14 | E15: 15 | F15: 14 | G15: Morningside University - Women Varsity | H15: 14 | I15: 15 | J15: 2f | K15: 2 | N15: 2f | O15: 2 | P15: Tanner Mcguire | R15: 2f | S15: 2 | T15: Karli Gilliland | V15: 2f | W15: 2
B16: 15 | C16: Ottawa University (KS) - Men Varsity | D16: 15 | E16: 16 | F16: 15 | G16: Ottawa University (KS) - Women Varsity | H16: 15 | I16: 16 | J16: 2g | K16: 2 | N16: 2g | O16: 2 | R16: 2g | S16: 2 | T16: Kinsey Miller | V16: 2g | W16: 2
B17: 16 | C17: Peru State College - Men Varsity | D17: 16 | E17: 17 | F17: 16 | G17: Peru State College - Women Varsity | H17: 16 | I17: 17 | J17: 2h | K17: 2 | N17: 2h | O17: 2 | R17: 2h | S17: 2 | V17: 2h | W17: 2
B18: 17 | C18: University Of Saint Mary - Men Varsity | D18: 17 | E18: 18 | F18: 17 | G18: University Of Saint Mary - Women Varsity | H18: 17 | I18: 18 | J18: 3a | K18: 3 | L18: Braden Boswell | N18: 3a | O18: 3 | P18: Alex Knoshaug | R18: 3a | S18: 3 | T18: Allyson Heidenreich | V18: 3a | W18: 3 | X18: Amber Wagner
B19: 18 | C19: William Penn University - Men Varsity | D19: 18 | E19: 19 | F19: 18 | G19: William Penn University - Women Varsity | H19: 18 | I19: 19 | J19: 3b | K19: 3 | L19: Cale McConnell | N19: 3b | O19: 3 | P19: Camrey Cavan | R19: 3b | S19: 3 | T19: Cassidy Eschliman | V19: 3b | W19: 3 | X19: Ashlynn Senecal
B20: 19 | C20: 20 | D20: 19 | E20: 20 | F20: 19 | G20: 20 | H20: 19 | I20: 20 | J20: 3c | K20: 3 | L20: Caleb Murphy | N20: 3c | O20: 3 | P20: Dominick Judge | R20: 3c | S20: 3 | T20: Cassidy Goans | V20: 3c | W20: 3 | X20: Isabel Wong
B21: 20 | C21: 21 | D21: 20 | E21: 21 | F21: 20 | G21: 21 | H21: 20 | I21: 21 | J21: 3d | K21: 3 | L21: Carter Lambeth | N21: 3d | O21: 3 | P21: Ethan Simpson | R21: 3d | S21: 3 | T21: Chailyn Scott | V21: 3d | W21: 3 | X21: Jazel Tiquia
B22: 21 | C22: 22 | D22: 21 | E22: 22 | F22: 21 | G22: 22 | H22: 21 | I22: 22 | J22: 3e | K22: 3 | L22: Christopher O'Connor | N22: 3e | O22: 3 | P22: Hunter Shannon | R22: 3e | S22: 3 | T22: Jaden Rabe | V22: 3e | W22: 3 | X22: Lydia Phillips
B23: 22 | C23: 23 | D23: 22 | E23: 23 | F23: 22 | G23: 23 | H23: 22 | I23: 23 | J23: 3f | K23: 3 | L23: Cooper Holloway | N23: 3f | O23: 3 | P23: Kory Ludden | R23: 3f | S23: 3 | T23: Jasmine Bridges | V23: 3f | W23: 3
B24: 23 | C24: 24 | D24: 23 | E24: 24 | F24: 23 | G24: 24 | H24: 23 | I24: 24 | J24: 3g | K24: 3 | L24: Logan Lindsley | N24: 3g | O24: 3 | P24: Maxwell Martin | R24: 3g | S24: 3 | T24: Morgan Kolanek | V24: 3g | W24: 3
B25: 24 | C25: 25 | D25: 24 | E25: 25 | F25: 24 | G25: 25 | H25: 24 | I25: 25 | J25: 3h | K25: 3 | L25: Torrey Lindsay | N25: 3h | O25: 3 | R25: 3h | S25: 3 | T25: Olivia Oliver | V25: 3h | W25: 3
B26: 25 | C26: 26 | D26: 25 | E26: 26 | F26: 25 | G26: 26 | H26: 25 | I26: 26 | J26: 4a | K26: 4 | L26: Cole Johnson | N26: 4a | O26: 4 | R26: 4a | S26: 4 | T26: Janell Whitfield | V26: 4a | W26: 4 | X26: Emily Eikenberry
B27: 26 | C27: 27 | D27: 26 | E27: 27 | F27: 26 | G27: 27 | H27: 26 | I27: 27 | J27: 4b | K27: 4 | L27: Colton Carrier | N27: 4b | O27: 4 | R27: 4b | S27: 4 | T27: Lauren Williams | V27: 4b | W27: 4 | X27: Kelcey Aczon-Kawamura
B28: 27 | C28: 28 | D28: 27 | E28: 28 | F28: 27 | G28: 28 | H28: 27 | I28: 28 | J28: 4c | K28: 4 | L28: Dustin Linneman | N28: 4c | O28: 4 | R28: 4c | S28: 4 | T28: Maya Elliott | V28: 4c | W28: 4 | X28: Lucille Mitchell
B29: 28 | C29: 29 | D29: 28 | E29: 29 | F29: 28 | G29: 29 | H29: 28 | I29: 29 | J29: 4d | K29: 4 | L29: Eric Moore | N29: 4d | O29: 4 | R29: 4d | S29: 4 | V29: 4d | W29: 4 | X29: Olivia Pilcher
B30: 29 | C30: 30 | D30: 29 | E30: 30 | F30: 29 | G30: 30 | H30: 29 | I30: 30 | J30: 4e | K30: 4 | L30: Kenneth Lolley | N30: 4e | O30: 4 | R30: 4e | S30: 4 | V30: 4e | W30: 4 | X30: Payton Vogel
B31: 30 | C31: 31 | D31: 30 | E31: 31 | F31: 30 | G31: 31 | H31: 30 | I31: 31 | J31: 4f | K31: 4 | N31: 4f | O31: 4 | R31: 4f | S31: 4 | V31: 4f | W31: 4 | X31: Saphyre McCombs
B32: 31 | C32: 32 | D32: 31 | E32: 32 | F32: 31 | G32: 32 | H32: 31 | I32: 32 | J32: 4g | K32: 4 | N32: 4g | O32: 4 | R32: 4g | S32: 4 | V32: 4g | W32: 4 | X32: Victoria Potter
B33: 32 | C33: 33 | D33: 32 | E33: 33 | F33: 32 | G33: 33 | H33: 32 | I33: 33 | J33: 4h | K33: 4 | N33: 4h | O33: 4 | R33: 4h | S33: 4 | V33: 4h | W33: 4
B34: 33 | C34: 34 | D34: 33 | E34: 34 | F34: 33 | G34: 34 | H34: 33 | I34: 34 | J34: 5a | K34: 5 | L34: Adante Jones | N34: 5a | O34: 5 | P34: Braden Huber | R34: 5a | S34: 5 | T34: Emily Larson | V34: 5a | W34: 5 | X34: a
B35: 34 | C35: 35 | D35: 34 | E35: 35 | F35: 34 | G35: 35 | H35: 34 | I35: 35 | J35: 5b | K35: 5 | L35: Harley Redding | N35: 5b | O35: 5 | P35: Christian Schmadeke | R35: 5b | S35: 5 | T35: Emma Clancy | V35: 5b | W35: 5 | X35: b
B36: 35 | C36: 36 | D36: 35 | E36: 36 | F36: 35 | G36: 36 | H36: 35 | I36: 36 | J36: 5c | K36: 5 | L36: Jordan Gorgas | N36: 5c | O36: 5 | P36: Marco Salcedo | R36: 5c | S36: 5 | T36: Jennifer Hayakawa | V36: 5c | W36: 5 | X36: c
B37: 36 | C37: 37 | D37: 36 | E37: 37 | F37: 36 | G37: 37 | H37: 36 | I37: 37 | J37: 5d | K37: 5 | L37: Justin Fichter | N37: 5d | O37: 5 | P37: Michael Swancutt | R37: 5d | S37: 5 | T37: Kassidy Gerken | V37: 5d | W37: 5 | X37: d
B38: 37 | C38: 38 | D38: 37 | E38: 38 | F38: 37 | G38: 38 | H38: 37 | I38: 38 | J38: 5e | K38: 5 | L38: Mannix Amos | N38: 5e | O38: 5 | P38: Zachary Stoltzfus | R38: 5e | S38: 5 | T38: Sidney Pawski | V38: 5e | W38: 5 | X38: e
B39: 38 | C39: 39 | D39: 38 | E39: 39 | F39: 38 | G39: 39 | H39: 38 | I39: 39 | J39: 5f | K39: 5 | L39: Shane Jordan | N39: 5f | O39: 5 | R39: 5f | S39: 5 | T39: Stephanie Thompson | V39: 5f | W39: 5 | X39: f
B40: 39 | C40: 40 | D40: 39 | E40: 40 | F40: 39 | G40: 40 | H40: 39 | I40: 40 | J40: 5g | K40: 5 | L40: Tanner Webb | N40: 5g | O40: 5 | R40: 5g | S40: 5 | V40: 5g | W40: 5 | X40: g
...

Sheet 5 tm 12 bkr MV
A1: Team | B1: 1 | C1: ='5 tm 12 bkr Data'!$A$2 -> Jayhawk Collegiate Challenge
F5: =INDEX('5 tm 12 bkr Data'!C:C,MATCH('5 tm 12 bkr MV'!B1,'5 tm 12 bkr Data'!B:B,0)) -> Avila University - Men Varsity
D8: Bowler Name | I8: Game 1 | K8: Game 2 | M8: Game 3 | O8: Game 4 | Q8: Game 5 | S8: Total
A9: =CONCATENATE(B1,B9) -> 1a | B9: a | D9: =INDEX('5 tm 12 bkr Data'!L:L,MATCH('5 tm 12 bkr MV'!A9,'5 tm 12 bkr Data'!J:J,0)) -> Aidan Tesdall
A10: =CONCATENATE(B1,B10) -> 1b | B10: b | D10: =INDEX('5 tm 12 bkr Data'!L:L,MATCH('5 tm 12 bkr MV'!A10,'5 tm 12 bkr Data'!J:J,0)) -> Brody Stanback
A11: =CONCATENATE(B1,B11) -> 1c | B11: c | D11: =INDEX('5 tm 12 bkr Data'!L:L,MATCH('5 tm 12 bkr MV'!A11,'5 tm 12 bkr Data'!J:J,0)) -> Bryce Stewart
A12: =CONCATENATE(B1,B12) -> 1d | B12: d | D12: =INDEX('5 tm 12 bkr Data'!L:L,MATCH('5 tm 12 bkr MV'!A12,'5 tm 12 bkr Data'!J:J,0)) -> Caleb Wangler
A13: =CONCATENATE(B1,B13) -> 1e | B13: e | D13: =INDEX('5 tm 12 bkr Data'!L:L,MATCH('5 tm 12 bkr MV'!A13,'5 tm 12 bkr Data'!J:J,0)) -> Evan Serrage
A14: =CONCATENATE(B1,B14) -> 1f | B14: f | D14: =INDEX('5 tm 12 bkr Data'!L:L,MATCH('5 tm 12 bkr MV'!A14,'5 tm 12 bkr Data'!J:J,0)) -> Max Sturgeon
A15: =CONCATENATE(B1,B15) -> 1g | B15: g | D15: =INDEX('5 tm 12 bkr Data'!L:L,MATCH('5 tm 12 bkr MV'!A15,'5 tm 12 bkr Data'!J:J,0)) -> Nicolas Garza
A16: =CONCATENATE(B1,B16) -> 1h | B16: h | D16: =INDEX('5 tm 12 bkr Data'!L:L,MATCH('5 tm 12 bkr MV'!A16,'5 tm 12 bkr Data'!J:J,0)) -> 0
H17: Total
E19: Bowler Name | H19: Game 1 | I19: Game 2 | J19: Game 3 | K19: Game 4 | L19: Game 5 | M19: Game 6 | N19: Game 7 | O19: Game 8 | P19: Game 9 | Q19: Game 10 | R19: Game 11 | S19: Game 12
E20: =IF(D9>0,D9,"") -> Aidan Tesdall
E21: =IF(D10>0,D10,"") -> Brody Stanback
E22: =IF(D11>0,D11,"") -> Bryce Stewart
E23: =IF(D12>0,D12,"") -> Caleb Wangler
E24: =IF(D13>0,D13,"") -> Evan Serrage
E25: =IF(D14>0,D14,"") -> Max Sturgeon
E26: =IF(D15>0,D15,"") -> Nicolas Garza
E27: =IF(D16>0,D16,"")
E28: Game Score
E29: Block Total
H30: Please text a picture of scores to Jared at 785-312-4677 after each team game and 4 baker games
A32: Team | B32: 2 | C32: ='5 tm 12 bkr Data'!$A$2 -> Jayhawk Collegiate Challenge
F36: =INDEX('5 tm 12 bkr Data'!C:C,MATCH('5 tm 12 bkr MV'!B32,'5 tm 12 bkr Data'!B:B,0)) -> Baker University - Men Varsity
D39: Bowler Name | I39: Game 1 | K39: Game 2 | M39: Game 3 | O39: Game 4 | Q39: Game 5 | S39: Total
A40: =CONCATENATE(B32,B40) -> 2a | B40: a | D40: =INDEX('5 tm 12 bkr Data'!L:L,MATCH('5 tm 12 bkr MV'!A40,'5 tm 12 bkr Data'!J:J,0)) -> Aidan Vanmetre
A41: =CONCATENATE(B32,B41) -> 2b | B41: b | D41: =INDEX('5 tm 12 bkr Data'!L:L,MATCH('5 tm 12 bkr MV'!A41,'5 tm 12 bkr Data'!J:J,0)) -> Brett Gamber
A42: =CONCATENATE(B32,B42) -> 2c | B42: c | D42: =INDEX('5 tm 12 bkr Data'!L:L,MATCH('5 tm 12 bkr MV'!A42,'5 tm 12 bkr Data'!J:J,0)) -> Josh King
A43: =CONCATENATE(B32,B43) -> 2d | B43: d | D43: =INDEX('5 tm 12 bkr Data'!L:L,MATCH('5 tm 12 bkr MV'!A43,'5 tm 12 bkr Data'!J:J,0)) -> Ken Rowland
A44: =CONCATENATE(B32,B44) -> 2e | B44: e | D44: =INDEX('5 tm 12 bkr Data'!L:L,MATCH('5 tm 12 bkr MV'!A44,'5 tm 12 bkr Data'!J:J,0)) -> Tanner Eckerle
A45: =CONCATENATE(B32,B45) -> 2f | B45: f | D45: =INDEX('5 tm 12 bkr Data'!L:L,MATCH('5 tm 12 bkr MV'!A45,'5 tm 12 bkr Data'!J:J,0)) -> 0
A46: =CONCATENATE(B32,B46) -> 2g | B46: g | D46: =INDEX('5 tm 12 bkr Data'!L:L,MATCH('5 tm 12 bkr MV'!A46,'5 tm 12 bkr Data'!J:J,0)) -> 0
A47: =CONCATENATE(B32,B47) -> 2h | B47: h | D47: =INDEX('5 tm 12 bkr Data'!L:L,MATCH('5 tm 12 bkr MV'!A47,'5 tm 12 bkr Data'!J:J,0)) -> 0
H48: Total
E50: Bowler Name | H50: Game 1 | I50: Game 2 | J50: Game 3 | K50: Game 4 | L50: Game 5 | M50: Game 6 | N50: Game 7 | O50: Game 8 | P50: Game 9 | Q50: Game 10 | R50: Game 11 | S50: Game 12
E51: =IF(D40>0,D40,"") -> Aidan Vanmetre
E52: =IF(D41>0,D41,"") -> Brett Gamber
E53: =IF(D42>0,D42,"") -> Josh King
...

Sheet 5 tm 12 bkr MJV
A1: Team | B1: 1 | C1: ='5 tm 12 bkr Data'!$A$2 -> Jayhawk Collegiate Challenge
F5: =INDEX('5 tm 12 bkr Data'!E:E,MATCH('5 tm 12 bkr MJV'!B1,'5 tm 12 bkr Data'!D:D,0)) -> Avila University - Men JV
D8: Bowler Name | I8: Game 1 | K8: Game 2 | M8: Game 3 | O8: Game 4 | Q8: Game 5 | S8: Total
A9: =CONCATENATE(B1,B9) -> 1a | B9: a | D9: =INDEX('5 tm 12 bkr Data'!P:P,MATCH('5 tm 12 bkr MJV'!A9,'5 tm 12 bkr Data'!N:N,0)) -> Brady Darr
A10: =CONCATENATE(B1,B10) -> 1b | B10: b | D10: =INDEX('5 tm 12 bkr Data'!P:P,MATCH('5 tm 12 bkr MJV'!A10,'5 tm 12 bkr Data'!N:N,0)) -> Calvin Mcmiller
A11: =CONCATENATE(B1,B11) -> 1c | B11: c | D11: =INDEX('5 tm 12 bkr Data'!P:P,MATCH('5 tm 12 bkr MJV'!A11,'5 tm 12 bkr Data'!N:N,0)) -> Colton Cline
A12: =CONCATENATE(B1,B12) -> 1d | B12: d | D12: =INDEX('5 tm 12 bkr Data'!P:P,MATCH('5 tm 12 bkr MJV'!A12,'5 tm 12 bkr Data'!N:N,0)) -> Gage Warren
A13: =CONCATENATE(B1,B13) -> 1e | B13: e | D13: =INDEX('5 tm 12 bkr Data'!P:P,MATCH('5 tm 12 bkr MJV'!A13,'5 tm 12 bkr Data'!N:N,0)) -> Garrett Messenger
A14: =CONCATENATE(B1,B14) -> 1f | B14: f | D14: =INDEX('5 tm 12 bkr Data'!P:P,MATCH('5 tm 12 bkr MJV'!A14,'5 tm 12 bkr Data'!N:N,0)) -> Joshua Oldham
A15: =CONCATENATE(B1,B15) -> 1g | B15: g | D15: =INDEX('5 tm 12 bkr Data'!P:P,MATCH('5 tm 12 bkr MJV'!A15,'5 tm 12 bkr Data'!N:N,0)) -> Wesley Smith
A16: =CONCATENATE(B1,B16) -> 1h | B16: h | D16: =INDEX('5 tm 12 bkr Data'!P:P,MATCH('5 tm 12 bkr MJV'!A16,'5 tm 12 bkr Data'!N:N,0)) -> 0
H17: Total
E19: Bowler Name | H19: Game 1 | I19: Game 2 | J19: Game 3 | K19: Game 4 | L19: Game 5 | M19: Game 6 | N19: Game 7 | O19: Game 8 | P19: Game 9 | Q19: Game 10 | R19: Game 11 | S19: Game 12
E20: =IF(D9>0,D9,"") -> Brady Darr
E21: =IF(D10>0,D10,"") -> Calvin Mcmiller
E22: =IF(D11>0,D11,"") -> Colton Cline
E23: =IF(D12>0,D12,"") -> Gage Warren
E24: =IF(D13>0,D13,"") -> Garrett Messenger
E25: =IF(D14>0,D14,"") -> Joshua Oldham
E26: =IF(D15>0,D15,"") -> Wesley Smith
E27: =IF(D16>0,D16,"")
E28: Game Score
E29: Block Total
H30: Please text a picture of scores to Jared at 785-312-4677 after each team game and 4 baker games
A32: Team | B32: 2 | C32: ='5 tm 12 bkr Data'!$A$2 -> Jayhawk Collegiate Challenge
F36: =INDEX('5 tm 12 bkr Data'!E:E,MATCH('5 tm 12 bkr MJV'!B32,'5 tm 12 bkr Data'!D:D,0)) -> Baker University - Men JV
D39: Bowler Name | I39: Game 1 | K39: Game 2 | M39: Game 3 | O39: Game 4 | Q39: Game 5 | S39: Total
A40: =CONCATENATE(B32,B40) -> 2a | B40: a | D40: =INDEX('5 tm 12 bkr Data'!P:P,MATCH('5 tm 12 bkr MJV'!A40,'5 tm 12 bkr Data'!N:N,0)) -> Alex Wright
A41: =CONCATENATE(B32,B41) -> 2b | B41: b | D41: =INDEX('5 tm 12 bkr Data'!P:P,MATCH('5 tm 12 bkr MJV'!A41,'5 tm 12 bkr Data'!N:N,0)) -> Deken Penny
A42: =CONCATENATE(B32,B42) -> 2c | B42: c | D42: =INDEX('5 tm 12 bkr Data'!P:P,MATCH('5 tm 12 bkr MJV'!A42,'5 tm 12 bkr Data'!N:N,0)) -> Justin Brookens
A43: =CONCATENATE(B32,B43) -> 2d | B43: d | D43: =INDEX('5 tm 12 bkr Data'!P:P,MATCH('5 tm 12 bkr MJV'!A43,'5 tm 12 bkr Data'!N:N,0)) -> Landon Scott
A44: =CONCATENATE(B32,B44) -> 2e | B44: e | D44: =INDEX('5 tm 12 bkr Data'!P:P,MATCH('5 tm 12 bkr MJV'!A44,'5 tm 12 bkr Data'!N:N,0)) -> Tanner Lindquist
A45: =CONCATENATE(B32,B45) -> 2f | B45: f | D45: =INDEX('5 tm 12 bkr Data'!P:P,MATCH('5 tm 12 bkr MJV'!A45,'5 tm 12 bkr Data'!N:N,0)) -> Tanner Mcguire
A46: =CONCATENATE(B32,B46) -> 2g | B46: g | D46: =INDEX('5 tm 12 bkr Data'!P:P,MATCH('5 tm 12 bkr MJV'!A46,'5 tm 12 bkr Data'!N:N,0)) -> 0
A47: =CONCATENATE(B32,B47) -> 2h | B47: h | D47: =INDEX('5 tm 12 bkr Data'!P:P,MATCH('5 tm 12 bkr MJV'!A47,'5 tm 12 bkr Data'!N:N,0)) -> 0
H48: Total
E50: Bowler Name | H50: Game 1 | I50: Game 2 | J50: Game 3 | K50: Game 4 | L50: Game 5 | M50: Game 6 | N50: Game 7 | O50: Game 8 | P50: Game 9 | Q50: Game 10 | R50: Game 11 | S50: Game 12
E51: =IF(D40>0,D40,"") -> Alex Wright
E52: =IF(D41>0,D41,"") -> Deken Penny
E53: =IF(D42>0,D42,"") -> Justin Brookens
...

Sheet 5 tm 12 bkr WV
A1: Team | B1: 1 | C1: ='5 tm 12 bkr Data'!$A$2 -> Jayhawk Collegiate Challenge
F5: =INDEX('5 tm 12 bkr Data'!G:G,MATCH('5 tm 12 bkr WV'!B1,'5 tm 12 bkr Data'!F:F,0)) -> Avila University - Women Varsity
D8: Bowler Name | I8: Game 1 | K8: Game 2 | M8: Game 3 | O8: Game 4 | Q8: Game 5 | S8: Total
A9: =CONCATENATE(B1,B9) -> 1a | B9: a | D9: =INDEX('5 tm 12 bkr Data'!T:T,MATCH('5 tm 12 bkr WV'!A9,'5 tm 12 bkr Data'!R:R,0)) -> Brittany Mohling
A10: =CONCATENATE(B1,B10) -> 1b | B10: b | D10: =INDEX('5 tm 12 bkr Data'!T:T,MATCH('5 tm 12 bkr WV'!A10,'5 tm 12 bkr Data'!R:R,0)) -> Claire Busch
A11: =CONCATENATE(B1,B11) -> 1c | B11: c | D11: =INDEX('5 tm 12 bkr Data'!T:T,MATCH('5 tm 12 bkr WV'!A11,'5 tm 12 bkr Data'!R:R,0)) -> Emma Foland
A12: =CONCATENATE(B1,B12) -> 1d | B12: d | D12: =INDEX('5 tm 12 bkr Data'!T:T,MATCH('5 tm 12 bkr WV'!A12,'5 tm 12 bkr Data'!R:R,0)) -> Kamdyn Burman
A13: =CONCATENATE(B1,B13) -> 1e | B13: e | D13: =INDEX('5 tm 12 bkr Data'!T:T,MATCH('5 tm 12 bkr WV'!A13,'5 tm 12 bkr Data'!R:R,0)) -> Kirsten Zirjacks
A14: =CONCATENATE(B1,B14) -> 1f | B14: f | D14: =INDEX('5 tm 12 bkr Data'!T:T,MATCH('5 tm 12 bkr WV'!A14,'5 tm 12 bkr Data'!R:R,0)) -> Victoria Bestor
A15: =CONCATENATE(B1,B15) -> 1g | B15: g | D15: =INDEX('5 tm 12 bkr Data'!T:T,MATCH('5 tm 12 bkr WV'!A15,'5 tm 12 bkr Data'!R:R,0)) -> Victoria Leal
A16: =CONCATENATE(B1,B16) -> 1h | B16: h | D16: =INDEX('5 tm 12 bkr Data'!T:T,MATCH('5 tm 12 bkr WV'!A16,'5 tm 12 bkr Data'!R:R,0)) -> 0
H17: Total
E19: Bowler Name | H19: Game 1 | I19: Game 2 | J19: Game 3 | K19: Game 4 | L19: Game 5 | M19: Game 6 | N19: Game 7 | O19: Game 8 | P19: Game 9 | Q19: Game 10 | R19: Game 11 | S19: Game 12
E20: =IF(D9>0,D9,"") -> Brittany Mohling
E21: =IF(D10>0,D10,"") -> Claire Busch
E22: =IF(D11>0,D11,"") -> Emma Foland
E23: =IF(D12>0,D12,"") -> Kamdyn Burman
E24: =IF(D13>0,D13,"") -> Kirsten Zirjacks
E25: =IF(D14>0,D14,"") -> Victoria Bestor
E26: =IF(D15>0,D15,"") -> Victoria Leal
E27: =IF(D16>0,D16,"")
E28: Game Score
E29: Block Total
H30: Please text a picture of scores to Jared at 785-312-4677 after each team game and 4 baker games
A32: Team | B32: 2 | C32: ='5 tm 12 bkr Data'!$A$2 -> Jayhawk Collegiate Challenge
F36: =INDEX('5 tm 12 bkr Data'!G:G,MATCH('5 tm 12 bkr WV'!B32,'5 tm 12 bkr Data'!F:F,0)) -> Baker University - Women Varsity
D39: Bowler Name | I39: Game 1 | K39: Game 2 | M39: Game 3 | O39: Game 4 | Q39: Game 5 | S39: Total
A40: =CONCATENATE(B32,B40) -> 2a | B40: a | D40: =INDEX('5 tm 12 bkr Data'!T:T,MATCH('5 tm 12 bkr WV'!A40,'5 tm 12 bkr Data'!R:R,0)) -> Audrey Valdez
A41: =CONCATENATE(B32,B41) -> 2b | B41: b | D41: =INDEX('5 tm 12 bkr Data'!T:T,MATCH('5 tm 12 bkr WV'!A41,'5 tm 12 bkr Data'!R:R,0)) -> Aviana Ordonez
A42: =CONCATENATE(B32,B42) -> 2c | B42: c | D42: =INDEX('5 tm 12 bkr Data'!T:T,MATCH('5 tm 12 bkr WV'!A42,'5 tm 12 bkr Data'!R:R,0)) -> Darby Hauff
A43: =CONCATENATE(B32,B43) -> 2d | B43: d | D43: =INDEX('5 tm 12 bkr Data'!T:T,MATCH('5 tm 12 bkr WV'!A43,'5 tm 12 bkr Data'!R:R,0)) -> Dylan Holmes
A44: =CONCATENATE(B32,B44) -> 2e | B44: e | D44: =INDEX('5 tm 12 bkr Data'!T:T,MATCH('5 tm 12 bkr WV'!A44,'5 tm 12 bkr Data'!R:R,0)) -> Kaleigh Buckalew
A45: =CONCATENATE(B32,B45) -> 2f | B45: f | D45: =INDEX('5 tm 12 bkr Data'!T:T,MATCH('5 tm 12 bkr WV'!A45,'5 tm 12 bkr Data'!R:R,0)) -> Karli Gilliland
A46: =CONCATENATE(B32,B46) -> 2g | B46: g | D46: =INDEX('5 tm 12 bkr Data'!T:T,MATCH('5 tm 12 bkr WV'!A46,'5 tm 12 bkr Data'!R:R,0)) -> Kinsey Miller
A47: =CONCATENATE(B32,B47) -> 2h | B47: h | D47: =INDEX('5 tm 12 bkr Data'!T:T,MATCH('5 tm 12 bkr WV'!A47,'5 tm 12 bkr Data'!R:R,0)) -> 0
H48: Total
E50: Bowler Name | H50: Game 1 | I50: Game 2 | J50: Game 3 | K50: Game 4 | L50: Game 5 | M50: Game 6 | N50: Game 7 | O50: Game 8 | P50: Game 9 | Q50: Game 10 | R50: Game 11 | S50: Game 12
E51: =IF(D40>0,D40,"") -> Audrey Valdez
E52: =IF(D41>0,D41,"") -> Aviana Ordonez
E53: =IF(D42>0,D42,"") -> Darby Hauff
...

Sheet 5 tm 12 bkr WJV
A1: Team | B1: 1 | C1: ='5 tm 12 bkr Data'!$A$2 -> Jayhawk Collegiate Challenge
F5: =INDEX('5 tm 12 bkr Data'!I:I,MATCH('5 tm 12 bkr WJV'!B1,'5 tm 12 bkr Data'!H:H,0)) -> Kansas State University - Women JV
D8: Bowler Name | I8: Game 1 | K8: Game 2 | M8: Game 3 | O8: Game 4 | Q8: Game 5 | S8: Total
A9: =CONCATENATE(B1,B9) -> 1a | B9: a | D9: =INDEX('5 tm 12 bkr Data'!X:X,MATCH('5 tm 12 bkr WJV'!A9,'5 tm 12 bkr Data'!V:V,0)) -> 0
A10: =CONCATENATE(B1,B10) -> 1b | B10: b | D10: =INDEX('5 tm 12 bkr Data'!X:X,MATCH('5 tm 12 bkr WJV'!A10,'5 tm 12 bkr Data'!V:V,0)) -> 0
A11: =CONCATENATE(B1,B11) -> 1c | B11: c | D11: =INDEX('5 tm 12 bkr Data'!X:X,MATCH('5 tm 12 bkr WJV'!A11,'5 tm 12 bkr Data'!V:V,0)) -> 0
A12: =CONCATENATE(B1,B12) -> 1d | B12: d | D12: =INDEX('5 tm 12 bkr Data'!X:X,MATCH('5 tm 12 bkr WJV'!A12,'5 tm 12 bkr Data'!V:V,0)) -> 0
A13: =CONCATENATE(B1,B13) -> 1e | B13: e | D13: =INDEX('5 tm 12 bkr Data'!X:X,MATCH('5 tm 12 bkr WJV'!A13,'5 tm 12 bkr Data'!V:V,0)) -> 0
A14: =CONCATENATE(B1,B14) -> 1f | B14: f | D14: =INDEX('5 tm 12 bkr Data'!X:X,MATCH('5 tm 12 bkr WJV'!A14,'5 tm 12 bkr Data'!V:V,0)) -> 0
A15: =CONCATENATE(B1,B15) -> 1g | B15: g | D15: =INDEX('5 tm 12 bkr Data'!X:X,MATCH('5 tm 12 bkr WJV'!A15,'5 tm 12 bkr Data'!V:V,0)) -> 0
A16: =CONCATENATE(B1,B16) -> 1h | B16: h | D16: =INDEX('5 tm 12 bkr Data'!X:X,MATCH('5 tm 12 bkr WJV'!A16,'5 tm 12 bkr Data'!V:V,0)) -> 0
H17: Total
E19: Bowler Name | H19: Game 1 | I19: Game 2 | J19: Game 3 | K19: Game 4 | L19: Game 5 | M19: Game 6 | N19: Game 7 | O19: Game 8 | P19: Game 9 | Q19: Game 10 | R19: Game 11 | S19: Game 12
E20: =IF(D9>0,D9,"")
E21: =IF(D10>0,D10,"")
E22: =IF(D11>0,D11,"")
E23: =IF(D12>0,D12,"")
E24: =IF(D13>0,D13,"")
E25: =IF(D14>0,D14,"")
E26: =IF(D15>0,D15,"")
E27: =IF(D16>0,D16,"")
E28: Game Score
E29: Block Total
H30: Please text a picture of scores to Jared at 785-312-4677 after each team game and 4 baker games
A32: Team | B32: 2 | C32: ='5 tm 12 bkr Data'!$A$2 -> Jayhawk Collegiate Challenge
F36: =INDEX('5 tm 12 bkr Data'!I:I,MATCH('5 tm 12 bkr WJV'!B32,'5 tm 12 bkr Data'!H:H,0)) -> Morningside University - Women JV
D39: Bowler Name | I39: Game 1 | K39: Game 2 | M39: Game 3 | O39: Game 4 | Q39: Game 5 | S39: Total
A40: =CONCATENATE(B32,B40) -> 2a | B40: a | D40: =INDEX('5 tm 12 bkr Data'!X:X,MATCH('5 tm 12 bkr WJV'!A40,'5 tm 12 bkr Data'!V:V,0)) -> Elana Krutsinger
A41: =CONCATENATE(B32,B41) -> 2b | B41: b | D41: =INDEX('5 tm 12 bkr Data'!X:X,MATCH('5 tm 12 bkr WJV'!A41,'5 tm 12 bkr Data'!V:V,0)) -> Kiara(Riley) Howard
A42: =CONCATENATE(B32,B42) -> 2c | B42: c | D42: =INDEX('5 tm 12 bkr Data'!X:X,MATCH('5 tm 12 bkr WJV'!A42,'5 tm 12 bkr Data'!V:V,0)) -> Liberty Nordstrom
A43: =CONCATENATE(B32,B43) -> 2d | B43: d | D43: =INDEX('5 tm 12 bkr Data'!X:X,MATCH('5 tm 12 bkr WJV'!A43,'5 tm 12 bkr Data'!V:V,0)) -> Samantha Sonier
A44: =CONCATENATE(B32,B44) -> 2e | B44: e | D44: =INDEX('5 tm 12 bkr Data'!X:X,MATCH('5 tm 12 bkr WJV'!A44,'5 tm 12 bkr Data'!V:V,0)) -> Zara Bitsos
A45: =CONCATENATE(B32,B45) -> 2f | B45: f | D45: =INDEX('5 tm 12 bkr Data'!X:X,MATCH('5 tm 12 bkr WJV'!A45,'5 tm 12 bkr Data'!V:V,0)) -> 0
A46: =CONCATENATE(B32,B46) -> 2g | B46: g | D46: =INDEX('5 tm 12 bkr Data'!X:X,MATCH('5 tm 12 bkr WJV'!A46,'5 tm 12 bkr Data'!V:V,0)) -> 0
A47: =CONCATENATE(B32,B47) -> 2h | B47: h | D47: =INDEX('5 tm 12 bkr Data'!X:X,MATCH('5 tm 12 bkr WJV'!A47,'5 tm 12 bkr Data'!V:V,0)) -> 0
H48: Total
E50: Bowler Name | H50: Game 1 | I50: Game 2 | J50: Game 3 | K50: Game 4 | L50: Game 5 | M50: Game 6 | N50: Game 7 | O50: Game 8 | P50: Game 9 | Q50: Game 10 | R50: Game 11 | S50: Game 12
E51: =IF(D40>0,D40,"") -> Elana Krutsinger
E52: =IF(D41>0,D41,"") -> Kiara(Riley) Howard
E53: =IF(D42>0,D42,"") -> Liberty Nordstrom
...

Sheet 5 tm Data
A1: Tournament Name | B1: Team # | C1: Mens Varsity Teams | D1: Team # | E1: Mens JV Teams | F1: Team # | G1: Womens Varsity Teams | H1: Team # | I1: Womens JV Teams | L1: Mens Varsity Roster | P1: Mens JV Roster | T1: Womens Varsity Roster | X1: Womens JV Roster
A2: NAIA West - I | B2: 1 | C2: Avila University - Men/mixed - Varsity | D2: 1 | E2: Avila University - Men/mixed - JV1 | F2: 1 | G2: Avila University - Women - Varsity | H2: 1 | I2: Ottawa University - Women - JV1 | J2: 1a | K2: 1 | L2: Aidan Tesdall | N2: 1a | O2: 1 | P2: Caleb Wangler | R2: 1a | S2: 1 | T2: Devyn Coleman | V2: 1a | W2: 1 | X2: Allison Olivia
B3: 2 | C3: Baker University - Men/mixed - Varsity | D3: 2 | E3: Baker University - Men/mixed - JV1 | F3: 2 | G3: Baker University - Women - Varsity | H3: 2 | I3: William Penn University - Women - JV1 | J3: 1b | K3: 1 | L3: Brody Stanback | N3: 1b | O3: 1 | P3: Coel Shepherd | R3: 1b | S3: 1 | T3: Kamdyn Burman | V3: 1b | W3: 1 | X3: Amiya Laskey
B4: 3 | C4: Barton Community College - Men/mixed - Varsity | D4: 3 | E4: Kansas Wesleyan - Men/mixed - JV1 | F4: 3 | G4: Barton Community College - Women - Varsity | H4: 3 | I4: 4 | J4: 1c | K4: 1 | L4: Davis Best | N4: 1c | O4: 1 | P4: Jacob Thompson | R4: 1c | S4: 1 | T4: Kiara Gonzalez | V4: 1c | W4: 1 | X4: Emaree Nester
B5: 4 | C5: Culver-Stockton College - Men/mixed - Varsity | D5: 4 | E5: Midland University - Men/mixed - JV1 | F5: 4 | G5: Culver-Stockton College - Women - Varsity | H5: 4 | I5: 5 | J5: 1d | K5: 1 | L5: Evan Serrage | N5: 1d | O5: 1 | P5: Josh Oldham | R5: 1d | S5: 1 | T5: Kirsten Zirjacks | V5: 1d | W5: 1 | X5: Isabel Wong
B6: 5 | C6: Drury University - Men/mixed - Varsity | D6: 5 | E6: Missouri Valley College - Men/mixed - JV1 | F6: 5 | G6: Grand View University - Women - Varsity | H6: 5 | I6: 6 | J6: 1e | K6: 1 | L6: Garrett Messenger | N6: 1e | O6: 1 | P6: Nic Garza | R6: 1e | S6: 1 | T6: Rebeka Fielder | V6: 1e | W6: 1 | X6: Ryann Clark
B7: 6 | C7: Grand View Uniiversity - Men/mixed - Varsity | D7: 6 | E7: Ottawa University - Men/mixed - JV1 | F7: 6 | G7: Hastings College - Women - Varsity | H7: 6 | I7: 7 | J7: 1f | K7: 1 | L7: Max Sturgeon | N7: 1f | O7: 1 | P7: 0 | R7: 1f | S7: 1 | T7: Victoria Bestor | V7: 1f | W7: 1 | X7: Taylor Lenz
B8: 7 | C8: Hastings college - Men/mixed - Varsity | D8: 7 | E8: University of Kansas - Men/mixed - JV1 | F8: 7 | G8: Kansas Wesleyan - Women - Varsity | H8: 7 | I8: 8 | J8: 1g | K8: 1 | L8: Ta'Shawn Clark | N8: 1g | O8: 1 | P8: 0 | R8: 1g | S8: 1 | T8: Victoria Leal | V8: 1g | W8: 1 | X8: 0
B9: 8 | C9: Kansas Wesleyan - Men/mixed - Varsity | D9: 8 | E9: William Penn University - Men/mixed - JV1 | F9: 8 | G9: McPherson College - Women - Varsity | H9: 8 | I9: 9 | J9: 1h | K9: 1 | L9: 0 | N9: 1h | O9: 1 | P9: 0 | R9: 1h | S9: 1 | T9: Zoe Fox | V9: 1h | W9: 1 | X9: 0
B10: 9 | C10: Midland University - Men/mixed - Varsity | D10: 9 | E10: William Penn University - Men/mixed - JV2 | F10: 9 | G10: Midland University - Women - Varsity | H10: 9 | I10: 10 | J10: 2a | K10: 2 | L10: Aidan Van Metre | N10: 2a | O10: 2 | P10: Alex Spencer | R10: 2a | S10: 2 | T10: Audrey Valdez | V10: 2a | W10: 2 | X10: Emma Chenoweth
B11: 10 | C11: Missouri Valley College - Men/mixed - Varsity | D11: 10 | E11: 11 | F11: 10 | G11: Morningside University - Women - Varsity | H11: 10 | I11: 11 | J11: 2b | K11: 2 | L11: Brett Gamber | N11: 2b | O11: 2 | P11: Cole Walker | R11: 2b | S11: 2 | T11: Darby Hauff | V11: 2b | W11: 2 | X11: HannaLee Songer
B12: 11 | C12: Morningside University - Men/mixed - Varsity | D12: 11 | E12: 12 | F12: 11 | G12: Ottawa University - Women - Varsity | H12: 11 | I12: 12 | J12: 2c | K12: 2 | L12: Ethan Diehl | N12: 2c | O12: 2 | P12: Deken Penny | R12: 2c | S12: 2 | T12: Dylan Holmes | V12: 2c | W12: 2 | X12: Macyn Huston
B13: 12 | C13: Ottawa University - Men/mixed - Varsity | D13: 12 | E13: 13 | F13: 12 | G13: Peru State College - Women - Varsity | H13: 12 | I13: 13 | J13: 2d | K13: 2 | L13: Josh King | N13: 2d | O13: 2 | P13: Devyn Schaper | R13: 2d | S13: 2 | T13: Elizabeth Suchor | V13: 2d | W13: 2 | X13: Olivia Nolte
B14: 13 | C14: Peru State College - Men/mixed - Varsity | D14: 13 | E14: 14 | F14: 13 | G14: University of Kansas - Women - Varsity | H14: 13 | I14: 14 | J14: 2e | K14: 2 | L14: Ken Rowland | N14: 2e | O14: 2 | P14: Landon Scott | R14: 2e | S14: 2 | T14: Kaleigh Buckalew | V14: 2e | W14: 2 | X14: Saphyre McCombs-VanSteenwyk
B15: 14 | C15: University of Kansas - Men/mixed - Varsity | D15: 14 | E15: 15 | F15: 14 | G15: University of Saint Mary - Women - Varsity | H15: 14 | I15: 15 | J15: 2f | K15: 2 | L15: Nate Ebner | N15: 2f | O15: 2 | P15: Nate Ebner | R15: 2f | S15: 2 | T15: Majayla Boyd | V15: 2f | W15: 2 | X15: Victoria Potter
B16: 15 | C16: University of Saint Mary - Men/mixed - Varsity | D16: 15 | E16: 16 | F16: 15 | G16: William Penn University - Women - Varsity | H16: 15 | I16: 16 | J16: 2g | K16: 2 | L16: Paul Stigall | N16: 2g | O16: 2 | P16: TaRon Graham | R16: 2g | S16: 2 | T16: Skyler Holmes | V16: 2g | W16: 2 | X16: 0
B17: 16 | C17: William Penn University - Men/mixed - Varsity | D17: 16 | E17: 17 | F17: 16 | G17: 17 | H17: 16 | I17: 17 | J17: 2h | K17: 2 | L17: Peter (PJ) Dokolas | N17: 2h | O17: 2 | P17: Vincent Valdez | R17: 2h | S17: 2 | T17: 0 | V17: 2h | W17: 2 | X17: 0
B18: 17 | C18: 18 | D18: 17 | E18: 18 | F18: 17 | G18: 18 | H18: 17 | I18: 18 | J18: 3a | K18: 3 | L18: Alex Wheat | N18: 3a | O18: 3 | P18: Jesse Owens | R18: 3a | S18: 3 | T18: Alexis Wareman | V18: 3a | W18: 3
B19: 18 | C19: 19 | D19: 18 | E19: 19 | F19: 18 | G19: 19 | H19: 18 | I19: 19 | J19: 3b | K19: 3 | L19: Braydon Bastin | N19: 3b | O19: 3 | P19: Jordan Trammell | R19: 3b | S19: 3 | T19: Chailyn Scott | V19: 3b | W19: 3
B20: 19 | C20: 20 | D20: 19 | E20: 20 | F20: 19 | G20: 20 | H20: 19 | I20: 20 | J20: 3c | K20: 3 | L20: Campbell Peterson | N20: 3c | O20: 3 | P20: Kayden Molene | R20: 3c | S20: 3 | T20: Ellie Weeks | V20: 3c | W20: 3
B21: 20 | C21: 21 | D21: 20 | E21: 21 | F21: 20 | G21: 21 | H21: 20 | I21: 21 | J21: 3d | K21: 3 | L21: Carter Lambeth | N21: 3d | O21: 3 | P21: Kevin Eghabali | R21: 3d | S21: 3 | T21: Hope Huslig | V21: 3d | W21: 3
B22: 21 | C22: 22 | D22: 21 | E22: 22 | F22: 21 | G22: 22 | H22: 21 | I22: 22 | J22: 3e | K22: 3 | L22: Cole Brown | N22: 3e | O22: 3 | P22: William McNeil | R22: 3e | S22: 3 | T22: JaeLinn Thetford | V22: 3e | W22: 3
B23: 22 | C23: 23 | D23: 22 | E23: 23 | F23: 22 | G23: 23 | H23: 22 | I23: 23 | J23: 3f | K23: 3 | L23: Khalil Sanchez | N23: 3f | O23: 3 | P23: 0 | R23: 3f | S23: 3 | T23: Jordan McKenzie | V23: 3f | W23: 3
B24: 23 | C24: 24 | D24: 23 | E24: 24 | F24: 23 | G24: 24 | H24: 23 | I24: 24 | J24: 3g | K24: 3 | L24: Logan Lindsley | N24: 3g | O24: 3 | P24: 0 | R24: 3g | S24: 3 | T24: McKenzie Craig | V24: 3g | W24: 3
B25: 24 | C25: 25 | D25: 24 | E25: 25 | F25: 24 | G25: 25 | H25: 24 | I25: 25 | J25: 3h | K25: 3 | L25: Torrey Lindsay | N25: 3h | O25: 3 | P25: 0 | R25: 3h | S25: 3 | T25: Zoe Wimmer | V25: 3h | W25: 3
B26: 25 | C26: 26 | D26: 25 | E26: 26 | F26: 25 | G26: 26 | H26: 25 | I26: 26 | J26: 4a | K26: 4 | L26: Ashton Weilandich | N26: 4a | O26: 4 | P26: ADDISON JOHNSON | R26: 4a | S26: 4 | T26: Andi Woods | V26: 4a | W26: 4
B27: 26 | C27: 27 | D27: 26 | E27: 27 | F27: 26 | G27: 27 | H27: 26 | I27: 27 | J27: 4b | K27: 4 | L27: Gavin Moeller | N27: 4b | O27: 4 | P27: CAMRYN STEFANINI | R27: 4b | S27: 4 | T27: Angela Uhl | V27: 4b | W27: 4
B28: 27 | C28: 28 | D28: 27 | E28: 28 | F28: 27 | G28: 28 | H28: 27 | I28: 28 | J28: 4c | K28: 4 | L28: Jake Evitts | N28: 4c | O28: 4 | P28: CHRISTOPHER TALIVA’A | R28: 4c | S28: 4 | T28: Jasmine Saunders | V28: 4c | W28: 4
B29: 28 | C29: 29 | D29: 28 | E29: 29 | F29: 28 | G29: 29 | H29: 28 | I29: 29 | J29: 4d | K29: 4 | L29: Kody Birmes | N29: 4d | O29: 4 | P29: NATE HARTJE | R29: 4d | S29: 4 | T29: Jersey Lessenger | V29: 4d | W29: 4
B30: 29 | C30: 30 | D30: 29 | E30: 30 | F30: 29 | G30: 30 | H30: 29 | I30: 30 | J30: 4e | K30: 4 | L30: Levi Staley | N30: 4e | O30: 4 | P30: TRISTYN FORDE | R30: 4e | S30: 4 | T30: Katelin Valentine | V30: 4e | W30: 4
B31: 30 | C31: 31 | D31: 30 | E31: 31 | F31: 30 | G31: 31 | H31: 30 | I31: 31 | J31: 4f | K31: 4 | L31: Mason Will | N31: 4f | O31: 4 | P31: 0 | R31: 4f | S31: 4 | T31: Rachel Moore | V31: 4f | W31: 4
B32: 31 | C32: 32 | D32: 31 | E32: 32 | F32: 31 | G32: 32 | H32: 31 | I32: 32 | J32: 4g | K32: 4 | L32: 0 | N32: 4g | O32: 4 | P32: 0 | R32: 4g | S32: 4 | T32: Rilee Allen | V32: 4g | W32: 4
B33: 32 | C33: 33 | D33: 32 | E33: 33 | F33: 32 | G33: 33 | H33: 32 | I33: 33 | J33: 4h | K33: 4 | L33: 0 | N33: 4h | O33: 4 | P33: 0 | R33: 4h | S33: 4 | T33: 0 | V33: 4h | W33: 4
B34: 33 | C34: 34 | D34: 33 | E34: 34 | F34: 33 | G34: 34 | H34: 33 | I34: 34 | J34: 5a | K34: 5 | L34: Billy Tropepe | N34: 5a | O34: 5 | P34: Chris Allison | R34: 5a | S34: 5 | T34: Brianna Musgrave | V34: 5a | W34: 5
B35: 34 | C35: 35 | D35: 34 | E35: 35 | F35: 34 | G35: 35 | H35: 34 | I35: 35 | J35: 5b | K35: 5 | L35: Charlie Robinson | N35: 5b | O35: 5 | P35: Colton Herrin | R35: 5b | S35: 5 | T35: Chastyn Gering | V35: 5b | W35: 5
B36: 35 | C36: 36 | D36: 35 | E36: 36 | F36: 35 | G36: 36 | H36: 35 | I36: 36 | J36: 5c | K36: 5 | L36: Haden Barbee | N36: 5c | O36: 5 | P36: Kayla Cowell | R36: 5c | S36: 5 | T36: Isabel Tetmeyer | V36: 5c | W36: 5
B37: 36 | C37: 37 | D37: 36 | E37: 37 | F37: 36 | G37: 37 | H37: 36 | I37: 37 | J37: 5d | K37: 5 | L37: Jeremy Vanost | N37: 5d | O37: 5 | P37: Natilie Briggs | R37: 5d | S37: 5 | T37: Kennady Bigwood | V37: 5d | W37: 5
B38: 37 | C38: 38 | D38: 37 | E38: 38 | F38: 37 | G38: 38 | H38: 37 | I38: 38 | J38: 5e | K38: 5 | L38: Nicholas Patterson | N38: 5e | O38: 5 | P38: Sydney Ryder | R38: 5e | S38: 5 | T38: Kylie Arai | V38: 5e | W38: 5
B39: 38 | C39: 39 | D39: 38 | E39: 39 | F39: 38 | G39: 39 | H39: 38 | I39: 39 | J39: 5f | K39: 5 | L39: Parker Watson | N39: 5f | O39: 5 | P39: 0 | R39: 5f | S39: 5 | T39: Madison Pickett | V39: 5f | W39: 5
B40: 39 | C40: 40 | D40: 39 | E40: 40 | F40: 39 | G40: 40 | H40: 39 | I40: 40 | J40: 5g | K40: 5 | L40: Trayton Cherry | N40: 5g | O40: 5 | P40: 0 | R40: 5g | S40: 5 | T40: Michelle Stewart | V40: 5g | W40: 5
...

Sheet 5 tm MV
A1: Team | B1: 1 | C1: ='5 tm Data'!$A$2 -> NAIA West - I
G7: =INDEX('5 tm Data'!C:C,MATCH('5 tm MV'!B1,'5 tm Data'!B:B,0)) -> Avila University - Men/mixed - Varsity
C12: Bowler Name | F12: Game 1 | H12: Game 2 | J12: Game 3 | L12: Game 4 | N12: Game 5 | P12: Total
A13: =CONCATENATE(B1,B13) -> 1a | B13: a | C13: =INDEX('5 tm Data'!L:L,MATCH('5 tm MV'!A13,'5 tm Data'!J:J,0)) -> Aidan Tesdall
A14: =CONCATENATE(B1,B14) -> 1b | B14: b | C14: =INDEX('5 tm Data'!L:L,MATCH('5 tm MV'!A14,'5 tm Data'!J:J,0)) -> Brody Stanback
A15: =CONCATENATE(B1,B15) -> 1c | B15: c | C15: =INDEX('5 tm Data'!L:L,MATCH('5 tm MV'!A15,'5 tm Data'!J:J,0)) -> Davis Best
A16: =CONCATENATE(B1,B16) -> 1d | B16: d | C16: =INDEX('5 tm Data'!L:L,MATCH('5 tm MV'!A16,'5 tm Data'!J:J,0)) -> Evan Serrage
A17: =CONCATENATE(B1,B17) -> 1e | B17: e | C17: =INDEX('5 tm Data'!L:L,MATCH('5 tm MV'!A17,'5 tm Data'!J:J,0)) -> Garrett Messenger
A18: =CONCATENATE(B1,B18) -> 1f | B18: f | C18: =INDEX('5 tm Data'!L:L,MATCH('5 tm MV'!A18,'5 tm Data'!J:J,0)) -> Max Sturgeon
A19: =CONCATENATE(B1,B19) -> 1g | B19: g | C19: =INDEX('5 tm Data'!L:L,MATCH('5 tm MV'!A19,'5 tm Data'!J:J,0)) -> Ta'Shawn Clark
A20: =CONCATENATE(B1,B20) -> 1h | B20: h | C20: =INDEX('5 tm Data'!L:L,MATCH('5 tm MV'!A20,'5 tm Data'!J:J,0)) -> 0
C21: Total
C22: Opponent Series
C24: Win/Loss
A30: Team | B30: 2 | C30: ='5 tm Data'!$A$2 -> NAIA West - I
G36: =INDEX('5 tm Data'!C:C,MATCH('5 tm MV'!B30,'5 tm Data'!B:B,0)) -> Baker University - Men/mixed - Varsity
C41: Bowler Name | F41: Game 1 | H41: Game 2 | J41: Game 3 | L41: Game 4 | N41: Game 5 | P41: Total
A42: =CONCATENATE(B30,B42) -> 2a | B42: a | C42: =INDEX('5 tm Data'!L:L,MATCH('5 tm MV'!A42,'5 tm Data'!J:J,0)) -> Aidan Van Metre
A43: =CONCATENATE(B30,B43) -> 2b | B43: b | C43: =INDEX('5 tm Data'!L:L,MATCH('5 tm MV'!A43,'5 tm Data'!J:J,0)) -> Brett Gamber
A44: =CONCATENATE(B30,B44) -> 2c | B44: c | C44: =INDEX('5 tm Data'!L:L,MATCH('5 tm MV'!A44,'5 tm Data'!J:J,0)) -> Ethan Diehl
A45: =CONCATENATE(B30,B45) -> 2d | B45: d | C45: =INDEX('5 tm Data'!L:L,MATCH('5 tm MV'!A45,'5 tm Data'!J:J,0)) -> Josh King
A46: =CONCATENATE(B30,B46) -> 2e | B46: e | C46: =INDEX('5 tm Data'!L:L,MATCH('5 tm MV'!A46,'5 tm Data'!J:J,0)) -> Ken Rowland
A47: =CONCATENATE(B30,B47) -> 2f | B47: f | C47: =INDEX('5 tm Data'!L:L,MATCH('5 tm MV'!A47,'5 tm Data'!J:J,0)) -> Nate Ebner
A48: =CONCATENATE(B30,B48) -> 2g | B48: g | C48: =INDEX('5 tm Data'!L:L,MATCH('5 tm MV'!A48,'5 tm Data'!J:J,0)) -> Paul Stigall
A49: =CONCATENATE(B30,B49) -> 2h | B49: h | C49: =INDEX('5 tm Data'!L:L,MATCH('5 tm MV'!A49,'5 tm Data'!J:J,0)) -> Peter (PJ) Dokolas
C50: Total
C51: Opponent Series
C53: Win/Loss
A59: Team | B59: 3 | C59: ='5 tm Data'!$A$2 -> NAIA West - I
G65: =INDEX('5 tm Data'!C:C,MATCH('5 tm MV'!B59,'5 tm Data'!B:B,0)) -> Barton Community College - Men/mixed - Varsity
C70: Bowler Name | F70: Game 1 | H70: Game 2 | J70: Game 3 | L70: Game 4 | N70: Game 5 | P70: Total
A71: =CONCATENATE(B59,B71) -> 3a | B71: a | C71: =INDEX('5 tm Data'!L:L,MATCH('5 tm MV'!A71,'5 tm Data'!J:J,0)) -> Alex Wheat
A72: =CONCATENATE(B59,B72) -> 3b | B72: b | C72: =INDEX('5 tm Data'!L:L,MATCH('5 tm MV'!A72,'5 tm Data'!J:J,0)) -> Braydon Bastin
A73: =CONCATENATE(B59,B73) -> 3c | B73: c | C73: =INDEX('5 tm Data'!L:L,MATCH('5 tm MV'!A73,'5 tm Data'!J:J,0)) -> Campbell Peterson
A74: =CONCATENATE(B59,B74) -> 3d | B74: d | C74: =INDEX('5 tm Data'!L:L,MATCH('5 tm MV'!A74,'5 tm Data'!J:J,0)) -> Carter Lambeth
A75: =CONCATENATE(B59,B75) -> 3e | B75: e | C75: =INDEX('5 tm Data'!L:L,MATCH('5 tm MV'!A75,'5 tm Data'!J:J,0)) -> Cole Brown
A76: =CONCATENATE(B59,B76) -> 3f | B76: f | C76: =INDEX('5 tm Data'!L:L,MATCH('5 tm MV'!A76,'5 tm Data'!J:J,0)) -> Khalil Sanchez
A77: =CONCATENATE(B59,B77) -> 3g | B77: g | C77: =INDEX('5 tm Data'!L:L,MATCH('5 tm MV'!A77,'5 tm Data'!J:J,0)) -> Logan Lindsley
A78: =CONCATENATE(B59,B78) -> 3h | B78: h | C78: =INDEX('5 tm Data'!L:L,MATCH('5 tm MV'!A78,'5 tm Data'!J:J,0)) -> Torrey Lindsay
C79: Total
...

Sheet 5 tm MJV
A1: Team | B1: 1 | C1: ='5 tm Data'!$A$2 -> NAIA West - I
G7: =INDEX('5 tm Data'!E:E,MATCH('5 tm MJV'!B1,'5 tm Data'!D:D,0)) -> Avila University - Men/mixed - JV1
C12: Bowler Name | F12: Game 1 | H12: Game 2 | J12: Game 3 | L12: Game 4 | N12: Game 5 | P12: Total
A13: =CONCATENATE(B1,B13) -> 1a | B13: a | C13: =INDEX('5 tm Data'!P:P,MATCH('5 tm MJV'!A13,'5 tm Data'!N:N,0)) -> Caleb Wangler
A14: =CONCATENATE(B1,B14) -> 1b | B14: b | C14: =INDEX('5 tm Data'!P:P,MATCH('5 tm MJV'!A14,'5 tm Data'!N:N,0)) -> Coel Shepherd
A15: =CONCATENATE(B1,B15) -> 1c | B15: c | C15: =INDEX('5 tm Data'!P:P,MATCH('5 tm MJV'!A15,'5 tm Data'!N:N,0)) -> Jacob Thompson
A16: =CONCATENATE(B1,B16) -> 1d | B16: d | C16: =INDEX('5 tm Data'!P:P,MATCH('5 tm MJV'!A16,'5 tm Data'!N:N,0)) -> Josh Oldham
A17: =CONCATENATE(B1,B17) -> 1e | B17: e | C17: =INDEX('5 tm Data'!P:P,MATCH('5 tm MJV'!A17,'5 tm Data'!N:N,0)) -> Nic Garza
A18: =CONCATENATE(B1,B18) -> 1f | B18: f | C18: =INDEX('5 tm Data'!P:P,MATCH('5 tm MJV'!A18,'5 tm Data'!N:N,0)) -> 0
A19: =CONCATENATE(B1,B19) -> 1g | B19: g | C19: =INDEX('5 tm Data'!P:P,MATCH('5 tm MJV'!A19,'5 tm Data'!N:N,0)) -> 0
A20: =CONCATENATE(B1,B20) -> 1h | B20: h | C20: =INDEX('5 tm Data'!P:P,MATCH('5 tm MJV'!A20,'5 tm Data'!N:N,0)) -> 0
C21: Total
C22: Opponent Series
C24: Win/Loss
C26: Please text a picture of scores to Jared at 785-312-4677 after each team game and 4 baker games
A30: Team | B30: 2 | C30: ='5 tm Data'!$A$2 -> NAIA West - I
G36: =INDEX('5 tm Data'!E:E,MATCH('5 tm MJV'!B30,'5 tm Data'!D:D,0)) -> Baker University - Men/mixed - JV1
C41: Bowler Name | F41: Game 1 | H41: Game 2 | J41: Game 3 | L41: Game 4 | N41: Game 5 | P41: Total
A42: =CONCATENATE(B30,B42) -> 2a | B42: a | C42: =INDEX('5 tm Data'!P:P,MATCH('5 tm MJV'!A42,'5 tm Data'!N:N,0)) -> Alex Spencer | F42: 173
A43: =CONCATENATE(B30,B43) -> 2b | B43: b | C43: =INDEX('5 tm Data'!P:P,MATCH('5 tm MJV'!A43,'5 tm Data'!N:N,0)) -> Cole Walker | F43: 169
A44: =CONCATENATE(B30,B44) -> 2c | B44: c | C44: =INDEX('5 tm Data'!P:P,MATCH('5 tm MJV'!A44,'5 tm Data'!N:N,0)) -> Deken Penny
A45: =CONCATENATE(B30,B45) -> 2d | B45: d | C45: =INDEX('5 tm Data'!P:P,MATCH('5 tm MJV'!A45,'5 tm Data'!N:N,0)) -> Devyn Schaper
A46: =CONCATENATE(B30,B46) -> 2e | B46: e | C46: =INDEX('5 tm Data'!P:P,MATCH('5 tm MJV'!A46,'5 tm Data'!N:N,0)) -> Landon Scott | F46: 135
A47: =CONCATENATE(B30,B47) -> 2f | B47: f | C47: =INDEX('5 tm Data'!P:P,MATCH('5 tm MJV'!A47,'5 tm Data'!N:N,0)) -> Nate Ebner | F47: 166
A48: =CONCATENATE(B30,B48) -> 2g | B48: g | C48: =INDEX('5 tm Data'!P:P,MATCH('5 tm MJV'!A48,'5 tm Data'!N:N,0)) -> TaRon Graham
A49: =CONCATENATE(B30,B49) -> 2h | B49: h | C49: =INDEX('5 tm Data'!P:P,MATCH('5 tm MJV'!A49,'5 tm Data'!N:N,0)) -> Vincent Valdez | F49: 195
C50: Total | F50: 838
C51: Opponent Series | F51: 659
C53: Win/Loss | F53: win
C55: Please text a picture of scores to Jared at 785-312-4677 after each team game and 4 baker games
A59: Team | B59: 3 | C59: ='5 tm Data'!$A$2 -> NAIA West - I
G65: =INDEX('5 tm Data'!E:E,MATCH('5 tm MJV'!B59,'5 tm Data'!D:D,0)) -> Kansas Wesleyan - Men/mixed - JV1
C70: Bowler Name | F70: Game 1 | H70: Game 2 | J70: Game 3 | L70: Game 4 | N70: Game 5 | P70: Total
A71: =CONCATENATE(B59,B71) -> 3a | B71: a | C71: =INDEX('5 tm Data'!P:P,MATCH('5 tm MJV'!A71,'5 tm Data'!N:N,0)) -> Jesse Owens
A72: =CONCATENATE(B59,B72) -> 3b | B72: b | C72: =INDEX('5 tm Data'!P:P,MATCH('5 tm MJV'!A72,'5 tm Data'!N:N,0)) -> Jordan Trammell
A73: =CONCATENATE(B59,B73) -> 3c | B73: c | C73: =INDEX('5 tm Data'!P:P,MATCH('5 tm MJV'!A73,'5 tm Data'!N:N,0)) -> Kayden Molene
A74: =CONCATENATE(B59,B74) -> 3d | B74: d | C74: =INDEX('5 tm Data'!P:P,MATCH('5 tm MJV'!A74,'5 tm Data'!N:N,0)) -> Kevin Eghabali
A75: =CONCATENATE(B59,B75) -> 3e | B75: e | C75: =INDEX('5 tm Data'!P:P,MATCH('5 tm MJV'!A75,'5 tm Data'!N:N,0)) -> William McNeil
A76: =CONCATENATE(B59,B76) -> 3f | B76: f | C76: =INDEX('5 tm Data'!P:P,MATCH('5 tm MJV'!A76,'5 tm Data'!N:N,0)) -> 0
A77: =CONCATENATE(B59,B77) -> 3g | B77: g | C77: =INDEX('5 tm Data'!P:P,MATCH('5 tm MJV'!A77,'5 tm Data'!N:N,0)) -> 0
...

Sheet 5 tm WV
A1: Team | B1: 1 | C1: ='5 tm Data'!$A$2 -> NAIA West - I
G7: =INDEX('5 tm Data'!G:G,MATCH('5 tm WV'!B1,'5 tm Data'!F:F,0)) -> Avila University - Women - Varsity
C12: Bowler Name | F12: Game 1 | H12: Game 2 | J12: Game 3 | L12: Game 4 | N12: Game 5 | P12: Total
A13: =CONCATENATE(B1,B13) -> 1a | B13: a | C13: =INDEX('5 tm Data'!T:T,MATCH('5 tm WV'!A13,'5 tm Data'!R:R,0)) -> Devyn Coleman
A14: =CONCATENATE(B1,B14) -> 1b | B14: b | C14: =INDEX('5 tm Data'!T:T,MATCH('5 tm WV'!A14,'5 tm Data'!R:R,0)) -> Kamdyn Burman
A15: =CONCATENATE(B1,B15) -> 1c | B15: c | C15: =INDEX('5 tm Data'!T:T,MATCH('5 tm WV'!A15,'5 tm Data'!R:R,0)) -> Kiara Gonzalez
A16: =CONCATENATE(B1,B16) -> 1d | B16: d | C16: =INDEX('5 tm Data'!T:T,MATCH('5 tm WV'!A16,'5 tm Data'!R:R,0)) -> Kirsten Zirjacks
A17: =CONCATENATE(B1,B17) -> 1e | B17: e | C17: =INDEX('5 tm Data'!T:T,MATCH('5 tm WV'!A17,'5 tm Data'!R:R,0)) -> Rebeka Fielder
A18: =CONCATENATE(B1,B18) -> 1f | B18: f | C18: =INDEX('5 tm Data'!T:T,MATCH('5 tm WV'!A18,'5 tm Data'!R:R,0)) -> Victoria Bestor
A19: =CONCATENATE(B1,B19) -> 1g | B19: g | C19: =INDEX('5 tm Data'!T:T,MATCH('5 tm WV'!A19,'5 tm Data'!R:R,0)) -> Victoria Leal
A20: =CONCATENATE(B1,B20) -> 1h | B20: h | C20: =INDEX('5 tm Data'!T:T,MATCH('5 tm WV'!A20,'5 tm Data'!R:R,0)) -> Zoe Fox
C21: Total
C22: Opponent Series
C24: Win/Loss
C26: Please text a picture of scores to Jared at 785-312-4677 after each team game and 4 baker games
A30: Team | B30: 2 | C30: ='5 tm Data'!$A$2 -> NAIA West - I
G36: =INDEX('5 tm Data'!G:G,MATCH('5 tm WV'!B30,'5 tm Data'!F:F,0)) -> Baker University - Women - Varsity
C41: Bowler Name | F41: Game 1 | H41: Game 2 | J41: Game 3 | L41: Game 4 | N41: Game 5 | P41: Total
A42: =CONCATENATE(B30,B42) -> 2a | B42: a | C42: =INDEX('5 tm Data'!T:T,MATCH('5 tm WV'!A42,'5 tm Data'!R:R,0)) -> Audrey Valdez
A43: =CONCATENATE(B30,B43) -> 2b | B43: b | C43: =INDEX('5 tm Data'!T:T,MATCH('5 tm WV'!A43,'5 tm Data'!R:R,0)) -> Darby Hauff
A44: =CONCATENATE(B30,B44) -> 2c | B44: c | C44: =INDEX('5 tm Data'!T:T,MATCH('5 tm WV'!A44,'5 tm Data'!R:R,0)) -> Dylan Holmes
A45: =CONCATENATE(B30,B45) -> 2d | B45: d | C45: =INDEX('5 tm Data'!T:T,MATCH('5 tm WV'!A45,'5 tm Data'!R:R,0)) -> Elizabeth Suchor
A46: =CONCATENATE(B30,B46) -> 2e | B46: e | C46: =INDEX('5 tm Data'!T:T,MATCH('5 tm WV'!A46,'5 tm Data'!R:R,0)) -> Kaleigh Buckalew
A47: =CONCATENATE(B30,B47) -> 2f | B47: f | C47: =INDEX('5 tm Data'!T:T,MATCH('5 tm WV'!A47,'5 tm Data'!R:R,0)) -> Majayla Boyd
A48: =CONCATENATE(B30,B48) -> 2g | B48: g | C48: =INDEX('5 tm Data'!T:T,MATCH('5 tm WV'!A48,'5 tm Data'!R:R,0)) -> Skyler Holmes
A49: =CONCATENATE(B30,B49) -> 2h | B49: h | C49: =INDEX('5 tm Data'!T:T,MATCH('5 tm WV'!A49,'5 tm Data'!R:R,0)) -> 0
C50: Total
C51: Opponent Series
C53: Win/Loss
A59: Team | B59: 3 | C59: ='5 tm Data'!$A$2 -> NAIA West - I
G65: =INDEX('5 tm Data'!G:G,MATCH('5 tm WV'!B59,'5 tm Data'!F:F,0)) -> Barton Community College - Women - Varsity
C70: Bowler Name | F70: Game 1 | H70: Game 2 | J70: Game 3 | L70: Game 4 | N70: Game 5 | P70: Total
A71: =CONCATENATE(B59,B71) -> 3a | B71: a | C71: =INDEX('5 tm Data'!T:T,MATCH('5 tm WV'!A71,'5 tm Data'!R:R,0)) -> Alexis Wareman
A72: =CONCATENATE(B59,B72) -> 3b | B72: b | C72: =INDEX('5 tm Data'!T:T,MATCH('5 tm WV'!A72,'5 tm Data'!R:R,0)) -> Chailyn Scott
A73: =CONCATENATE(B59,B73) -> 3c | B73: c | C73: =INDEX('5 tm Data'!T:T,MATCH('5 tm WV'!A73,'5 tm Data'!R:R,0)) -> Ellie Weeks
A74: =CONCATENATE(B59,B74) -> 3d | B74: d | C74: =INDEX('5 tm Data'!T:T,MATCH('5 tm WV'!A74,'5 tm Data'!R:R,0)) -> Hope Huslig
A75: =CONCATENATE(B59,B75) -> 3e | B75: e | C75: =INDEX('5 tm Data'!T:T,MATCH('5 tm WV'!A75,'5 tm Data'!R:R,0)) -> JaeLinn Thetford
A76: =CONCATENATE(B59,B76) -> 3f | B76: f | C76: =INDEX('5 tm Data'!T:T,MATCH('5 tm WV'!A76,'5 tm Data'!R:R,0)) -> Jordan McKenzie
A77: =CONCATENATE(B59,B77) -> 3g | B77: g | C77: =INDEX('5 tm Data'!T:T,MATCH('5 tm WV'!A77,'5 tm Data'!R:R,0)) -> McKenzie Craig
A78: =CONCATENATE(B59,B78) -> 3h | B78: h | C78: =INDEX('5 tm Data'!T:T,MATCH('5 tm WV'!A78,'5 tm Data'!R:R,0)) -> Zoe Wimmer
...

Sheet 5 tm WJV
A1: Team | B1: 1 | C1: ='5 tm Data'!$A$2 -> NAIA West - I
G7: =INDEX('5 tm Data'!I:I,MATCH('5 tm WJV'!B1,'5 tm Data'!H:H,0)) -> Ottawa University - Women - JV1
C12: Bowler Name | F12: Game 1 | H12: Game 2 | J12: Game 3 | L12: Game 4 | N12: Game 5 | P12: Total
A13: =CONCATENATE(B1,B13) -> 1a | B13: a | C13: =INDEX('5 tm Data'!X:X,MATCH('5 tm WJV'!A13,'5 tm Data'!V:V,0)) -> Allison Olivia
A14: =CONCATENATE(B1,B14) -> 1b | B14: b | C14: =INDEX('5 tm Data'!X:X,MATCH('5 tm WJV'!A14,'5 tm Data'!V:V,0)) -> Amiya Laskey
A15: =CONCATENATE(B1,B15) -> 1c | B15: c | C15: =INDEX('5 tm Data'!X:X,MATCH('5 tm WJV'!A15,'5 tm Data'!V:V,0)) -> Emaree Nester
A16: =CONCATENATE(B1,B16) -> 1d | B16: d | C16: =INDEX('5 tm Data'!X:X,MATCH('5 tm WJV'!A16,'5 tm Data'!V:V,0)) -> Isabel Wong
A17: =CONCATENATE(B1,B17) -> 1e | B17: e | C17: =INDEX('5 tm Data'!X:X,MATCH('5 tm WJV'!A17,'5 tm Data'!V:V,0)) -> Ryann Clark
A18: =CONCATENATE(B1,B18) -> 1f | B18: f | C18: =INDEX('5 tm Data'!X:X,MATCH('5 tm WJV'!A18,'5 tm Data'!V:V,0)) -> Taylor Lenz
A19: =CONCATENATE(B1,B19) -> 1g | B19: g | C19: =INDEX('5 tm Data'!X:X,MATCH('5 tm WJV'!A19,'5 tm Data'!V:V,0)) -> 0
A20: =CONCATENATE(B1,B20) -> 1h | B20: h | C20: =INDEX('5 tm Data'!X:X,MATCH('5 tm WJV'!A20,'5 tm Data'!V:V,0)) -> 0
C21: Total
C22: Opponent Series
C24: Win/Loss
A30: Team | B30: 2 | C30: ='5 tm Data'!$A$2 -> NAIA West - I
G36: =INDEX('5 tm Data'!I:I,MATCH('5 tm WJV'!B30,'5 tm Data'!H:H,0)) -> William Penn University - Women - JV1
C41: Bowler Name | F41: Game 1 | H41: Game 2 | J41: Game 3 | L41: Game 4 | N41: Game 5 | P41: Total
A42: =CONCATENATE(B30,B42) -> 2a | B42: a | C42: =INDEX('5 tm Data'!X:X,MATCH('5 tm WJV'!A42,'5 tm Data'!V:V,0)) -> Emma Chenoweth
A43: =CONCATENATE(B30,B43) -> 2b | B43: b | C43: =INDEX('5 tm Data'!X:X,MATCH('5 tm WJV'!A43,'5 tm Data'!V:V,0)) -> HannaLee Songer
A44: =CONCATENATE(B30,B44) -> 2c | B44: c | C44: =INDEX('5 tm Data'!X:X,MATCH('5 tm WJV'!A44,'5 tm Data'!V:V,0)) -> Macyn Huston
A45: =CONCATENATE(B30,B45) -> 2d | B45: d | C45: =INDEX('5 tm Data'!X:X,MATCH('5 tm WJV'!A45,'5 tm Data'!V:V,0)) -> Olivia Nolte
A46: =CONCATENATE(B30,B46) -> 2e | B46: e | C46: =INDEX('5 tm Data'!X:X,MATCH('5 tm WJV'!A46,'5 tm Data'!V:V,0)) -> Saphyre McCombs-VanSteenwyk
A47: =CONCATENATE(B30,B47) -> 2f | B47: f | C47: =INDEX('5 tm Data'!X:X,MATCH('5 tm WJV'!A47,'5 tm Data'!V:V,0)) -> Victoria Potter
A48: =CONCATENATE(B30,B48) -> 2g | B48: g | C48: =INDEX('5 tm Data'!X:X,MATCH('5 tm WJV'!A48,'5 tm Data'!V:V,0)) -> 0
A49: =CONCATENATE(B30,B49) -> 2h | B49: h | C49: =INDEX('5 tm Data'!X:X,MATCH('5 tm WJV'!A49,'5 tm Data'!V:V,0)) -> 0
C50: Total
C51: Opponent Series
C53: Win/Loss
A59: Team | B59: 3 | C59: ='5 tm Data'!$A$2 -> NAIA West - I
G65: =INDEX('5 tm Data'!I:I,MATCH('5 tm WJV'!B59,'5 tm Data'!H:H,0)) -> 4
C70: Bowler Name | F70: Game 1 | H70: Game 2 | J70: Game 3 | L70: Game 4 | N70: Game 5 | P70: Total
A71: =CONCATENATE(B59,B71) -> 3a | B71: a | C71: =INDEX('5 tm Data'!X:X,MATCH('5 tm WJV'!A71,'5 tm Data'!V:V,0)) -> 0
A72: =CONCATENATE(B59,B72) -> 3b | B72: b | C72: =INDEX('5 tm Data'!X:X,MATCH('5 tm WJV'!A72,'5 tm Data'!V:V,0)) -> 0
A73: =CONCATENATE(B59,B73) -> 3c | B73: c | C73: =INDEX('5 tm Data'!X:X,MATCH('5 tm WJV'!A73,'5 tm Data'!V:V,0)) -> 0
A74: =CONCATENATE(B59,B74) -> 3d | B74: d | C74: =INDEX('5 tm Data'!X:X,MATCH('5 tm WJV'!A74,'5 tm Data'!V:V,0)) -> 0
A75: =CONCATENATE(B59,B75) -> 3e | B75: e | C75: =INDEX('5 tm Data'!X:X,MATCH('5 tm WJV'!A75,'5 tm Data'!V:V,0)) -> 0
A76: =CONCATENATE(B59,B76) -> 3f | B76: f | C76: =INDEX('5 tm Data'!X:X,MATCH('5 tm WJV'!A76,'5 tm Data'!V:V,0)) -> 0
A77: =CONCATENATE(B59,B77) -> 3g | B77: g | C77: =INDEX('5 tm Data'!X:X,MATCH('5 tm WJV'!A77,'5 tm Data'!V:V,0)) -> 0
A78: =CONCATENATE(B59,B78) -> 3h | B78: h | C78: =INDEX('5 tm Data'!X:X,MATCH('5 tm WJV'!A78,'5 tm Data'!V:V,0)) -> 0
C79: Total
...

Sheet Sheet1
A1: Round Number | C1: Lane 31 | E1: Lane 32 | G1: Lane 33 | I1: Lane 34 | K1: Lane 35 | M1: Lane 36 | O1: Lane 37 | Q1: Lane 38 | S1: Lane 39 | U1: Lane 40
A2: Round 1 | B2: 31 | C2: =INDEX($AC:$AC,MATCH(B2,$AB:$AB,0)) -> William Penn University - Men/mixed - JV1 | D2: 32 | E2: =INDEX($AC:$AC,MATCH(D2,$AB:$AB,0)) -> William Penn University - Men/mixed - JV2 | F2: 33 | G2: =INDEX($AC:$AC,MATCH(F2,$AB:$AB,0)) -> University of Kansas - Men/mixed - JV1 | H2: 34 | I2: =INDEX($AC:$AC,MATCH(H2,$AB:$AB,0)) -> Midland University - Men/mixed - JV1 | J2: 35 | K2: =INDEX($AC:$AC,MATCH(J2,$AB:$AB,0)) -> Baker University - Men/mixed - JV1 | L2: 36 | M2: =INDEX($AC:$AC,MATCH(L2,$AB:$AB,0)) -> Kansas Wesleyan - Men/mixed - JV1 | N2: 37 | O2: =INDEX($AC:$AC,MATCH(N2,$AB:$AB,0)) -> Missouri Valley College - Men/mixed - JV1 | P2: 38 | Q2: =INDEX($AC:$AC,MATCH(P2,$AB:$AB,0)) -> Avila University - Men/mixed - JV1 | R2: 39 | S2: =INDEX($AC:$AC,MATCH(R2,$AB:$AB,0)) -> Ottawa University - Men/mixed - JV1 | T2: 40 | U2: =INDEX($AC:$AC,MATCH(T2,$AB:$AB,0)) -> Vacant | AB2: 38 | AC2: Avila University - Men/mixed - JV1
A3: Round 2 | B3: 35 | C3: =INDEX($AC:$AC,MATCH(B3,$AB:$AB,0)) -> Baker University - Men/mixed - JV1 | D3: 38 | E3: =INDEX($AC:$AC,MATCH(D3,$AB:$AB,0)) -> Avila University - Men/mixed - JV1 | F3: 33 | G3: =INDEX($AC:$AC,MATCH(F3,$AB:$AB,0)) -> University of Kansas - Men/mixed - JV1 | H3: 36 | I3: =INDEX($AC:$AC,MATCH(H3,$AB:$AB,0)) -> Kansas Wesleyan - Men/mixed - JV1 | J3: 31 | K3: =INDEX($AC:$AC,MATCH(J3,$AB:$AB,0)) -> William Penn University - Men/mixed - JV1 | L3: 34 | M3: =INDEX($AC:$AC,MATCH(L3,$AB:$AB,0)) -> Midland University - Men/mixed - JV1 | N3: 32 | O3: =INDEX($AC:$AC,MATCH(N3,$AB:$AB,0)) -> William Penn University - Men/mixed - JV2 | P3: 39 | Q3: =INDEX($AC:$AC,MATCH(P3,$AB:$AB,0)) -> Ottawa University - Men/mixed - JV1 | R3: 37 | S3: =INDEX($AC:$AC,MATCH(R3,$AB:$AB,0)) -> Missouri Valley College - Men/mixed - JV1 | T3: 40 | U3: =INDEX($AC:$AC,MATCH(T3,$AB:$AB,0)) -> Vacant | AB3: 35 | AC3: Baker University - Men/mixed - JV1
A4: Round 3 | B4: 33 | C4: =INDEX($AC:$AC,MATCH(B4,$AB:$AB,0)) -> University of Kansas - Men/mixed - JV1 | D4: 39 | E4: =INDEX($AC:$AC,MATCH(D4,$AB:$AB,0)) -> Ottawa University - Men/mixed - JV1 | F4: 35 | G4: =INDEX($AC:$AC,MATCH(F4,$AB:$AB,0)) -> Baker University - Men/mixed - JV1 | H4: 32 | I4: =INDEX($AC:$AC,MATCH(H4,$AB:$AB,0)) -> William Penn University - Men/mixed - JV2 | J4: 37 | K4: =INDEX($AC:$AC,MATCH(J4,$AB:$AB,0)) -> Missouri Valley College - Men/mixed - JV1 | L4: 34 | M4: =INDEX($AC:$AC,MATCH(L4,$AB:$AB,0)) -> Midland University - Men/mixed - JV1 | N4: 38 | O4: =INDEX($AC:$AC,MATCH(N4,$AB:$AB,0)) -> Avila University - Men/mixed - JV1 | P4: 36 | Q4: =INDEX($AC:$AC,MATCH(P4,$AB:$AB,0)) -> Kansas Wesleyan - Men/mixed - JV1 | R4: 31 | S4: =INDEX($AC:$AC,MATCH(R4,$AB:$AB,0)) -> William Penn University - Men/mixed - JV1 | T4: 40 | U4: =INDEX($AC:$AC,MATCH(T4,$AB:$AB,0)) -> Vacant | AB4: 36 | AC4: Kansas Wesleyan - Men/mixed - JV1
A5: Round 4 | B5: 37 | C5: =INDEX($AC:$AC,MATCH(B5,$AB:$AB,0)) -> Missouri Valley College - Men/mixed - JV1 | D5: 36 | E5: =INDEX($AC:$AC,MATCH(D5,$AB:$AB,0)) -> Kansas Wesleyan - Men/mixed - JV1 | F5: 35 | G5: =INDEX($AC:$AC,MATCH(F5,$AB:$AB,0)) -> Baker University - Men/mixed - JV1 | H5: 34 | I5: =INDEX($AC:$AC,MATCH(H5,$AB:$AB,0)) -> Midland University - Men/mixed - JV1 | J5: 33 | K5: =INDEX($AC:$AC,MATCH(J5,$AB:$AB,0)) -> University of Kansas - Men/mixed - JV1 | L5: 32 | M5: =INDEX($AC:$AC,MATCH(L5,$AB:$AB,0)) -> William Penn University - Men/mixed - JV2 | N5: 31 | O5: =INDEX($AC:$AC,MATCH(N5,$AB:$AB,0)) -> William Penn University - Men/mixed - JV1 | P5: 39 | Q5: =INDEX($AC:$AC,MATCH(P5,$AB:$AB,0)) -> Ottawa University - Men/mixed - JV1 | R5: 38 | S5: =INDEX($AC:$AC,MATCH(R5,$AB:$AB,0)) -> Avila University - Men/mixed - JV1 | T5: 40 | U5: =INDEX($AC:$AC,MATCH(T5,$AB:$AB,0)) -> Vacant | AB5: 34 | AC5: Midland University - Men/mixed - JV1
A6: Round 5 | B6: 31 | C6: =INDEX($AC:$AC,MATCH(B6,$AB:$AB,0)) -> William Penn University - Men/mixed - JV1 | D6: 35 | E6: =INDEX($AC:$AC,MATCH(D6,$AB:$AB,0)) -> Baker University - Men/mixed - JV1 | F6: 37 | G6: =INDEX($AC:$AC,MATCH(F6,$AB:$AB,0)) -> Missouri Valley College - Men/mixed - JV1 | H6: 39 | I6: =INDEX($AC:$AC,MATCH(H6,$AB:$AB,0)) -> Ottawa University - Men/mixed - JV1 | J6: 38 | K6: =INDEX($AC:$AC,MATCH(J6,$AB:$AB,0)) -> Avila University - Men/mixed - JV1 | L6: 32 | M6: =INDEX($AC:$AC,MATCH(L6,$AB:$AB,0)) -> William Penn University - Men/mixed - JV2 | N6: 36 | O6: =INDEX($AC:$AC,MATCH(N6,$AB:$AB,0)) -> Kansas Wesleyan - Men/mixed - JV1 | P6: 34 | Q6: =INDEX($AC:$AC,MATCH(P6,$AB:$AB,0)) -> Midland University - Men/mixed - JV1 | R6: 33 | S6: =INDEX($AC:$AC,MATCH(R6,$AB:$AB,0)) -> University of Kansas - Men/mixed - JV1 | T6: 40 | U6: =INDEX($AC:$AC,MATCH(T6,$AB:$AB,0)) -> Vacant | AB6: 37 | AC6: Missouri Valley College - Men/mixed - JV1
A7: Baker Round 1 | B7: 38 | C7: =INDEX($AC:$AC,MATCH(B7,$AB:$AB,0)) -> Avila University - Men/mixed - JV1 | D7: 34 | E7: =INDEX($AC:$AC,MATCH(D7,$AB:$AB,0)) -> Midland University - Men/mixed - JV1 | F7: 37 | G7: =INDEX($AC:$AC,MATCH(F7,$AB:$AB,0)) -> Missouri Valley College - Men/mixed - JV1 | H7: 32 | I7: =INDEX($AC:$AC,MATCH(H7,$AB:$AB,0)) -> William Penn University - Men/mixed - JV2 | J7: 35 | K7: =INDEX($AC:$AC,MATCH(J7,$AB:$AB,0)) -> Baker University - Men/mixed - JV1 | L7: 39 | M7: =INDEX($AC:$AC,MATCH(L7,$AB:$AB,0)) -> Ottawa University - Men/mixed - JV1 | N7: 31 | O7: =INDEX($AC:$AC,MATCH(N7,$AB:$AB,0)) -> William Penn University - Men/mixed - JV1 | P7: 33 | Q7: =INDEX($AC:$AC,MATCH(P7,$AB:$AB,0)) -> University of Kansas - Men/mixed - JV1 | R7: 36 | S7: =INDEX($AC:$AC,MATCH(R7,$AB:$AB,0)) -> Kansas Wesleyan - Men/mixed - JV1 | T7: 40 | U7: =INDEX($AC:$AC,MATCH(T7,$AB:$AB,0)) -> Vacant | AB7: 39 | AC7: Ottawa University - Men/mixed - JV1
A8: Baker Round 2 | B8: 33 | C8: =INDEX($AC:$AC,MATCH(B8,$AB:$AB,0)) -> University of Kansas - Men/mixed - JV1 | D8: 37 | E8: =INDEX($AC:$AC,MATCH(D8,$AB:$AB,0)) -> Missouri Valley College - Men/mixed - JV1 | F8: 31 | G8: =INDEX($AC:$AC,MATCH(F8,$AB:$AB,0)) -> William Penn University - Men/mixed - JV1 | H8: 38 | I8: =INDEX($AC:$AC,MATCH(H8,$AB:$AB,0)) -> Avila University - Men/mixed - JV1 | J8: 36 | K8: =INDEX($AC:$AC,MATCH(J8,$AB:$AB,0)) -> Kansas Wesleyan - Men/mixed - JV1 | L8: 39 | M8: =INDEX($AC:$AC,MATCH(L8,$AB:$AB,0)) -> Ottawa University - Men/mixed - JV1 | N8: 34 | O8: =INDEX($AC:$AC,MATCH(N8,$AB:$AB,0)) -> Midland University - Men/mixed - JV1 | P8: 32 | Q8: =INDEX($AC:$AC,MATCH(P8,$AB:$AB,0)) -> William Penn University - Men/mixed - JV2 | R8: 35 | S8: =INDEX($AC:$AC,MATCH(R8,$AB:$AB,0)) -> Baker University - Men/mixed - JV1 | T8: 40 | U8: =INDEX($AC:$AC,MATCH(T8,$AB:$AB,0)) -> Vacant | AB8: 33 | AC8: University of Kansas - Men/mixed - JV1
A9: Baker Round 3 | B9: 36 | C9: =INDEX($AC:$AC,MATCH(B9,$AB:$AB,0)) -> Kansas Wesleyan - Men/mixed - JV1 | D9: 32 | E9: =INDEX($AC:$AC,MATCH(D9,$AB:$AB,0)) -> William Penn University - Men/mixed - JV2 | F9: 38 | G9: =INDEX($AC:$AC,MATCH(F9,$AB:$AB,0)) -> Avila University - Men/mixed - JV1 | H9: 39 | I9: =INDEX($AC:$AC,MATCH(H9,$AB:$AB,0)) -> Ottawa University - Men/mixed - JV1 | J9: 31 | K9: =INDEX($AC:$AC,MATCH(J9,$AB:$AB,0)) -> William Penn University - Men/mixed - JV1 | L9: 37 | M9: =INDEX($AC:$AC,MATCH(L9,$AB:$AB,0)) -> Missouri Valley College - Men/mixed - JV1 | N9: 33 | O9: =INDEX($AC:$AC,MATCH(N9,$AB:$AB,0)) -> University of Kansas - Men/mixed - JV1 | P9: 35 | Q9: =INDEX($AC:$AC,MATCH(P9,$AB:$AB,0)) -> Baker University - Men/mixed - JV1 | R9: 34 | S9: =INDEX($AC:$AC,MATCH(R9,$AB:$AB,0)) -> Midland University - Men/mixed - JV1 | T9: 40 | U9: =INDEX($AC:$AC,MATCH(T9,$AB:$AB,0)) -> Vacant | AB9: 31 | AC9: William Penn University - Men/mixed - JV1
